Workbook

Sheet Settings
A1: Time sheet
A3: Name | B3: Max Sample
A4: Year | B4: 2026
A5: Target hours per working day | B5: 8.4
A6: Working days per week (5 = Mon–Fri) | B6: 5
A7: Hourly rate CHF (for projects) | B7: 110
A9: Year and target hours apply to all month sheets. 8.4 hours equal a 42-hour week. For part-time work, adjust the target hours per day.

Sheet Year
A1: Year overview
A3: Month | B3: Hours worked | C3: Target (h) | D3: Balance (h) | E3: Cumulative balance (h)
A4: Jan | B4: ='Jan'!G37 | C4: ='Jan'!H37 | D4: ='Jan'!I37 | E4: =SUM($D$4:D4)
A5: Feb | B5: ='Feb'!G37 | C5: ='Feb'!H37 | D5: ='Feb'!I37 | E5: =SUM($D$4:D5)
A6: Mar | B6: ='Mar'!G37 | C6: ='Mar'!H37 | D6: ='Mar'!I37 | E6: =SUM($D$4:D6)
A7: Apr | B7: ='Apr'!G37 | C7: ='Apr'!H37 | D7: ='Apr'!I37 | E7: =SUM($D$4:D7)
A8: May | B8: ='May'!G37 | C8: ='May'!H37 | D8: ='May'!I37 | E8: =SUM($D$4:D8)
A9: Jun | B9: ='Jun'!G37 | C9: ='Jun'!H37 | D9: ='Jun'!I37 | E9: =SUM($D$4:D9)
A10: Jul | B10: ='Jul'!G37 | C10: ='Jul'!H37 | D10: ='Jul'!I37 | E10: =SUM($D$4:D10)
A11: Aug | B11: ='Aug'!G37 | C11: ='Aug'!H37 | D11: ='Aug'!I37 | E11: =SUM($D$4:D11)
A12: Sep | B12: ='Sep'!G37 | C12: ='Sep'!H37 | D12: ='Sep'!I37 | E12: =SUM($D$4:D12)
A13: Oct | B13: ='Oct'!G37 | C13: ='Oct'!H37 | D13: ='Oct'!I37 | E13: =SUM($D$4:D13)
A14: Nov | B14: ='Nov'!G37 | C14: ='Nov'!H37 | D14: ='Nov'!I37 | E14: =SUM($D$4:D14)
A15: Dec | B15: ='Dec'!G37 | C15: ='Dec'!H37 | D15: ='Dec'!I37 | E15: =SUM($D$4:D15)
A16: Total | B16: =SUM(B4:B15) | C16: =SUM(C4:C15) | D16: =SUM(D4:D15)

Sheet Projects
A1: Hours per project
A2: Write project names exactly as on the month sheets. Hours add up across the whole year.
A4: Project / client | B4: Hours | C4: Rate CHF | D4: Amount CHF
A5: Keller Electrical Ltd | B5: =IF(A5="","",SUMIFS('Jan'!$G$5:$G$35,'Jan'!$J$5:$J$35,A5)+SUMIFS('Feb'!$G$5:$G$35,'Feb'!$J$5:$J$35,A5)+SUMIFS('Mar'!$G$5:$G$35,'Mar'!$J$5:$J$35,A5)+SUMIFS('Apr'!$G$5:$G$35,'Apr'!$J$5:$J$35,A5)+SUMIFS('May'!$G$5:$G$35,'May'!$J$5:$J$35,A5)+SUMIFS('Jun'!$G$5:$G$35,'Jun'!$J$5:$J$35,A5)+SUMIFS('Jul'!$G$5:$G$35,'Jul'!$J$5:$J$35,A5)+SUMIFS('Aug'!$G$5:$G$35,'Aug'!$J$5:$J$35,A5)+SUMIFS('Sep'!$G$5:$G$35,'Sep'!$J$5:$J$35,A5)+SUMIFS('Oct'!$G$5:$G$35,'Oct'!$J$5:$J$35,A5)+SUMIFS('Nov'!$G$5:$G$35,'Nov'!$J$5:$J$35,A5)+SUMIFS('Dec'!$G$5:$G$35,'Dec'!$J$5:$J$35,A5)) | C5: ='Settings'!$B$7 | D5: =IF(OR(B5="",N(C5)=0),"",ROUND(B5*C5,2))
A6: Internal | B6: =IF(A6="","",SUMIFS('Jan'!$G$5:$G$35,'Jan'!$J$5:$J$35,A6)+SUMIFS('Feb'!$G$5:$G$35,'Feb'!$J$5:$J$35,A6)+SUMIFS('Mar'!$G$5:$G$35,'Mar'!$J$5:$J$35,A6)+SUMIFS('Apr'!$G$5:$G$35,'Apr'!$J$5:$J$35,A6)+SUMIFS('May'!$G$5:$G$35,'May'!$J$5:$J$35,A6)+SUMIFS('Jun'!$G$5:$G$35,'Jun'!$J$5:$J$35,A6)+SUMIFS('Jul'!$G$5:$G$35,'Jul'!$J$5:$J$35,A6)+SUMIFS('Aug'!$G$5:$G$35,'Aug'!$J$5:$J$35,A6)+SUMIFS('Sep'!$G$5:$G$35,'Sep'!$J$5:$J$35,A6)+SUMIFS('Oct'!$G$5:$G$35,'Oct'!$J$5:$J$35,A6)+SUMIFS('Nov'!$G$5:$G$35,'Nov'!$J$5:$J$35,A6)+SUMIFS('Dec'!$G$5:$G$35,'Dec'!$J$5:$J$35,A6)) | C6: ='Settings'!$B$7 | D6: =IF(OR(B6="",N(C6)=0),"",ROUND(B6*C6,2))
B7: =IF(A7="","",SUMIFS('Jan'!$G$5:$G$35,'Jan'!$J$5:$J$35,A7)+SUMIFS('Feb'!$G$5:$G$35,'Feb'!$J$5:$J$35,A7)+SUMIFS('Mar'!$G$5:$G$35,'Mar'!$J$5:$J$35,A7)+SUMIFS('Apr'!$G$5:$G$35,'Apr'!$J$5:$J$35,A7)+SUMIFS('May'!$G$5:$G$35,'May'!$J$5:$J$35,A7)+SUMIFS('Jun'!$G$5:$G$35,'Jun'!$J$5:$J$35,A7)+SUMIFS('Jul'!$G$5:$G$35,'Jul'!$J$5:$J$35,A7)+SUMIFS('Aug'!$G$5:$G$35,'Aug'!$J$5:$J$35,A7)+SUMIFS('Sep'!$G$5:$G$35,'Sep'!$J$5:$J$35,A7)+SUMIFS('Oct'!$G$5:$G$35,'Oct'!$J$5:$J$35,A7)+SUMIFS('Nov'!$G$5:$G$35,'Nov'!$J$5:$J$35,A7)+SUMIFS('Dec'!$G$5:$G$35,'Dec'!$J$5:$J$35,A7)) | D7: =IF(OR(B7="",N(C7)=0),"",ROUND(B7*C7,2))
B8: =IF(A8="","",SUMIFS('Jan'!$G$5:$G$35,'Jan'!$J$5:$J$35,A8)+SUMIFS('Feb'!$G$5:$G$35,'Feb'!$J$5:$J$35,A8)+SUMIFS('Mar'!$G$5:$G$35,'Mar'!$J$5:$J$35,A8)+SUMIFS('Apr'!$G$5:$G$35,'Apr'!$J$5:$J$35,A8)+SUMIFS('May'!$G$5:$G$35,'May'!$J$5:$J$35,A8)+SUMIFS('Jun'!$G$5:$G$35,'Jun'!$J$5:$J$35,A8)+SUMIFS('Jul'!$G$5:$G$35,'Jul'!$J$5:$J$35,A8)+SUMIFS('Aug'!$G$5:$G$35,'Aug'!$J$5:$J$35,A8)+SUMIFS('Sep'!$G$5:$G$35,'Sep'!$J$5:$J$35,A8)+SUMIFS('Oct'!$G$5:$G$35,'Oct'!$J$5:$J$35,A8)+SUMIFS('Nov'!$G$5:$G$35,'Nov'!$J$5:$J$35,A8)+SUMIFS('Dec'!$G$5:$G$35,'Dec'!$J$5:$J$35,A8)) | D8: =IF(OR(B8="",N(C8)=0),"",ROUND(B8*C8,2))
B9: =IF(A9="","",SUMIFS('Jan'!$G$5:$G$35,'Jan'!$J$5:$J$35,A9)+SUMIFS('Feb'!$G$5:$G$35,'Feb'!$J$5:$J$35,A9)+SUMIFS('Mar'!$G$5:$G$35,'Mar'!$J$5:$J$35,A9)+SUMIFS('Apr'!$G$5:$G$35,'Apr'!$J$5:$J$35,A9)+SUMIFS('May'!$G$5:$G$35,'May'!$J$5:$J$35,A9)+SUMIFS('Jun'!$G$5:$G$35,'Jun'!$J$5:$J$35,A9)+SUMIFS('Jul'!$G$5:$G$35,'Jul'!$J$5:$J$35,A9)+SUMIFS('Aug'!$G$5:$G$35,'Aug'!$J$5:$J$35,A9)+SUMIFS('Sep'!$G$5:$G$35,'Sep'!$J$5:$J$35,A9)+SUMIFS('Oct'!$G$5:$G$35,'Oct'!$J$5:$J$35,A9)+SUMIFS('Nov'!$G$5:$G$35,'Nov'!$J$5:$J$35,A9)+SUMIFS('Dec'!$G$5:$G$35,'Dec'!$J$5:$J$35,A9)) | D9: =IF(OR(B9="",N(C9)=0),"",ROUND(B9*C9,2))
B10: =IF(A10="","",SUMIFS('Jan'!$G$5:$G$35,'Jan'!$J$5:$J$35,A10)+SUMIFS('Feb'!$G$5:$G$35,'Feb'!$J$5:$J$35,A10)+SUMIFS('Mar'!$G$5:$G$35,'Mar'!$J$5:$J$35,A10)+SUMIFS('Apr'!$G$5:$G$35,'Apr'!$J$5:$J$35,A10)+SUMIFS('May'!$G$5:$G$35,'May'!$J$5:$J$35,A10)+SUMIFS('Jun'!$G$5:$G$35,'Jun'!$J$5:$J$35,A10)+SUMIFS('Jul'!$G$5:$G$35,'Jul'!$J$5:$J$35,A10)+SUMIFS('Aug'!$G$5:$G$35,'Aug'!$J$5:$J$35,A10)+SUMIFS('Sep'!$G$5:$G$35,'Sep'!$J$5:$J$35,A10)+SUMIFS('Oct'!$G$5:$G$35,'Oct'!$J$5:$J$35,A10)+SUMIFS('Nov'!$G$5:$G$35,'Nov'!$J$5:$J$35,A10)+SUMIFS('Dec'!$G$5:$G$35,'Dec'!$J$5:$J$35,A10)) | D10: =IF(OR(B10="",N(C10)=0),"",ROUND(B10*C10,2))
B11: =IF(A11="","",SUMIFS('Jan'!$G$5:$G$35,'Jan'!$J$5:$J$35,A11)+SUMIFS('Feb'!$G$5:$G$35,'Feb'!$J$5:$J$35,A11)+SUMIFS('Mar'!$G$5:$G$35,'Mar'!$J$5:$J$35,A11)+SUMIFS('Apr'!$G$5:$G$35,'Apr'!$J$5:$J$35,A11)+SUMIFS('May'!$G$5:$G$35,'May'!$J$5:$J$35,A11)+SUMIFS('Jun'!$G$5:$G$35,'Jun'!$J$5:$J$35,A11)+SUMIFS('Jul'!$G$5:$G$35,'Jul'!$J$5:$J$35,A11)+SUMIFS('Aug'!$G$5:$G$35,'Aug'!$J$5:$J$35,A11)+SUMIFS('Sep'!$G$5:$G$35,'Sep'!$J$5:$J$35,A11)+SUMIFS('Oct'!$G$5:$G$35,'Oct'!$J$5:$J$35,A11)+SUMIFS('Nov'!$G$5:$G$35,'Nov'!$J$5:$J$35,A11)+SUMIFS('Dec'!$G$5:$G$35,'Dec'!$J$5:$J$35,A11)) | D11: =IF(OR(B11="",N(C11)=0),"",ROUND(B11*C11,2))
B12: =IF(A12="","",SUMIFS('Jan'!$G$5:$G$35,'Jan'!$J$5:$J$35,A12)+SUMIFS('Feb'!$G$5:$G$35,'Feb'!$J$5:$J$35,A12)+SUMIFS('Mar'!$G$5:$G$35,'Mar'!$J$5:$J$35,A12)+SUMIFS('Apr'!$G$5:$G$35,'Apr'!$J$5:$J$35,A12)+SUMIFS('May'!$G$5:$G$35,'May'!$J$5:$J$35,A12)+SUMIFS('Jun'!$G$5:$G$35,'Jun'!$J$5:$J$35,A12)+SUMIFS('Jul'!$G$5:$G$35,'Jul'!$J$5:$J$35,A12)+SUMIFS('Aug'!$G$5:$G$35,'Aug'!$J$5:$J$35,A12)+SUMIFS('Sep'!$G$5:$G$35,'Sep'!$J$5:$J$35,A12)+SUMIFS('Oct'!$G$5:$G$35,'Oct'!$J$5:$J$35,A12)+SUMIFS('Nov'!$G$5:$G$35,'Nov'!$J$5:$J$35,A12)+SUMIFS('Dec'!$G$5:$G$35,'Dec'!$J$5:$J$35,A12)) | D12: =IF(OR(B12="",N(C12)=0),"",ROUND(B12*C12,2))
B13: =IF(A13="","",SUMIFS('Jan'!$G$5:$G$35,'Jan'!$J$5:$J$35,A13)+SUMIFS('Feb'!$G$5:$G$35,'Feb'!$J$5:$J$35,A13)+SUMIFS('Mar'!$G$5:$G$35,'Mar'!$J$5:$J$35,A13)+SUMIFS('Apr'!$G$5:$G$35,'Apr'!$J$5:$J$35,A13)+SUMIFS('May'!$G$5:$G$35,'May'!$J$5:$J$35,A13)+SUMIFS('Jun'!$G$5:$G$35,'Jun'!$J$5:$J$35,A13)+SUMIFS('Jul'!$G$5:$G$35,'Jul'!$J$5:$J$35,A13)+SUMIFS('Aug'!$G$5:$G$35,'Aug'!$J$5:$J$35,A13)+SUMIFS('Sep'!$G$5:$G$35,'Sep'!$J$5:$J$35,A13)+SUMIFS('Oct'!$G$5:$G$35,'Oct'!$J$5:$J$35,A13)+SUMIFS('Nov'!$G$5:$G$35,'Nov'!$J$5:$J$35,A13)+SUMIFS('Dec'!$G$5:$G$35,'Dec'!$J$5:$J$35,A13)) | D13: =IF(OR(B13="",N(C13)=0),"",ROUND(B13*C13,2))
B14: =IF(A14="","",SUMIFS('Jan'!$G$5:$G$35,'Jan'!$J$5:$J$35,A14)+SUMIFS('Feb'!$G$5:$G$35,'Feb'!$J$5:$J$35,A14)+SUMIFS('Mar'!$G$5:$G$35,'Mar'!$J$5:$J$35,A14)+SUMIFS('Apr'!$G$5:$G$35,'Apr'!$J$5:$J$35,A14)+SUMIFS('May'!$G$5:$G$35,'May'!$J$5:$J$35,A14)+SUMIFS('Jun'!$G$5:$G$35,'Jun'!$J$5:$J$35,A14)+SUMIFS('Jul'!$G$5:$G$35,'Jul'!$J$5:$J$35,A14)+SUMIFS('Aug'!$G$5:$G$35,'Aug'!$J$5:$J$35,A14)+SUMIFS('Sep'!$G$5:$G$35,'Sep'!$J$5:$J$35,A14)+SUMIFS('Oct'!$G$5:$G$35,'Oct'!$J$5:$J$35,A14)+SUMIFS('Nov'!$G$5:$G$35,'Nov'!$J$5:$J$35,A14)+SUMIFS('Dec'!$G$5:$G$35,'Dec'!$J$5:$J$35,A14)) | D14: =IF(OR(B14="",N(C14)=0),"",ROUND(B14*C14,2))
B15: =IF(A15="","",SUMIFS('Jan'!$G$5:$G$35,'Jan'!$J$5:$J$35,A15)+SUMIFS('Feb'!$G$5:$G$35,'Feb'!$J$5:$J$35,A15)+SUMIFS('Mar'!$G$5:$G$35,'Mar'!$J$5:$J$35,A15)+SUMIFS('Apr'!$G$5:$G$35,'Apr'!$J$5:$J$35,A15)+SUMIFS('May'!$G$5:$G$35,'May'!$J$5:$J$35,A15)+SUMIFS('Jun'!$G$5:$G$35,'Jun'!$J$5:$J$35,A15)+SUMIFS('Jul'!$G$5:$G$35,'Jul'!$J$5:$J$35,A15)+SUMIFS('Aug'!$G$5:$G$35,'Aug'!$J$5:$J$35,A15)+SUMIFS('Sep'!$G$5:$G$35,'Sep'!$J$5:$J$35,A15)+SUMIFS('Oct'!$G$5:$G$35,'Oct'!$J$5:$J$35,A15)+SUMIFS('Nov'!$G$5:$G$35,'Nov'!$J$5:$J$35,A15)+SUMIFS('Dec'!$G$5:$G$35,'Dec'!$J$5:$J$35,A15)) | D15: =IF(OR(B15="",N(C15)=0),"",ROUND(B15*C15,2))
B16: =IF(A16="","",SUMIFS('Jan'!$G$5:$G$35,'Jan'!$J$5:$J$35,A16)+SUMIFS('Feb'!$G$5:$G$35,'Feb'!$J$5:$J$35,A16)+SUMIFS('Mar'!$G$5:$G$35,'Mar'!$J$5:$J$35,A16)+SUMIFS('Apr'!$G$5:$G$35,'Apr'!$J$5:$J$35,A16)+SUMIFS('May'!$G$5:$G$35,'May'!$J$5:$J$35,A16)+SUMIFS('Jun'!$G$5:$G$35,'Jun'!$J$5:$J$35,A16)+SUMIFS('Jul'!$G$5:$G$35,'Jul'!$J$5:$J$35,A16)+SUMIFS('Aug'!$G$5:$G$35,'Aug'!$J$5:$J$35,A16)+SUMIFS('Sep'!$G$5:$G$35,'Sep'!$J$5:$J$35,A16)+SUMIFS('Oct'!$G$5:$G$35,'Oct'!$J$5:$J$35,A16)+SUMIFS('Nov'!$G$5:$G$35,'Nov'!$J$5:$J$35,A16)+SUMIFS('Dec'!$G$5:$G$35,'Dec'!$J$5:$J$35,A16)) | D16: =IF(OR(B16="",N(C16)=0),"",ROUND(B16*C16,2))
B17: =IF(A17="","",SUMIFS('Jan'!$G$5:$G$35,'Jan'!$J$5:$J$35,A17)+SUMIFS('Feb'!$G$5:$G$35,'Feb'!$J$5:$J$35,A17)+SUMIFS('Mar'!$G$5:$G$35,'Mar'!$J$5:$J$35,A17)+SUMIFS('Apr'!$G$5:$G$35,'Apr'!$J$5:$J$35,A17)+SUMIFS('May'!$G$5:$G$35,'May'!$J$5:$J$35,A17)+SUMIFS('Jun'!$G$5:$G$35,'Jun'!$J$5:$J$35,A17)+SUMIFS('Jul'!$G$5:$G$35,'Jul'!$J$5:$J$35,A17)+SUMIFS('Aug'!$G$5:$G$35,'Aug'!$J$5:$J$35,A17)+SUMIFS('Sep'!$G$5:$G$35,'Sep'!$J$5:$J$35,A17)+SUMIFS('Oct'!$G$5:$G$35,'Oct'!$J$5:$J$35,A17)+SUMIFS('Nov'!$G$5:$G$35,'Nov'!$J$5:$J$35,A17)+SUMIFS('Dec'!$G$5:$G$35,'Dec'!$J$5:$J$35,A17)) | D17: =IF(OR(B17="",N(C17)=0),"",ROUND(B17*C17,2))
B18: =IF(A18="","",SUMIFS('Jan'!$G$5:$G$35,'Jan'!$J$5:$J$35,A18)+SUMIFS('Feb'!$G$5:$G$35,'Feb'!$J$5:$J$35,A18)+SUMIFS('Mar'!$G$5:$G$35,'Mar'!$J$5:$J$35,A18)+SUMIFS('Apr'!$G$5:$G$35,'Apr'!$J$5:$J$35,A18)+SUMIFS('May'!$G$5:$G$35,'May'!$J$5:$J$35,A18)+SUMIFS('Jun'!$G$5:$G$35,'Jun'!$J$5:$J$35,A18)+SUMIFS('Jul'!$G$5:$G$35,'Jul'!$J$5:$J$35,A18)+SUMIFS('Aug'!$G$5:$G$35,'Aug'!$J$5:$J$35,A18)+SUMIFS('Sep'!$G$5:$G$35,'Sep'!$J$5:$J$35,A18)+SUMIFS('Oct'!$G$5:$G$35,'Oct'!$J$5:$J$35,A18)+SUMIFS('Nov'!$G$5:$G$35,'Nov'!$J$5:$J$35,A18)+SUMIFS('Dec'!$G$5:$G$35,'Dec'!$J$5:$J$35,A18)) | D18: =IF(OR(B18="",N(C18)=0),"",ROUND(B18*C18,2))
... B24: =IF(A24="","",SUMIFS('Jan'!$G$5:$G$35,'Jan'!$J$5:$J$35,A24)+SUMIFS('Feb'!$G$5:$G$35,'Feb'!$J$5:$J$35,A24)+SUMIFS('Mar'!$G$5:$G$35,'Mar'!$J$5:$J$35,A24)+SUMIFS('Apr'!$G$5:$G$35,'Apr'!$J$5:$J$35,A24)+SUMIFS('May'!$G$5:$G$35,'May'!$J$5:$J$35,A24)+SUMIFS('Jun'!$G$5:$G$35,'Jun'!$J$5:$J$35,A24)+SUMIFS('Jul'!$G$5:$G$35,'Jul'!$J$5:$J$35,A24)+SUMIFS('Aug'!$G$5:$G$35,'Aug'!$J$5:$J$35,A24)+SUMIFS('Sep'!$G$5:$G$35,'Sep'!$J$5:$J$35,A24)+SUMIFS('Oct'!$G$5:$G$35,'Oct'!$J$5:$J$35,A24)+SUMIFS('Nov'!$G$5:$G$35,'Nov'!$J$5:$J$35,A24)+SUMIFS('Dec'!$G$5:$G$35,'Dec'!$J$5:$J$35,A24)) | D24: =IF(OR(B24="",N(C24)=0),"",ROUND(B24*C24,2))

Sheet Jan
A1: Time sheet – Jan
A2: ='Settings'!B3 | D2: Month | F2: =DATE('Settings'!B4,1,1)
A4: Date | B4: Day | C4: Start | D4: End | E4: Break (min) | F4: Absence | G4: Hours worked | H4: Target (h) | I4: Balance (h) | J4: Project / client | K4: Note
A5: =IF(MONTH($F$2+0)=1,$F$2+0,"") | B5: =IF(A5="","",A5) | F5: Public holiday | G5: =IF(A5="","",IF(F5<>"",H5,IF(OR(C5="",D5=""),0,ROUND(MOD(D5-C5,1)*24-N(E5)/60,2)))) | H5: =IF(A5="","",IF(WEEKDAY(A5,2)>'Settings'!$B$6,0,'Settings'!$B$5)) | I5: =IF(A5="","",G5-H5)
A6: =IF(MONTH($F$2+1)=1,$F$2+1,"") | B6: =IF(A6="","",A6) | G6: =IF(A6="","",IF(F6<>"",H6,IF(OR(C6="",D6=""),0,ROUND(MOD(D6-C6,1)*24-N(E6)/60,2)))) | H6: =IF(A6="","",IF(WEEKDAY(A6,2)>'Settings'!$B$6,0,'Settings'!$B$5)) | I6: =IF(A6="","",G6-H6)
A7: =IF(MONTH($F$2+2)=1,$F$2+2,"") | B7: =IF(A7="","",A7) | G7: =IF(A7="","",IF(F7<>"",H7,IF(OR(C7="",D7=""),0,ROUND(MOD(D7-C7,1)*24-N(E7)/60,2)))) | H7: =IF(A7="","",IF(WEEKDAY(A7,2)>'Settings'!$B$6,0,'Settings'!$B$5)) | I7: =IF(A7="","",G7-H7)
A8: =IF(MONTH($F$2+3)=1,$F$2+3,"") | B8: =IF(A8="","",A8) | G8: =IF(A8="","",IF(F8<>"",H8,IF(OR(C8="",D8=""),0,ROUND(MOD(D8-C8,1)*24-N(E8)/60,2)))) | H8: =IF(A8="","",IF(WEEKDAY(A8,2)>'Settings'!$B$6,0,'Settings'!$B$5)) | I8: =IF(A8="","",G8-H8)
A9: =IF(MONTH($F$2+4)=1,$F$2+4,"") | B9: =IF(A9="","",A9) | C9: 0.33333333 | D9: 0.5 | E9: 0 | G9: =IF(A9="","",IF(F9<>"",H9,IF(OR(C9="",D9=""),0,ROUND(MOD(D9-C9,1)*24-N(E9)/60,2)))) | H9: =IF(A9="","",IF(WEEKDAY(A9,2)>'Settings'!$B$6,0,'Settings'!$B$5)) | I9: =IF(A9="","",G9-H9) | J9: Keller Electrical Ltd
A10: =IF(MONTH($F$2+5)=1,$F$2+5,"") | B10: =IF(A10="","",A10) | C10: 0.3125 | D10: 0.70833333 | E10: 45 | G10: =IF(A10="","",IF(F10<>"",H10,IF(OR(C10="",D10=""),0,ROUND(MOD(D10-C10,1)*24-N(E10)/60,2)))) | H10: =IF(A10="","",IF(WEEKDAY(A10,2)>'Settings'!$B$6,0,'Settings'!$B$5)) | I10: =IF(A10="","",G10-H10) | J10: Keller Electrical Ltd
A11: =IF(MONTH($F$2+6)=1,$F$2+6,"") | B11: =IF(A11="","",A11) | C11: 0.33333333 | D11: 0.6875 | E11: 20 | G11: =IF(A11="","",IF(F11<>"",H11,IF(OR(C11="",D11=""),0,ROUND(MOD(D11-C11,1)*24-N(E11)/60,2)))) | H11: =IF(A11="","",IF(WEEKDAY(A11,2)>'Settings'!$B$6,0,'Settings'!$B$5)) | I11: =IF(A11="","",G11-H11) | J11: Internal
A12: =IF(MONTH($F$2+7)=1,$F$2+7,"") | B12: =IF(A12="","",A12) | G12: =IF(A12="","",IF(F12<>"",H12,IF(OR(C12="",D12=""),0,ROUND(MOD(D12-C12,1)*24-N(E12)/60,2)))) | H12: =IF(A12="","",IF(WEEKDAY(A12,2)>'Settings'!$B$6,0,'Settings'!$B$5)) | I12: =IF(A12="","",G12-H12)
A13: =IF(MONTH($F$2+8)=1,$F$2+8,"") | B13: =IF(A13="","",A13) | G13: =IF(A13="","",IF(F13<>"",H13,IF(OR(C13="",D13=""),0,ROUND(MOD(D13-C13,1)*24-N(E13)/60,2)))) | H13: =IF(A13="","",IF(WEEKDAY(A13,2)>'Settings'!$B$6,0,'Settings'!$B$5)) | I13: =IF(A13="","",G13-H13)
A14: =IF(MONTH($F$2+9)=1,$F$2+9,"") | B14: =IF(A14="","",A14) | G14: =IF(A14="","",IF(F14<>"",H14,IF(OR(C14="",D14=""),0,ROUND(MOD(D14-C14,1)*24-N(E14)/60,2)))) | H14: =IF(A14="","",IF(WEEKDAY(A14,2)>'Settings'!$B$6,0,'Settings'!$B$5)) | I14: =IF(A14="","",G14-H14)
A15: =IF(MONTH($F$2+10)=1,$F$2+10,"") | B15: =IF(A15="","",A15) | G15: =IF(A15="","",IF(F15<>"",H15,IF(OR(C15="",D15=""),0,ROUND(MOD(D15-C15,1)*24-N(E15)/60,2)))) | H15: =IF(A15="","",IF(WEEKDAY(A15,2)>'Settings'!$B$6,0,'Settings'!$B$5)) | I15: =IF(A15="","",G15-H15)
A16: =IF(MONTH($F$2+11)=1,$F$2+11,"") | B16: =IF(A16="","",A16) | G16: =IF(A16="","",IF(F16<>"",H16,IF(OR(C16="",D16=""),0,ROUND(MOD(D16-C16,1)*24-N(E16)/60,2)))) | H16: =IF(A16="","",IF(WEEKDAY(A16,2)>'Settings'!$B$6,0,'Settings'!$B$5)) | I16: =IF(A16="","",G16-H16)
A17: =IF(MONTH($F$2+12)=1,$F$2+12,"") | B17: =IF(A17="","",A17) | G17: =IF(A17="","",IF(F17<>"",H17,IF(OR(C17="",D17=""),0,ROUND(MOD(D17-C17,1)*24-N(E17)/60,2)))) | H17: =IF(A17="","",IF(WEEKDAY(A17,2)>'Settings'!$B$6,0,'Settings'!$B$5)) | I17: =IF(A17="","",G17-H17)
A18: =IF(MONTH($F$2+13)=1,$F$2+13,"") | B18: =IF(A18="","",A18) | G18: =IF(A18="","",IF(F18<>"",H18,IF(OR(C18="",D18=""),0,ROUND(MOD(D18-C18,1)*24-N(E18)/60,2)))) | H18: =IF(A18="","",IF(WEEKDAY(A18,2)>'Settings'!$B$6,0,'Settings'!$B$5)) | I18: =IF(A18="","",G18-H18)
A19: =IF(MONTH($F$2+14)=1,$F$2+14,"") | B19: =IF(A19="","",A19) | G19: =IF(A19="","",IF(F19<>"",H19,IF(OR(C19="",D19=""),0,ROUND(MOD(D19-C19,1)*24-N(E19)/60,2)))) | H19: =IF(A19="","",IF(WEEKDAY(A19,2)>'Settings'!$B$6,0,'Settings'!$B$5)) | I19: =IF(A19="","",G19-H19)
A20: =IF(MONTH($F$2+15)=1,$F$2+15,"") | B20: =IF(A20="","",A20) | G20: =IF(A20="","",IF(F20<>"",H20,IF(OR(C20="",D20=""),0,ROUND(MOD(D20-C20,1)*24-N(E20)/60,2)))) | H20: =IF(A20="","",IF(WEEKDAY(A20,2)>'Settings'!$B$6,0,'Settings'!$B$5)) | I20: =IF(A20="","",G20-H20)
A21: =IF(MONTH($F$2+16)=1,$F$2+16,"") | B21: =IF(A21="","",A21) | G21: =IF(A21="","",IF(F21<>"",H21,IF(OR(C21="",D21=""),0,ROUND(MOD(D21-C21,1)*24-N(E21)/60,2)))) | H21: =IF(A21="","",IF(WEEKDAY(A21,2)>'Settings'!$B$6,0,'Settings'!$B$5)) | I21: =IF(A21="","",G21-H21)
A22: =IF(MONTH($F$2+17)=1,$F$2+17,"") | B22: =IF(A22="","",A22) | G22: =IF(A22="","",IF(F22<>"",H22,IF(OR(C22="",D22=""),0,ROUND(MOD(D22-C22,1)*24-N(E22)/60,2)))) | H22: =IF(A22="","",IF(WEEKDAY(A22,2)>'Settings'!$B$6,0,'Settings'!$B$5)) | I22: =IF(A22="","",G22-H22)
A23: =IF(MONTH($F$2+18)=1,$F$2+18,"") | B23: =IF(A23="","",A23) | G23: =IF(A23="","",IF(F23<>"",H23,IF(OR(C23="",D23=""),0,ROUND(MOD(D23-C23,1)*24-N(E23)/60,2)))) | H23: =IF(A23="","",IF(WEEKDAY(A23,2)>'Settings'!$B$6,0,'Settings'!$B$5)) | I23: =IF(A23="","",G23-H23)
A24: =IF(MONTH($F$2+19)=1,$F$2+19,"") | B24: =IF(A24="","",A24) | G24: =IF(A24="","",IF(F24<>"",H24,IF(OR(C24="",D24=""),0,ROUND(MOD(D24-C24,1)*24-N(E24)/60,2)))) | H24: =IF(A24="","",IF(WEEKDAY(A24,2)>'Settings'!$B$6,0,'Settings'!$B$5)) | I24: =IF(A24="","",G24-H24)
A25: =IF(MONTH($F$2+20)=1,$F$2+20,"") | B25: =IF(A25="","",A25) | G25: =IF(A25="","",IF(F25<>"",H25,IF(OR(C25="",D25=""),0,ROUND(MOD(D25-C25,1)*24-N(E25)/60,2)))) | H25: =IF(A25="","",IF(WEEKDAY(A25,2)>'Settings'!$B$6,0,'Settings'!$B$5)) | I25: =IF(A25="","",G25-H25)
A26: =IF(MONTH($F$2+21)=1,$F$2+21,"") | B26: =IF(A26="","",A26) | G26: =IF(A26="","",IF(F26<>"",H26,IF(OR(C26="",D26=""),0,ROUND(MOD(D26-C26,1)*24-N(E26)/60,2)))) | H26: =IF(A26="","",IF(WEEKDAY(A26,2)>'Settings'!$B$6,0,'Settings'!$B$5)) | I26: =IF(A26="","",G26-H26)
A27: =IF(MONTH($F$2+22)=1,$F$2+22,"") | B27: =IF(A27="","",A27) | G27: =IF(A27="","",IF(F27<>"",H27,IF(OR(C27="",D27=""),0,ROUND(MOD(D27-C27,1)*24-N(E27)/60,2)))) | H27: =IF(A27="","",IF(WEEKDAY(A27,2)>'Settings'!$B$6,0,'Settings'!$B$5)) | I27: =IF(A27="","",G27-H27)
A28: =IF(MONTH($F$2+23)=1,$F$2+23,"") | B28: =IF(A28="","",A28) | G28: =IF(A28="","",IF(F28<>"",H28,IF(OR(C28="",D28=""),0,ROUND(MOD(D28-C28,1)*24-N(E28)/60,2)))) | H28: =IF(A28="","",IF(WEEKDAY(A28,2)>'Settings'!$B$6,0,'Settings'!$B$5)) | I28: =IF(A28="","",G28-H28)
A29: =IF(MONTH($F$2+24)=1,$F$2+24,"") | B29: =IF(A29="","",A29) | G29: =IF(A29="","",IF(F29<>"",H29,IF(OR(C29="",D29=""),0,ROUND(MOD(D29-C29,1)*24-N(E29)/60,2)))) | H29: =IF(A29="","",IF(WEEKDAY(A29,2)>'Settings'!$B$6,0,'Settings'!$B$5)) | I29: =IF(A29="","",G29-H29)
A30: =IF(MONTH($F$2+25)=1,$F$2+25,"") | B30: =IF(A30="","",A30) | G30: =IF(A30="","",IF(F30<>"",H30,IF(OR(C30="",D30=""),0,ROUND(MOD(D30-C30,1)*24-N(E30)/60,2)))) | H30: =IF(A30="","",IF(WEEKDAY(A30,2)>'Settings'!$B$6,0,'Settings'!$B$5)) | I30: =IF(A30="","",G30-H30)
A31: =IF(MONTH($F$2+26)=1,$F$2+26,"") | B31: =IF(A31="","",A31) | G31: =IF(A31="","",IF(F31<>"",H31,IF(OR(C31="",D31=""),0,ROUND(MOD(D31-C31,1)*24-N(E31)/60,2)))) | H31: =IF(A31="","",IF(WEEKDAY(A31,2)>'Settings'!$B$6,0,'Settings'!$B$5)) | I31: =IF(A31="","",G31-H31)
A32: =IF(MONTH($F$2+27)=1,$F$2+27,"") | B32: =IF(A32="","",A32) | G32: =IF(A32="","",IF(F32<>"",H32,IF(OR(C32="",D32=""),0,ROUND(MOD(D32-C32,1)*24-N(E32)/60,2)))) | H32: =IF(A32="","",IF(WEEKDAY(A32,2)>'Settings'!$B$6,0,'Settings'!$B$5)) | I32: =IF(A32="","",G32-H32)
A33: =IF(MONTH($F$2+28)=1,$F$2+28,"") | B33: =IF(A33="","",A33) | G33: =IF(A33="","",IF(F33<>"",H33,IF(OR(C33="",D33=""),0,ROUND(MOD(D33-C33,1)*24-N(E33)/60,2)))) | H33: =IF(A33="","",IF(WEEKDAY(A33,2)>'Settings'!$B$6,0,'Settings'!$B$5)) | I33: =IF(A33="","",G33-H33)
A34: =IF(MONTH($F$2+29)=1,$F$2+29,"") | B34: =IF(A34="","",A34) | G34: =IF(A34="","",IF(F34<>"",H34,IF(OR(C34="",D34=""),0,ROUND(MOD(D34-C34,1)*24-N(E34)/60,2)))) | H34: =IF(A34="","",IF(WEEKDAY(A34,2)>'Settings'!$B$6,0,'Settings'!$B$5)) | I34: =IF(A34="","",G34-H34)
A35: =IF(MONTH($F$2+30)=1,$F$2+30,"") | B35: =IF(A35="","",A35) | G35: =IF(A35="","",IF(F35<>"",H35,IF(OR(C35="",D35=""),0,ROUND(MOD(D35-C35,1)*24-N(E35)/60,2)))) | H35: =IF(A35="","",IF(WEEKDAY(A35,2)>'Settings'!$B$6,0,'Settings'!$B$5)) | I35: =IF(A35="","",G35-H35)
F37: Total | G37: =SUM(G5:G35) | H37: =SUM(H5:H35) | I37: =SUM(I5:I35)
A39: Orange break = shorter than the legal minimum (Swiss Labour Act, art. 15): 15 min from 5.5 h, 30 min from 7 h, 60 min from 9 h.

Sheet Feb
A1: Time sheet – Feb
A2: ='Settings'!B3 | D2: Month | F2: =DATE('Settings'!B4,2,1)
A4: Date | B4: Day | C4: Start | D4: End | E4: Break (min) | F4: Absence | G4: Hours worked | H4: Target (h) | I4: Balance (h) | J4: Project / client | K4: Note
A5: =IF(MONTH($F$2+0)=2,$F$2+0,"") | B5: =IF(A5="","",A5) | G5: =IF(A5="","",IF(F5<>"",H5,IF(OR(C5="",D5=""),0,ROUND(MOD(D5-C5,1)*24-N(E5)/60,2)))) | H5: =IF(A5="","",IF(WEEKDAY(A5,2)>'Settings'!$B$6,0,'Settings'!$B$5)) | I5: =IF(A5="","",G5-H5)
A6: =IF(MONTH($F$2+1)=2,$F$2+1,"") | B6: =IF(A6="","",A6) | G6: =IF(A6="","",IF(F6<>"",H6,IF(OR(C6="",D6=""),0,ROUND(MOD(D6-C6,1)*24-N(E6)/60,2)))) | H6: =IF(A6="","",IF(WEEKDAY(A6,2)>'Settings'!$B$6,0,'Settings'!$B$5)) | I6: =IF(A6="","",G6-H6)
A7: =IF(MONTH($F$2+2)=2,$F$2+2,"") | B7: =IF(A7="","",A7) | G7: =IF(A7="","",IF(F7<>"",H7,IF(OR(C7="",D7=""),0,ROUND(MOD(D7-C7,1)*24-N(E7)/60,2)))) | H7: =IF(A7="","",IF(WEEKDAY(A7,2)>'Settings'!$B$6,0,'Settings'!$B$5)) | I7: =IF(A7="","",G7-H7)
A8: =IF(MONTH($F$2+3)=2,$F$2+3,"") | B8: =IF(A8="","",A8) | G8: =IF(A8="","",IF(F8<>"",H8,IF(OR(C8="",D8=""),0,ROUND(MOD(D8-C8,1)*24-N(E8)/60,2)))) | H8: =IF(A8="","",IF(WEEKDAY(A8,2)>'Settings'!$B$6,0,'Settings'!$B$5)) | I8: =IF(A8="","",G8-H8)
A9: =IF(MONTH($F$2+4)=2,$F$2+4,"") | B9: =IF(A9="","",A9) | G9: =IF(A9="","",IF(F9<>"",H9,IF(OR(C9="",D9=""),0,ROUND(MOD(D9-C9,1)*24-N(E9)/60,2)))) | H9: =IF(A9="","",IF(WEEKDAY(A9,2)>'Settings'!$B$6,0,'Settings'!$B$5)) | I9: =IF(A9="","",G9-H9)
A10: =IF(MONTH($F$2+5)=2,$F$2+5,"") | B10: =IF(A10="","",A10) | G10: =IF(A10="","",IF(F10<>"",H10,IF(OR(C10="",D10=""),0,ROUND(MOD(D10-C10,1)*24-N(E10)/60,2)))) | H10: =IF(A10="","",IF(WEEKDAY(A10,2)>'Settings'!$B$6,0,'Settings'!$B$5)) | I10: =IF(A10="","",G10-H10)
A11: =IF(MONTH($F$2+6)=2,$F$2+6,"") | B11: =IF(A11="","",A11) | G11: =IF(A11="","",IF(F11<>"",H11,IF(OR(C11="",D11=""),0,ROUND(MOD(D11-C11,1)*24-N(E11)/60,2)))) | H11: =IF(A11="","",IF(WEEKDAY(A11,2)>'Settings'!$B$6,0,'Settings'!$B$5)) | I11: =IF(A11="","",G11-H11)
A12: =IF(MONTH($F$2+7)=2,$F$2+7,"") | B12: =IF(A12="","",A12) | G12: =IF(A12="","",IF(F12<>"",H12,IF(OR(C12="",D12=""),0,ROUND(MOD(D12-C12,1)*24-N(E12)/60,2)))) | H12: =IF(A12="","",IF(WEEKDAY(A12,2)>'Settings'!$B$6,0,'Settings'!$B$5)) | I12: =IF(A12="","",G12-H12)
A13: =IF(MONTH($F$2+8)=2,$F$2+8,"") | B13: =IF(A13="","",A13) | G13: =IF(A13="","",IF(F13<>"",H13,IF(OR(C13="",D13=""),0,ROUND(MOD(D13-C13,1)*24-N(E13)/60,2)))) | H13: =IF(A13="","",IF(WEEKDAY(A13,2)>'Settings'!$B$6,0,'Settings'!$B$5)) | I13: =IF(A13="","",G13-H13)
A14: =IF(MONTH($F$2+9)=2,$F$2+9,"") | B14: =IF(A14="","",A14) | G14: =IF(A14="","",IF(F14<>"",H14,IF(OR(C14="",D14=""),0,ROUND(MOD(D14-C14,1)*24-N(E14)/60,2)))) | H14: =IF(A14="","",IF(WEEKDAY(A14,2)>'Settings'!$B$6,0,'Settings'!$B$5)) | I14: =IF(A14="","",G14-H14)
A15: =IF(MONTH($F$2+10)=2,$F$2+10,"") | B15: =IF(A15="","",A15) | G15: =IF(A15="","",IF(F15<>"",H15,IF(OR(C15="",D15=""),0,ROUND(MOD(D15-C15,1)*24-N(E15)/60,2)))) | H15: =IF(A15="","",IF(WEEKDAY(A15,2)>'Settings'!$B$6,0,'Settings'!$B$5)) | I15: =IF(A15="","",G15-H15)
A16: =IF(MONTH($F$2+11)=2,$F$2+11,"") | B16: =IF(A16="","",A16) | G16: =IF(A16="","",IF(F16<>"",H16,IF(OR(C16="",D16=""),0,ROUND(MOD(D16-C16,1)*24-N(E16)/60,2)))) | H16: =IF(A16="","",IF(WEEKDAY(A16,2)>'Settings'!$B$6,0,'Settings'!$B$5)) | I16: =IF(A16="","",G16-H16)
A17: =IF(MONTH($F$2+12)=2,$F$2+12,"") | B17: =IF(A17="","",A17) | G17: =IF(A17="","",IF(F17<>"",H17,IF(OR(C17="",D17=""),0,ROUND(MOD(D17-C17,1)*24-N(E17)/60,2)))) | H17: =IF(A17="","",IF(WEEKDAY(A17,2)>'Settings'!$B$6,0,'Settings'!$B$5)) | I17: =IF(A17="","",G17-H17)
A18: =IF(MONTH($F$2+13)=2,$F$2+13,"") | B18: =IF(A18="","",A18) | G18: =IF(A18="","",IF(F18<>"",H18,IF(OR(C18="",D18=""),0,ROUND(MOD(D18-C18,1)*24-N(E18)/60,2)))) | H18: =IF(A18="","",IF(WEEKDAY(A18,2)>'Settings'!$B$6,0,'Settings'!$B$5)) | I18: =IF(A18="","",G18-H18)
A19: =IF(MONTH($F$2+14)=2,$F$2+14,"") | B19: =IF(A19="","",A19) | G19: =IF(A19="","",IF(F19<>"",H19,IF(OR(C19="",D19=""),0,ROUND(MOD(D19-C19,1)*24-N(E19)/60,2)))) | H19: =IF(A19="","",IF(WEEKDAY(A19,2)>'Settings'!$B$6,0,'Settings'!$B$5)) | I19: =IF(A19="","",G19-H19)
A20: =IF(MONTH($F$2+15)=2,$F$2+15,"") | B20: =IF(A20="","",A20) | G20: =IF(A20="","",IF(F20<>"",H20,IF(OR(C20="",D20=""),0,ROUND(MOD(D20-C20,1)*24-N(E20)/60,2)))) | H20: =IF(A20="","",IF(WEEKDAY(A20,2)>'Settings'!$B$6,0,'Settings'!$B$5)) | I20: =IF(A20="","",G20-H20)
A21: =IF(MONTH($F$2+16)=2,$F$2+16,"") | B21: =IF(A21="","",A21) | G21: =IF(A21="","",IF(F21<>"",H21,IF(OR(C21="",D21=""),0,ROUND(MOD(D21-C21,1)*24-N(E21)/60,2)))) | H21: =IF(A21="","",IF(WEEKDAY(A21,2)>'Settings'!$B$6,0,'Settings'!$B$5)) | I21: =IF(A21="","",G21-H21)
A22: =IF(MONTH($F$2+17)=2,$F$2+17,"") | B22: =IF(A22="","",A22) | G22: =IF(A22="","",IF(F22<>"",H22,IF(OR(C22="",D22=""),0,ROUND(MOD(D22-C22,1)*24-N(E22)/60,2)))) | H22: =IF(A22="","",IF(WEEKDAY(A22,2)>'Settings'!$B$6,0,'Settings'!$B$5)) | I22: =IF(A22="","",G22-H22)
A23: =IF(MONTH($F$2+18)=2,$F$2+18,"") | B23: =IF(A23="","",A23) | G23: =IF(A23="","",IF(F23<>"",H23,IF(OR(C23="",D23=""),0,ROUND(MOD(D23-C23,1)*24-N(E23)/60,2)))) | H23: =IF(A23="","",IF(WEEKDAY(A23,2)>'Settings'!$B$6,0,'Settings'!$B$5)) | I23: =IF(A23="","",G23-H23)
A24: =IF(MONTH($F$2+19)=2,$F$2+19,"") | B24: =IF(A24="","",A24) | G24: =IF(A24="","",IF(F24<>"",H24,IF(OR(C24="",D24=""),0,ROUND(MOD(D24-C24,1)*24-N(E24)/60,2)))) | H24: =IF(A24="","",IF(WEEKDAY(A24,2)>'Settings'!$B$6,0,'Settings'!$B$5)) | I24: =IF(A24="","",G24-H24)
A25: =IF(MONTH($F$2+20)=2,$F$2+20,"") | B25: =IF(A25="","",A25) | G25: =IF(A25="","",IF(F25<>"",H25,IF(OR(C25="",D25=""),0,ROUND(MOD(D25-C25,1)*24-N(E25)/60,2)))) | H25: =IF(A25="","",IF(WEEKDAY(A25,2)>'Settings'!$B$6,0,'Settings'!$B$5)) | I25: =IF(A25="","",G25-H25)
A26: =IF(MONTH($F$2+21)=2,$F$2+21,"") | B26: =IF(A26="","",A26) | G26: =IF(A26="","",IF(F26<>"",H26,IF(OR(C26="",D26=""),0,ROUND(MOD(D26-C26,1)*24-N(E26)/60,2)))) | H26: =IF(A26="","",IF(WEEKDAY(A26,2)>'Settings'!$B$6,0,'Settings'!$B$5)) | I26: =IF(A26="","",G26-H26)
A27: =IF(MONTH($F$2+22)=2,$F$2+22,"") | B27: =IF(A27="","",A27) | G27: =IF(A27="","",IF(F27<>"",H27,IF(OR(C27="",D27=""),0,ROUND(MOD(D27-C27,1)*24-N(E27)/60,2)))) | H27: =IF(A27="","",IF(WEEKDAY(A27,2)>'Settings'!$B$6,0,'Settings'!$B$5)) | I27: =IF(A27="","",G27-H27)
A28: =IF(MONTH($F$2+23)=2,$F$2+23,"") | B28: =IF(A28="","",A28) | G28: =IF(A28="","",IF(F28<>"",H28,IF(OR(C28="",D28=""),0,ROUND(MOD(D28-C28,1)*24-N(E28)/60,2)))) | H28: =IF(A28="","",IF(WEEKDAY(A28,2)>'Settings'!$B$6,0,'Settings'!$B$5)) | I28: =IF(A28="","",G28-H28)
A29: =IF(MONTH($F$2+24)=2,$F$2+24,"") | B29: =IF(A29="","",A29) | G29: =IF(A29="","",IF(F29<>"",H29,IF(OR(C29="",D29=""),0,ROUND(MOD(D29-C29,1)*24-N(E29)/60,2)))) | H29: =IF(A29="","",IF(WEEKDAY(A29,2)>'Settings'!$B$6,0,'Settings'!$B$5)) | I29: =IF(A29="","",G29-H29)
A30: =IF(MONTH($F$2+25)=2,$F$2+25,"") | B30: =IF(A30="","",A30) | G30: =IF(A30="","",IF(F30<>"",H30,IF(OR(C30="",D30=""),0,ROUND(MOD(D30-C30,1)*24-N(E30)/60,2)))) | H30: =IF(A30="","",IF(WEEKDAY(A30,2)>'Settings'!$B$6,0,'Settings'!$B$5)) | I30: =IF(A30="","",G30-H30)
A31: =IF(MONTH($F$2+26)=2,$F$2+26,"") | B31: =IF(A31="","",A31) | G31: =IF(A31="","",IF(F31<>"",H31,IF(OR(C31="",D31=""),0,ROUND(MOD(D31-C31,1)*24-N(E31)/60,2)))) | H31: =IF(A31="","",IF(WEEKDAY(A31,2)>'Settings'!$B$6,0,'Settings'!$B$5)) | I31: =IF(A31="","",G31-H31)
A32: =IF(MONTH($F$2+27)=2,$F$2+27,"") | B32: =IF(A32="","",A32) | G32: =IF(A32="","",IF(F32<>"",H32,IF(OR(C32="",D32=""),0,ROUND(MOD(D32-C32,1)*24-N(E32)/60,2)))) | H32: =IF(A32="","",IF(WEEKDAY(A32,2)>'Settings'!$B$6,0,'Settings'!$B$5)) | I32: =IF(A32="","",G32-H32)
A33: =IF(MONTH($F$2+28)=2,$F$2+28,"") | B33: =IF(A33="","",A33) | G33: =IF(A33="","",IF(F33<>"",H33,IF(OR(C33="",D33=""),0,ROUND(MOD(D33-C33,1)*24-N(E33)/60,2)))) | H33: =IF(A33="","",IF(WEEKDAY(A33,2)>'Settings'!$B$6,0,'Settings'!$B$5)) | I33: =IF(A33="","",G33-H33)
A34: =IF(MONTH($F$2+29)=2,$F$2+29,"") | B34: =IF(A34="","",A34) | G34: =IF(A34="","",IF(F34<>"",H34,IF(OR(C34="",D34=""),0,ROUND(MOD(D34-C34,1)*24-N(E34)/60,2)))) | H34: =IF(A34="","",IF(WEEKDAY(A34,2)>'Settings'!$B$6,0,'Settings'!$B$5)) | I34: =IF(A34="","",G34-H34)
A35: =IF(MONTH($F$2+30)=2,$F$2+30,"") | B35: =IF(A35="","",A35) | G35: =IF(A35="","",IF(F35<>"",H35,IF(OR(C35="",D35=""),0,ROUND(MOD(D35-C35,1)*24-N(E35)/60,2)))) | H35: =IF(A35="","",IF(WEEKDAY(A35,2)>'Settings'!$B$6,0,'Settings'!$B$5)) | I35: =IF(A35="","",G35-H35)
F37: Total | G37: =SUM(G5:G35) | H37: =SUM(H5:H35) | I37: =SUM(I5:I35)
A39: Orange break = shorter than the legal minimum (Swiss Labour Act, art. 15): 15 min from 5.5 h, 30 min from 7 h, 60 min from 9 h.

Sheet Mar
A1: Time sheet – Mar
A2: ='Settings'!B3 | D2: Month | F2: =DATE('Settings'!B4,3,1)
A4: Date | B4: Day | C4: Start | D4: End | E4: Break (min) | F4: Absence | G4: Hours worked | H4: Target (h) | I4: Balance (h) | J4: Project / client | K4: Note
A5: =IF(MONTH($F$2+0)=3,$F$2+0,"") | B5: =IF(A5="","",A5) | G5: =IF(A5="","",IF(F5<>"",H5,IF(OR(C5="",D5=""),0,ROUND(MOD(D5-C5,1)*24-N(E5)/60,2)))) | H5: =IF(A5="","",IF(WEEKDAY(A5,2)>'Settings'!$B$6,0,'Settings'!$B$5)) | I5: =IF(A5="","",G5-H5)
A6: =IF(MONTH($F$2+1)=3,$F$2+1,"") | B6: =IF(A6="","",A6) | G6: =IF(A6="","",IF(F6<>"",H6,IF(OR(C6="",D6=""),0,ROUND(MOD(D6-C6,1)*24-N(E6)/60,2)))) | H6: =IF(A6="","",IF(WEEKDAY(A6,2)>'Settings'!$B$6,0,'Settings'!$B$5)) | I6: =IF(A6="","",G6-H6)
A7: =IF(MONTH($F$2+2)=3,$F$2+2,"") | B7: =IF(A7="","",A7) | G7: =IF(A7="","",IF(F7<>"",H7,IF(OR(C7="",D7=""),0,ROUND(MOD(D7-C7,1)*24-N(E7)/60,2)))) | H7: =IF(A7="","",IF(WEEKDAY(A7,2)>'Settings'!$B$6,0,'Settings'!$B$5)) | I7: =IF(A7="","",G7-H7)
A8: =IF(MONTH($F$2+3)=3,$F$2+3,"") | B8: =IF(A8="","",A8) | G8: =IF(A8="","",IF(F8<>"",H8,IF(OR(C8="",D8=""),0,ROUND(MOD(D8-C8,1)*24-N(E8)/60,2)))) | H8: =IF(A8="","",IF(WEEKDAY(A8,2)>'Settings'!$B$6,0,'Settings'!$B$5)) | I8: =IF(A8="","",G8-H8)
A9: =IF(MONTH($F$2+4)=3,$F$2+4,"") | B9: =IF(A9="","",A9) | G9: =IF(A9="","",IF(F9<>"",H9,IF(OR(C9="",D9=""),0,ROUND(MOD(D9-C9,1)*24-N(E9)/60,2)))) | H9: =IF(A9="","",IF(WEEKDAY(A9,2)>'Settings'!$B$6,0,'Settings'!$B$5)) | I9: =IF(A9="","",G9-H9)
A10: =IF(MONTH($F$2+5)=3,$F$2+5,"") | B10: =IF(A10="","",A10) | G10: =IF(A10="","",IF(F10<>"",H10,IF(OR(C10="",D10=""),0,ROUND(MOD(D10-C10,1)*24-N(E10)/60,2)))) | H10: =IF(A10="","",IF(WEEKDAY(A10,2)>'Settings'!$B$6,0,'Settings'!$B$5)) | I10: =IF(A10="","",G10-H10)
A11: =IF(MONTH($F$2+6)=3,$F$2+6,"") | B11: =IF(A11="","",A11) | G11: =IF(A11="","",IF(F11<>"",H11,IF(OR(C11="",D11=""),0,ROUND(MOD(D11-C11,1)*24-N(E11)/60,2)))) | H11: =IF(A11="","",IF(WEEKDAY(A11,2)>'Settings'!$B$6,0,'Settings'!$B$5)) | I11: =IF(A11="","",G11-H11)
A12: =IF(MONTH($F$2+7)=3,$F$2+7,"") | B12: =IF(A12="","",A12) | G12: =IF(A12="","",IF(F12<>"",H12,IF(OR(C12="",D12=""),0,ROUND(MOD(D12-C12,1)*24-N(E12)/60,2)))) | H12: =IF(A12="","",IF(WEEKDAY(A12,2)>'Settings'!$B$6,0,'Settings'!$B$5)) | I12: =IF(A12="","",G12-H12)
A13: =IF(MONTH($F$2+8)=3,$F$2+8,"") | B13: =IF(A13="","",A13) | G13: =IF(A13="","",IF(F13<>"",H13,IF(OR(C13="",D13=""),0,ROUND(MOD(D13-C13,1)*24-N(E13)/60,2)))) | H13: =IF(A13="","",IF(WEEKDAY(A13,2)>'Settings'!$B$6,0,'Settings'!$B$5)) | I13: =IF(A13="","",G13-H13)
A14: =IF(MONTH($F$2+9)=3,$F$2+9,"") | B14: =IF(A14="","",A14) | G14: =IF(A14="","",IF(F14<>"",H14,IF(OR(C14="",D14=""),0,ROUND(MOD(D14-C14,1)*24-N(E14)/60,2)))) | H14: =IF(A14="","",IF(WEEKDAY(A14,2)>'Settings'!$B$6,0,'Settings'!$B$5)) | I14: =IF(A14="","",G14-H14)
A15: =IF(MONTH($F$2+10)=3,$F$2+10,"") | B15: =IF(A15="","",A15) | G15: =IF(A15="","",IF(F15<>"",H15,IF(OR(C15="",D15=""),0,ROUND(MOD(D15-C15,1)*24-N(E15)/60,2)))) | H15: =IF(A15="","",IF(WEEKDAY(A15,2)>'Settings'!$B$6,0,'Settings'!$B$5)) | I15: =IF(A15="","",G15-H15)
A16: =IF(MONTH($F$2+11)=3,$F$2+11,"") | B16: =IF(A16="","",A16) | G16: =IF(A16="","",IF(F16<>"",H16,IF(OR(C16="",D16=""),0,ROUND(MOD(D16-C16,1)*24-N(E16)/60,2)))) | H16: =IF(A16="","",IF(WEEKDAY(A16,2)>'Settings'!$B$6,0,'Settings'!$B$5)) | I16: =IF(A16="","",G16-H16)
A17: =IF(MONTH($F$2+12)=3,$F$2+12,"") | B17: =IF(A17="","",A17) | G17: =IF(A17="","",IF(F17<>"",H17,IF(OR(C17="",D17=""),0,ROUND(MOD(D17-C17,1)*24-N(E17)/60,2)))) | H17: =IF(A17="","",IF(WEEKDAY(A17,2)>'Settings'!$B$6,0,'Settings'!$B$5)) | I17: =IF(A17="","",G17-H17)
A18: =IF(MONTH($F$2+13)=3,$F$2+13,"") | B18: =IF(A18="","",A18) | G18: =IF(A18="","",IF(F18<>"",H18,IF(OR(C18="",D18=""),0,ROUND(MOD(D18-C18,1)*24-N(E18)/60,2)))) | H18: =IF(A18="","",IF(WEEKDAY(A18,2)>'Settings'!$B$6,0,'Settings'!$B$5)) | I18: =IF(A18="","",G18-H18)
A19: =IF(MONTH($F$2+14)=3,$F$2+14,"") | B19: =IF(A19="","",A19) | G19: =IF(A19="","",IF(F19<>"",H19,IF(OR(C19="",D19=""),0,ROUND(MOD(D19-C19,1)*24-N(E19)/60,2)))) | H19: =IF(A19="","",IF(WEEKDAY(A19,2)>'Settings'!$B$6,0,'Settings'!$B$5)) | I19: =IF(A19="","",G19-H19)
A20: =IF(MONTH($F$2+15)=3,$F$2+15,"") | B20: =IF(A20="","",A20) | G20: =IF(A20="","",IF(F20<>"",H20,IF(OR(C20="",D20=""),0,ROUND(MOD(D20-C20,1)*24-N(E20)/60,2)))) | H20: =IF(A20="","",IF(WEEKDAY(A20,2)>'Settings'!$B$6,0,'Settings'!$B$5)) | I20: =IF(A20="","",G20-H20)
A21: =IF(MONTH($F$2+16)=3,$F$2+16,"") | B21: =IF(A21="","",A21) | G21: =IF(A21="","",IF(F21<>"",H21,IF(OR(C21="",D21=""),0,ROUND(MOD(D21-C21,1)*24-N(E21)/60,2)))) | H21: =IF(A21="","",IF(WEEKDAY(A21,2)>'Settings'!$B$6,0,'Settings'!$B$5)) | I21: =IF(A21="","",G21-H21)
A22: =IF(MONTH($F$2+17)=3,$F$2+17,"") | B22: =IF(A22="","",A22) | G22: =IF(A22="","",IF(F22<>"",H22,IF(OR(C22="",D22=""),0,ROUND(MOD(D22-C22,1)*24-N(E22)/60,2)))) | H22: =IF(A22="","",IF(WEEKDAY(A22,2)>'Settings'!$B$6,0,'Settings'!$B$5)) | I22: =IF(A22="","",G22-H22)
A23: =IF(MONTH($F$2+18)=3,$F$2+18,"") | B23: =IF(A23="","",A23) | G23: =IF(A23="","",IF(F23<>"",H23,IF(OR(C23="",D23=""),0,ROUND(MOD(D23-C23,1)*24-N(E23)/60,2)))) | H23: =IF(A23="","",IF(WEEKDAY(A23,2)>'Settings'!$B$6,0,'Settings'!$B$5)) | I23: =IF(A23="","",G23-H23)
A24: =IF(MONTH($F$2+19)=3,$F$2+19,"") | B24: =IF(A24="","",A24) | G24: =IF(A24="","",IF(F24<>"",H24,IF(OR(C24="",D24=""),0,ROUND(MOD(D24-C24,1)*24-N(E24)/60,2)))) | H24: =IF(A24="","",IF(WEEKDAY(A24,2)>'Settings'!$B$6,0,'Settings'!$B$5)) | I24: =IF(A24="","",G24-H24)
A25: =IF(MONTH($F$2+20)=3,$F$2+20,"") | B25: =IF(A25="","",A25) | G25: =IF(A25="","",IF(F25<>"",H25,IF(OR(C25="",D25=""),0,ROUND(MOD(D25-C25,1)*24-N(E25)/60,2)))) | H25: =IF(A25="","",IF(WEEKDAY(A25,2)>'Settings'!$B$6,0,'Settings'!$B$5)) | I25: =IF(A25="","",G25-H25)
A26: =IF(MONTH($F$2+21)=3,$F$2+21,"") | B26: =IF(A26="","",A26) | G26: =IF(A26="","",IF(F26<>"",H26,IF(OR(C26="",D26=""),0,ROUND(MOD(D26-C26,1)*24-N(E26)/60,2)))) | H26: =IF(A26="","",IF(WEEKDAY(A26,2)>'Settings'!$B$6,0,'Settings'!$B$5)) | I26: =IF(A26="","",G26-H26)
A27: =IF(MONTH($F$2+22)=3,$F$2+22,"") | B27: =IF(A27="","",A27) | G27: =IF(A27="","",IF(F27<>"",H27,IF(OR(C27="",D27=""),0,ROUND(MOD(D27-C27,1)*24-N(E27)/60,2)))) | H27: =IF(A27="","",IF(WEEKDAY(A27,2)>'Settings'!$B$6,0,'Settings'!$B$5)) | I27: =IF(A27="","",G27-H27)
A28: =IF(MONTH($F$2+23)=3,$F$2+23,"") | B28: =IF(A28="","",A28) | G28: =IF(A28="","",IF(F28<>"",H28,IF(OR(C28="",D28=""),0,ROUND(MOD(D28-C28,1)*24-N(E28)/60,2)))) | H28: =IF(A28="","",IF(WEEKDAY(A28,2)>'Settings'!$B$6,0,'Settings'!$B$5)) | I28: =IF(A28="","",G28-H28)
A29: =IF(MONTH($F$2+24)=3,$F$2+24,"") | B29: =IF(A29="","",A29) | G29: =IF(A29="","",IF(F29<>"",H29,IF(OR(C29="",D29=""),0,ROUND(MOD(D29-C29,1)*24-N(E29)/60,2)))) | H29: =IF(A29="","",IF(WEEKDAY(A29,2)>'Settings'!$B$6,0,'Settings'!$B$5)) | I29: =IF(A29="","",G29-H29)
A30: =IF(MONTH($F$2+25)=3,$F$2+25,"") | B30: =IF(A30="","",A30) | G30: =IF(A30="","",IF(F30<>"",H30,IF(OR(C30="",D30=""),0,ROUND(MOD(D30-C30,1)*24-N(E30)/60,2)))) | H30: =IF(A30="","",IF(WEEKDAY(A30,2)>'Settings'!$B$6,0,'Settings'!$B$5)) | I30: =IF(A30="","",G30-H30)
A31: =IF(MONTH($F$2+26)=3,$F$2+26,"") | B31: =IF(A31="","",A31) | G31: =IF(A31="","",IF(F31<>"",H31,IF(OR(C31="",D31=""),0,ROUND(MOD(D31-C31,1)*24-N(E31)/60,2)))) | H31: =IF(A31="","",IF(WEEKDAY(A31,2)>'Settings'!$B$6,0,'Settings'!$B$5)) | I31: =IF(A31="","",G31-H31)
A32: =IF(MONTH($F$2+27)=3,$F$2+27,"") | B32: =IF(A32="","",A32) | G32: =IF(A32="","",IF(F32<>"",H32,IF(OR(C32="",D32=""),0,ROUND(MOD(D32-C32,1)*24-N(E32)/60,2)))) | H32: =IF(A32="","",IF(WEEKDAY(A32,2)>'Settings'!$B$6,0,'Settings'!$B$5)) | I32: =IF(A32="","",G32-H32)
A33: =IF(MONTH($F$2+28)=3,$F$2+28,"") | B33: =IF(A33="","",A33) | G33: =IF(A33="","",IF(F33<>"",H33,IF(OR(C33="",D33=""),0,ROUND(MOD(D33-C33,1)*24-N(E33)/60,2)))) | H33: =IF(A33="","",IF(WEEKDAY(A33,2)>'Settings'!$B$6,0,'Settings'!$B$5)) | I33: =IF(A33="","",G33-H33)
A34: =IF(MONTH($F$2+29)=3,$F$2+29,"") | B34: =IF(A34="","",A34) | G34: =IF(A34="","",IF(F34<>"",H34,IF(OR(C34="",D34=""),0,ROUND(MOD(D34-C34,1)*24-N(E34)/60,2)))) | H34: =IF(A34="","",IF(WEEKDAY(A34,2)>'Settings'!$B$6,0,'Settings'!$B$5)) | I34: =IF(A34="","",G34-H34)
A35: =IF(MONTH($F$2+30)=3,$F$2+30,"") | B35: =IF(A35="","",A35) | G35: =IF(A35="","",IF(F35<>"",H35,IF(OR(C35="",D35=""),0,ROUND(MOD(D35-C35,1)*24-N(E35)/60,2)))) | H35: =IF(A35="","",IF(WEEKDAY(A35,2)>'Settings'!$B$6,0,'Settings'!$B$5)) | I35: =IF(A35="","",G35-H35)
F37: Total | G37: =SUM(G5:G35) | H37: =SUM(H5:H35) | I37: =SUM(I5:I35)
A39: Orange break = shorter than the legal minimum (Swiss Labour Act, art. 15): 15 min from 5.5 h, 30 min from 7 h, 60 min from 9 h.

Sheet Apr
A1: Time sheet – Apr
A2: ='Settings'!B3 | D2: Month | F2: =DATE('Settings'!B4,4,1)
A4: Date | B4: Day | C4: Start | D4: End | E4: Break (min) | F4: Absence | G4: Hours worked | H4: Target (h) | I4: Balance (h) | J4: Project / client | K4: Note
A5: =IF(MONTH($F$2+0)=4,$F$2+0,"") | B5: =IF(A5="","",A5) | G5: =IF(A5="","",IF(F5<>"",H5,IF(OR(C5="",D5=""),0,ROUND(MOD(D5-C5,1)*24-N(E5)/60,2)))) | H5: =IF(A5="","",IF(WEEKDAY(A5,2)>'Settings'!$B$6,0,'Settings'!$B$5)) | I5: =IF(A5="","",G5-H5)
A6: =IF(MONTH($F$2+1)=4,$F$2+1,"") | B6: =IF(A6="","",A6) | G6: =IF(A6="","",IF(F6<>"",H6,IF(OR(C6="",D6=""),0,ROUND(MOD(D6-C6,1)*24-N(E6)/60,2)))) | H6: =IF(A6="","",IF(WEEKDAY(A6,2)>'Settings'!$B$6,0,'Settings'!$B$5)) | I6: =IF(A6="","",G6-H6)
A7: =IF(MONTH($F$2+2)=4,$F$2+2,"") | B7: =IF(A7="","",A7) | G7: =IF(A7="","",IF(F7<>"",H7,IF(OR(C7="",D7=""),0,ROUND(MOD(D7-C7,1)*24-N(E7)/60,2)))) | H7: =IF(A7="","",IF(WEEKDAY(A7,2)>'Settings'!$B$6,0,'Settings'!$B$5)) | I7: =IF(A7="","",G7-H7)
A8: =IF(MONTH($F$2+3)=4,$F$2+3,"") | B8: =IF(A8="","",A8) | G8: =IF(A8="","",IF(F8<>"",H8,IF(OR(C8="",D8=""),0,ROUND(MOD(D8-C8,1)*24-N(E8)/60,2)))) | H8: =IF(A8="","",IF(WEEKDAY(A8,2)>'Settings'!$B$6,0,'Settings'!$B$5)) | I8: =IF(A8="","",G8-H8)
A9: =IF(MONTH($F$2+4)=4,$F$2+4,"") | B9: =IF(A9="","",A9) | G9: =IF(A9="","",IF(F9<>"",H9,IF(OR(C9="",D9=""),0,ROUND(MOD(D9-C9,1)*24-N(E9)/60,2)))) | H9: =IF(A9="","",IF(WEEKDAY(A9,2)>'Settings'!$B$6,0,'Settings'!$B$5)) | I9: =IF(A9="","",G9-H9)
A10: =IF(MONTH($F$2+5)=4,$F$2+5,"") | B10: =IF(A10="","",A10) | G10: =IF(A10="","",IF(F10<>"",H10,IF(OR(C10="",D10=""),0,ROUND(MOD(D10-C10,1)*24-N(E10)/60,2)))) | H10: =IF(A10="","",IF(WEEKDAY(A10,2)>'Settings'!$B$6,0,'Settings'!$B$5)) | I10: =IF(A10="","",G10-H10)
A11: =IF(MONTH($F$2+6)=4,$F$2+6,"") | B11: =IF(A11="","",A11) | G11: =IF(A11="","",IF(F11<>"",H11,IF(OR(C11="",D11=""),0,ROUND(MOD(D11-C11,1)*24-N(E11)/60,2)))) | H11: =IF(A11="","",IF(WEEKDAY(A11,2)>'Settings'!$B$6,0,'Settings'!$B$5)) | I11: =IF(A11="","",G11-H11)
A12: =IF(MONTH($F$2+7)=4,$F$2+7,"") | B12: =IF(A12="","",A12) | G12: =IF(A12="","",IF(F12<>"",H12,IF(OR(C12="",D12=""),0,ROUND(MOD(D12-C12,1)*24-N(E12)/60,2)))) | H12: =IF(A12="","",IF(WEEKDAY(A12,2)>'Settings'!$B$6,0,'Settings'!$B$5)) | I12: =IF(A12="","",G12-H12)
A13: =IF(MONTH($F$2+8)=4,$F$2+8,"") | B13: =IF(A13="","",A13) | G13: =IF(A13="","",IF(F13<>"",H13,IF(OR(C13="",D13=""),0,ROUND(MOD(D13-C13,1)*24-N(E13)/60,2)))) | H13: =IF(A13="","",IF(WEEKDAY(A13,2)>'Settings'!$B$6,0,'Settings'!$B$5)) | I13: =IF(A13="","",G13-H13)
A14: =IF(MONTH($F$2+9)=4,$F$2+9,"") | B14: =IF(A14="","",A14) | G14: =IF(A14="","",IF(F14<>"",H14,IF(OR(C14="",D14=""),0,ROUND(MOD(D14-C14,1)*24-N(E14)/60,2)))) | H14: =IF(A14="","",IF(WEEKDAY(A14,2)>'Settings'!$B$6,0,'Settings'!$B$5)) | I14: =IF(A14="","",G14-H14)
A15: =IF(MONTH($F$2+10)=4,$F$2+10,"") | B15: =IF(A15="","",A15) | G15: =IF(A15="","",IF(F15<>"",H15,IF(OR(C15="",D15=""),0,ROUND(MOD(D15-C15,1)*24-N(E15)/60,2)))) | H15: =IF(A15="","",IF(WEEKDAY(A15,2)>'Settings'!$B$6,0,'Settings'!$B$5)) | I15: =IF(A15="","",G15-H15)
A16: =IF(MONTH($F$2+11)=4,$F$2+11,"") | B16: =IF(A16="","",A16) | G16: =IF(A16="","",IF(F16<>"",H16,IF(OR(C16="",D16=""),0,ROUND(MOD(D16-C16,1)*24-N(E16)/60,2)))) | H16: =IF(A16="","",IF(WEEKDAY(A16,2)>'Settings'!$B$6,0,'Settings'!$B$5)) | I16: =IF(A16="","",G16-H16)
A17: =IF(MONTH($F$2+12)=4,$F$2+12,"") | B17: =IF(A17="","",A17) | G17: =IF(A17="","",IF(F17<>"",H17,IF(OR(C17="",D17=""),0,ROUND(MOD(D17-C17,1)*24-N(E17)/60,2)))) | H17: =IF(A17="","",IF(WEEKDAY(A17,2)>'Settings'!$B$6,0,'Settings'!$B$5)) | I17: =IF(A17="","",G17-H17)
A18: =IF(MONTH($F$2+13)=4,$F$2+13,"") | B18: =IF(A18="","",A18) | G18: =IF(A18="","",IF(F18<>"",H18,IF(OR(C18="",D18=""),0,ROUND(MOD(D18-C18,1)*24-N(E18)/60,2)))) | H18: =IF(A18="","",IF(WEEKDAY(A18,2)>'Settings'!$B$6,0,'Settings'!$B$5)) | I18: =IF(A18="","",G18-H18)
A19: =IF(MONTH($F$2+14)=4,$F$2+14,"") | B19: =IF(A19="","",A19) | G19: =IF(A19="","",IF(F19<>"",H19,IF(OR(C19="",D19=""),0,ROUND(MOD(D19-C19,1)*24-N(E19)/60,2)))) | H19: =IF(A19="","",IF(WEEKDAY(A19,2)>'Settings'!$B$6,0,'Settings'!$B$5)) | I19: =IF(A19="","",G19-H19)
A20: =IF(MONTH($F$2+15)=4,$F$2+15,"") | B20: =IF(A20="","",A20) | G20: =IF(A20="","",IF(F20<>"",H20,IF(OR(C20="",D20=""),0,ROUND(MOD(D20-C20,1)*24-N(E20)/60,2)))) | H20: =IF(A20="","",IF(WEEKDAY(A20,2)>'Settings'!$B$6,0,'Settings'!$B$5)) | I20: =IF(A20="","",G20-H20)
A21: =IF(MONTH($F$2+16)=4,$F$2+16,"") | B21: =IF(A21="","",A21) | G21: =IF(A21="","",IF(F21<>"",H21,IF(OR(C21="",D21=""),0,ROUND(MOD(D21-C21,1)*24-N(E21)/60,2)))) | H21: =IF(A21="","",IF(WEEKDAY(A21,2)>'Settings'!$B$6,0,'Settings'!$B$5)) | I21: =IF(A21="","",G21-H21)
A22: =IF(MONTH($F$2+17)=4,$F$2+17,"") | B22: =IF(A22="","",A22) | G22: =IF(A22="","",IF(F22<>"",H22,IF(OR(C22="",D22=""),0,ROUND(MOD(D22-C22,1)*24-N(E22)/60,2)))) | H22: =IF(A22="","",IF(WEEKDAY(A22,2)>'Settings'!$B$6,0,'Settings'!$B$5)) | I22: =IF(A22="","",G22-H22)
A23: =IF(MONTH($F$2+18)=4,$F$2+18,"") | B23: =IF(A23="","",A23) | G23: =IF(A23="","",IF(F23<>"",H23,IF(OR(C23="",D23=""),0,ROUND(MOD(D23-C23,1)*24-N(E23)/60,2)))) | H23: =IF(A23="","",IF(WEEKDAY(A23,2)>'Settings'!$B$6,0,'Settings'!$B$5)) | I23: =IF(A23="","",G23-H23)
A24: =IF(MONTH($F$2+19)=4,$F$2+19,"") | B24: =IF(A24="","",A24) | G24: =IF(A24="","",IF(F24<>"",H24,IF(OR(C24="",D24=""),0,ROUND(MOD(D24-C24,1)*24-N(E24)/60,2)))) | H24: =IF(A24="","",IF(WEEKDAY(A24,2)>'Settings'!$B$6,0,'Settings'!$B$5)) | I24: =IF(A24="","",G24-H24)
A25: =IF(MONTH($F$2+20)=4,$F$2+20,"") | B25: =IF(A25="","",A25) | G25: =IF(A25="","",IF(F25<>"",H25,IF(OR(C25="",D25=""),0,ROUND(MOD(D25-C25,1)*24-N(E25)/60,2)))) | H25: =IF(A25="","",IF(WEEKDAY(A25,2)>'Settings'!$B$6,0,'Settings'!$B$5)) | I25: =IF(A25="","",G25-H25)
A26: =IF(MONTH($F$2+21)=4,$F$2+21,"") | B26: =IF(A26="","",A26) | G26: =IF(A26="","",IF(F26<>"",H26,IF(OR(C26="",D26=""),0,ROUND(MOD(D26-C26,1)*24-N(E26)/60,2)))) | H26: =IF(A26="","",IF(WEEKDAY(A26,2)>'Settings'!$B$6,0,'Settings'!$B$5)) | I26: =IF(A26="","",G26-H26)
A27: =IF(MONTH($F$2+22)=4,$F$2+22,"") | B27: =IF(A27="","",A27) | G27: =IF(A27="","",IF(F27<>"",H27,IF(OR(C27="",D27=""),0,ROUND(MOD(D27-C27,1)*24-N(E27)/60,2)))) | H27: =IF(A27="","",IF(WEEKDAY(A27,2)>'Settings'!$B$6,0,'Settings'!$B$5)) | I27: =IF(A27="","",G27-H27)
A28: =IF(MONTH($F$2+23)=4,$F$2+23,"") | B28: =IF(A28="","",A28) | G28: =IF(A28="","",IF(F28<>"",H28,IF(OR(C28="",D28=""),0,ROUND(MOD(D28-C28,1)*24-N(E28)/60,2)))) | H28: =IF(A28="","",IF(WEEKDAY(A28,2)>'Settings'!$B$6,0,'Settings'!$B$5)) | I28: =IF(A28="","",G28-H28)
A29: =IF(MONTH($F$2+24)=4,$F$2+24,"") | B29: =IF(A29="","",A29) | G29: =IF(A29="","",IF(F29<>"",H29,IF(OR(C29="",D29=""),0,ROUND(MOD(D29-C29,1)*24-N(E29)/60,2)))) | H29: =IF(A29="","",IF(WEEKDAY(A29,2)>'Settings'!$B$6,0,'Settings'!$B$5)) | I29: =IF(A29="","",G29-H29)
A30: =IF(MONTH($F$2+25)=4,$F$2+25,"") | B30: =IF(A30="","",A30) | G30: =IF(A30="","",IF(F30<>"",H30,IF(OR(C30="",D30=""),0,ROUND(MOD(D30-C30,1)*24-N(E30)/60,2)))) | H30: =IF(A30="","",IF(WEEKDAY(A30,2)>'Settings'!$B$6,0,'Settings'!$B$5)) | I30: =IF(A30="","",G30-H30)
A31: =IF(MONTH($F$2+26)=4,$F$2+26,"") | B31: =IF(A31="","",A31) | G31: =IF(A31="","",IF(F31<>"",H31,IF(OR(C31="",D31=""),0,ROUND(MOD(D31-C31,1)*24-N(E31)/60,2)))) | H31: =IF(A31="","",IF(WEEKDAY(A31,2)>'Settings'!$B$6,0,'Settings'!$B$5)) | I31: =IF(A31="","",G31-H31)
A32: =IF(MONTH($F$2+27)=4,$F$2+27,"") | B32: =IF(A32="","",A32) | G32: =IF(A32="","",IF(F32<>"",H32,IF(OR(C32="",D32=""),0,ROUND(MOD(D32-C32,1)*24-N(E32)/60,2)))) | H32: =IF(A32="","",IF(WEEKDAY(A32,2)>'Settings'!$B$6,0,'Settings'!$B$5)) | I32: =IF(A32="","",G32-H32)
A33: =IF(MONTH($F$2+28)=4,$F$2+28,"") | B33: =IF(A33="","",A33) | G33: =IF(A33="","",IF(F33<>"",H33,IF(OR(C33="",D33=""),0,ROUND(MOD(D33-C33,1)*24-N(E33)/60,2)))) | H33: =IF(A33="","",IF(WEEKDAY(A33,2)>'Settings'!$B$6,0,'Settings'!$B$5)) | I33: =IF(A33="","",G33-H33)
A34: =IF(MONTH($F$2+29)=4,$F$2+29,"") | B34: =IF(A34="","",A34) | G34: =IF(A34="","",IF(F34<>"",H34,IF(OR(C34="",D34=""),0,ROUND(MOD(D34-C34,1)*24-N(E34)/60,2)))) | H34: =IF(A34="","",IF(WEEKDAY(A34,2)>'Settings'!$B$6,0,'Settings'!$B$5)) | I34: =IF(A34="","",G34-H34)
A35: =IF(MONTH($F$2+30)=4,$F$2+30,"") | B35: =IF(A35="","",A35) | G35: =IF(A35="","",IF(F35<>"",H35,IF(OR(C35="",D35=""),0,ROUND(MOD(D35-C35,1)*24-N(E35)/60,2)))) | H35: =IF(A35="","",IF(WEEKDAY(A35,2)>'Settings'!$B$6,0,'Settings'!$B$5)) | I35: =IF(A35="","",G35-H35)
F37: Total | G37: =SUM(G5:G35) | H37: =SUM(H5:H35) | I37: =SUM(I5:I35)
A39: Orange break = shorter than the legal minimum (Swiss Labour Act, art. 15): 15 min from 5.5 h, 30 min from 7 h, 60 min from 9 h.

Sheet May
A1: Time sheet – May
A2: ='Settings'!B3 | D2: Month | F2: =DATE('Settings'!B4,5,1)
A4: Date | B4: Day | C4: Start | D4: End | E4: Break (min) | F4: Absence | G4: Hours worked | H4: Target (h) | I4: Balance (h) | J4: Project / client | K4: Note
A5: =IF(MONTH($F$2+0)=5,$F$2+0,"") | B5: =IF(A5="","",A5) | G5: =IF(A5="","",IF(F5<>"",H5,IF(OR(C5="",D5=""),0,ROUND(MOD(D5-C5,1)*24-N(E5)/60,2)))) | H5: =IF(A5="","",IF(WEEKDAY(A5,2)>'Settings'!$B$6,0,'Settings'!$B$5)) | I5: =IF(A5="","",G5-H5)
A6: =IF(MONTH($F$2+1)=5,$F$2+1,"") | B6: =IF(A6="","",A6) | G6: =IF(A6="","",IF(F6<>"",H6,IF(OR(C6="",D6=""),0,ROUND(MOD(D6-C6,1)*24-N(E6)/60,2)))) | H6: =IF(A6="","",IF(WEEKDAY(A6,2)>'Settings'!$B$6,0,'Settings'!$B$5)) | I6: =IF(A6="","",G6-H6)
A7: =IF(MONTH($F$2+2)=5,$F$2+2,"") | B7: =IF(A7="","",A7) | G7: =IF(A7="","",IF(F7<>"",H7,IF(OR(C7="",D7=""),0,ROUND(MOD(D7-C7,1)*24-N(E7)/60,2)))) | H7: =IF(A7="","",IF(WEEKDAY(A7,2)>'Settings'!$B$6,0,'Settings'!$B$5)) | I7: =IF(A7="","",G7-H7)
A8: =IF(MONTH($F$2+3)=5,$F$2+3,"") | B8: =IF(A8="","",A8) | G8: =IF(A8="","",IF(F8<>"",H8,IF(OR(C8="",D8=""),0,ROUND(MOD(D8-C8,1)*24-N(E8)/60,2)))) | H8: =IF(A8="","",IF(WEEKDAY(A8,2)>'Settings'!$B$6,0,'Settings'!$B$5)) | I8: =IF(A8="","",G8-H8)
A9: =IF(MONTH($F$2+4)=5,$F$2+4,"") | B9: =IF(A9="","",A9) | G9: =IF(A9="","",IF(F9<>"",H9,IF(OR(C9="",D9=""),0,ROUND(MOD(D9-C9,1)*24-N(E9)/60,2)))) | H9: =IF(A9="","",IF(WEEKDAY(A9,2)>'Settings'!$B$6,0,'Settings'!$B$5)) | I9: =IF(A9="","",G9-H9)
A10: =IF(MONTH($F$2+5)=5,$F$2+5,"") | B10: =IF(A10="","",A10) | G10: =IF(A10="","",IF(F10<>"",H10,IF(OR(C10="",D10=""),0,ROUND(MOD(D10-C10,1)*24-N(E10)/60,2)))) | H10: =IF(A10="","",IF(WEEKDAY(A10,2)>'Settings'!$B$6,0,'Settings'!$B$5)) | I10: =IF(A10="","",G10-H10)
A11: =IF(MONTH($F$2+6)=5,$F$2+6,"") | B11: =IF(A11="","",A11) | G11: =IF(A11="","",IF(F11<>"",H11,IF(OR(C11="",D11=""),0,ROUND(MOD(D11-C11,1)*24-N(E11)/60,2)))) | H11: =IF(A11="","",IF(WEEKDAY(A11,2)>'Settings'!$B$6,0,'Settings'!$B$5)) | I11: =IF(A11="","",G11-H11)
A12: =IF(MONTH($F$2+7)=5,$F$2+7,"") | B12: =IF(A12="","",A12) | G12: =IF(A12="","",IF(F12<>"",H12,IF(OR(C12="",D12=""),0,ROUND(MOD(D12-C12,1)*24-N(E12)/60,2)))) | H12: =IF(A12="","",IF(WEEKDAY(A12,2)>'Settings'!$B$6,0,'Settings'!$B$5)) | I12: =IF(A12="","",G12-H12)
A13: =IF(MONTH($F$2+8)=5,$F$2+8,"") | B13: =IF(A13="","",A13) | G13: =IF(A13="","",IF(F13<>"",H13,IF(OR(C13="",D13=""),0,ROUND(MOD(D13-C13,1)*24-N(E13)/60,2)))) | H13: =IF(A13="","",IF(WEEKDAY(A13,2)>'Settings'!$B$6,0,'Settings'!$B$5)) | I13: =IF(A13="","",G13-H13)
A14: =IF(MONTH($F$2+9)=5,$F$2+9,"") | B14: =IF(A14="","",A14) | G14: =IF(A14="","",IF(F14<>"",H14,IF(OR(C14="",D14=""),0,ROUND(MOD(D14-C14,1)*24-N(E14)/60,2)))) | H14: =IF(A14="","",IF(WEEKDAY(A14,2)>'Settings'!$B$6,0,'Settings'!$B$5)) | I14: =IF(A14="","",G14-H14)
A15: =IF(MONTH($F$2+10)=5,$F$2+10,"") | B15: =IF(A15="","",A15) | G15: =IF(A15="","",IF(F15<>"",H15,IF(OR(C15="",D15=""),0,ROUND(MOD(D15-C15,1)*24-N(E15)/60,2)))) | H15: =IF(A15="","",IF(WEEKDAY(A15,2)>'Settings'!$B$6,0,'Settings'!$B$5)) | I15: =IF(A15="","",G15-H15)
A16: =IF(MONTH($F$2+11)=5,$F$2+11,"") | B16: =IF(A16="","",A16) | G16: =IF(A16="","",IF(F16<>"",H16,IF(OR(C16="",D16=""),0,ROUND(MOD(D16-C16,1)*24-N(E16)/60,2)))) | H16: =IF(A16="","",IF(WEEKDAY(A16,2)>'Settings'!$B$6,0,'Settings'!$B$5)) | I16: =IF(A16="","",G16-H16)
A17: =IF(MONTH($F$2+12)=5,$F$2+12,"") | B17: =IF(A17="","",A17) | G17: =IF(A17="","",IF(F17<>"",H17,IF(OR(C17="",D17=""),0,ROUND(MOD(D17-C17,1)*24-N(E17)/60,2)))) | H17: =IF(A17="","",IF(WEEKDAY(A17,2)>'Settings'!$B$6,0,'Settings'!$B$5)) | I17: =IF(A17="","",G17-H17)
A18: =IF(MONTH($F$2+13)=5,$F$2+13,"") | B18: =IF(A18="","",A18) | G18: =IF(A18="","",IF(F18<>"",H18,IF(OR(C18="",D18=""),0,ROUND(MOD(D18-C18,1)*24-N(E18)/60,2)))) | H18: =IF(A18="","",IF(WEEKDAY(A18,2)>'Settings'!$B$6,0,'Settings'!$B$5)) | I18: =IF(A18="","",G18-H18)
A19: =IF(MONTH($F$2+14)=5,$F$2+14,"") | B19: =IF(A19="","",A19) | G19: =IF(A19="","",IF(F19<>"",H19,IF(OR(C19="",D19=""),0,ROUND(MOD(D19-C19,1)*24-N(E19)/60,2)))) | H19: =IF(A19="","",IF(WEEKDAY(A19,2)>'Settings'!$B$6,0,'Settings'!$B$5)) | I19: =IF(A19="","",G19-H19)
A20: =IF(MONTH($F$2+15)=5,$F$2+15,"") | B20: =IF(A20="","",A20) | G20: =IF(A20="","",IF(F20<>"",H20,IF(OR(C20="",D20=""),0,ROUND(MOD(D20-C20,1)*24-N(E20)/60,2)))) | H20: =IF(A20="","",IF(WEEKDAY(A20,2)>'Settings'!$B$6,0,'Settings'!$B$5)) | I20: =IF(A20="","",G20-H20)
A21: =IF(MONTH($F$2+16)=5,$F$2+16,"") | B21: =IF(A21="","",A21) | G21: =IF(A21="","",IF(F21<>"",H21,IF(OR(C21="",D21=""),0,ROUND(MOD(D21-C21,1)*24-N(E21)/60,2)))) | H21: =IF(A21="","",IF(WEEKDAY(A21,2)>'Settings'!$B$6,0,'Settings'!$B$5)) | I21: =IF(A21="","",G21-H21)
A22: =IF(MONTH($F$2+17)=5,$F$2+17,"") | B22: =IF(A22="","",A22) | G22: =IF(A22="","",IF(F22<>"",H22,IF(OR(C22="",D22=""),0,ROUND(MOD(D22-C22,1)*24-N(E22)/60,2)))) | H22: =IF(A22="","",IF(WEEKDAY(A22,2)>'Settings'!$B$6,0,'Settings'!$B$5)) | I22: =IF(A22="","",G22-H22)
A23: =IF(MONTH($F$2+18)=5,$F$2+18,"") | B23: =IF(A23="","",A23) | G23: =IF(A23="","",IF(F23<>"",H23,IF(OR(C23="",D23=""),0,ROUND(MOD(D23-C23,1)*24-N(E23)/60,2)))) | H23: =IF(A23="","",IF(WEEKDAY(A23,2)>'Settings'!$B$6,0,'Settings'!$B$5)) | I23: =IF(A23="","",G23-H23)
A24: =IF(MONTH($F$2+19)=5,$F$2+19,"") | B24: =IF(A24="","",A24) | G24: =IF(A24="","",IF(F24<>"",H24,IF(OR(C24="",D24=""),0,ROUND(MOD(D24-C24,1)*24-N(E24)/60,2)))) | H24: =IF(A24="","",IF(WEEKDAY(A24,2)>'Settings'!$B$6,0,'Settings'!$B$5)) | I24: =IF(A24="","",G24-H24)
A25: =IF(MONTH($F$2+20)=5,$F$2+20,"") | B25: =IF(A25="","",A25) | G25: =IF(A25="","",IF(F25<>"",H25,IF(OR(C25="",D25=""),0,ROUND(MOD(D25-C25,1)*24-N(E25)/60,2)))) | H25: =IF(A25="","",IF(WEEKDAY(A25,2)>'Settings'!$B$6,0,'Settings'!$B$5)) | I25: =IF(A25="","",G25-H25)
A26: =IF(MONTH($F$2+21)=5,$F$2+21,"") | B26: =IF(A26="","",A26) | G26: =IF(A26="","",IF(F26<>"",H26,IF(OR(C26="",D26=""),0,ROUND(MOD(D26-C26,1)*24-N(E26)/60,2)))) | H26: =IF(A26="","",IF(WEEKDAY(A26,2)>'Settings'!$B$6,0,'Settings'!$B$5)) | I26: =IF(A26="","",G26-H26)
A27: =IF(MONTH($F$2+22)=5,$F$2+22,"") | B27: =IF(A27="","",A27) | G27: =IF(A27="","",IF(F27<>"",H27,IF(OR(C27="",D27=""),0,ROUND(MOD(D27-C27,1)*24-N(E27)/60,2)))) | H27: =IF(A27="","",IF(WEEKDAY(A27,2)>'Settings'!$B$6,0,'Settings'!$B$5)) | I27: =IF(A27="","",G27-H27)
A28: =IF(MONTH($F$2+23)=5,$F$2+23,"") | B28: =IF(A28="","",A28) | G28: =IF(A28="","",IF(F28<>"",H28,IF(OR(C28="",D28=""),0,ROUND(MOD(D28-C28,1)*24-N(E28)/60,2)))) | H28: =IF(A28="","",IF(WEEKDAY(A28,2)>'Settings'!$B$6,0,'Settings'!$B$5)) | I28: =IF(A28="","",G28-H28)
A29: =IF(MONTH($F$2+24)=5,$F$2+24,"") | B29: =IF(A29="","",A29) | G29: =IF(A29="","",IF(F29<>"",H29,IF(OR(C29="",D29=""),0,ROUND(MOD(D29-C29,1)*24-N(E29)/60,2)))) | H29: =IF(A29="","",IF(WEEKDAY(A29,2)>'Settings'!$B$6,0,'Settings'!$B$5)) | I29: =IF(A29="","",G29-H29)
A30: =IF(MONTH($F$2+25)=5,$F$2+25,"") | B30: =IF(A30="","",A30) | G30: =IF(A30="","",IF(F30<>"",H30,IF(OR(C30="",D30=""),0,ROUND(MOD(D30-C30,1)*24-N(E30)/60,2)))) | H30: =IF(A30="","",IF(WEEKDAY(A30,2)>'Settings'!$B$6,0,'Settings'!$B$5)) | I30: =IF(A30="","",G30-H30)
A31: =IF(MONTH($F$2+26)=5,$F$2+26,"") | B31: =IF(A31="","",A31) | G31: =IF(A31="","",IF(F31<>"",H31,IF(OR(C31="",D31=""),0,ROUND(MOD(D31-C31,1)*24-N(E31)/60,2)))) | H31: =IF(A31="","",IF(WEEKDAY(A31,2)>'Settings'!$B$6,0,'Settings'!$B$5)) | I31: =IF(A31="","",G31-H31)
A32: =IF(MONTH($F$2+27)=5,$F$2+27,"") | B32: =IF(A32="","",A32) | G32: =IF(A32="","",IF(F32<>"",H32,IF(OR(C32="",D32=""),0,ROUND(MOD(D32-C32,1)*24-N(E32)/60,2)))) | H32: =IF(A32="","",IF(WEEKDAY(A32,2)>'Settings'!$B$6,0,'Settings'!$B$5)) | I32: =IF(A32="","",G32-H32)
A33: =IF(MONTH($F$2+28)=5,$F$2+28,"") | B33: =IF(A33="","",A33) | G33: =IF(A33="","",IF(F33<>"",H33,IF(OR(C33="",D33=""),0,ROUND(MOD(D33-C33,1)*24-N(E33)/60,2)))) | H33: =IF(A33="","",IF(WEEKDAY(A33,2)>'Settings'!$B$6,0,'Settings'!$B$5)) | I33: =IF(A33="","",G33-H33)
A34: =IF(MONTH($F$2+29)=5,$F$2+29,"") | B34: =IF(A34="","",A34) | G34: =IF(A34="","",IF(F34<>"",H34,IF(OR(C34="",D34=""),0,ROUND(MOD(D34-C34,1)*24-N(E34)/60,2)))) | H34: =IF(A34="","",IF(WEEKDAY(A34,2)>'Settings'!$B$6,0,'Settings'!$B$5)) | I34: =IF(A34="","",G34-H34)
A35: =IF(MONTH($F$2+30)=5,$F$2+30,"") | B35: =IF(A35="","",A35) | G35: =IF(A35="","",IF(F35<>"",H35,IF(OR(C35="",D35=""),0,ROUND(MOD(D35-C35,1)*24-N(E35)/60,2)))) | H35: =IF(A35="","",IF(WEEKDAY(A35,2)>'Settings'!$B$6,0,'Settings'!$B$5)) | I35: =IF(A35="","",G35-H35)
F37: Total | G37: =SUM(G5:G35) | H37: =SUM(H5:H35) | I37: =SUM(I5:I35)
A39: Orange break = shorter than the legal minimum (Swiss Labour Act, art. 15): 15 min from 5.5 h, 30 min from 7 h, 60 min from 9 h.

Sheet Jun
A1: Time sheet – Jun
A2: ='Settings'!B3 | D2: Month | F2: =DATE('Settings'!B4,6,1)
A4: Date | B4: Day | C4: Start | D4: End | E4: Break (min) | F4: Absence | G4: Hours worked | H4: Target (h) | I4: Balance (h) | J4: Project / client | K4: Note
A5: =IF(MONTH($F$2+0)=6,$F$2+0,"") | B5: =IF(A5="","",A5) | G5: =IF(A5="","",IF(F5<>"",H5,IF(OR(C5="",D5=""),0,ROUND(MOD(D5-C5,1)*24-N(E5)/60,2)))) | H5: =IF(A5="","",IF(WEEKDAY(A5,2)>'Settings'!$B$6,0,'Settings'!$B$5)) | I5: =IF(A5="","",G5-H5)
A6: =IF(MONTH($F$2+1)=6,$F$2+1,"") | B6: =IF(A6="","",A6) | G6: =IF(A6="","",IF(F6<>"",H6,IF(OR(C6="",D6=""),0,ROUND(MOD(D6-C6,1)*24-N(E6)/60,2)))) | H6: =IF(A6="","",IF(WEEKDAY(A6,2)>'Settings'!$B$6,0,'Settings'!$B$5)) | I6: =IF(A6="","",G6-H6)
A7: =IF(MONTH($F$2+2)=6,$F$2+2,"") | B7: =IF(A7="","",A7) | G7: =IF(A7="","",IF(F7<>"",H7,IF(OR(C7="",D7=""),0,ROUND(MOD(D7-C7,1)*24-N(E7)/60,2)))) | H7: =IF(A7="","",IF(WEEKDAY(A7,2)>'Settings'!$B$6,0,'Settings'!$B$5)) | I7: =IF(A7="","",G7-H7)
A8: =IF(MONTH($F$2+3)=6,$F$2+3,"") | B8: =IF(A8="","",A8) | G8: =IF(A8="","",IF(F8<>"",H8,IF(OR(C8="",D8=""),0,ROUND(MOD(D8-C8,1)*24-N(E8)/60,2)))) | H8: =IF(A8="","",IF(WEEKDAY(A8,2)>'Settings'!$B$6,0,'Settings'!$B$5)) | I8: =IF(A8="","",G8-H8)
A9: =IF(MONTH($F$2+4)=6,$F$2+4,"") | B9: =IF(A9="","",A9) | G9: =IF(A9="","",IF(F9<>"",H9,IF(OR(C9="",D9=""),0,ROUND(MOD(D9-C9,1)*24-N(E9)/60,2)))) | H9: =IF(A9="","",IF(WEEKDAY(A9,2)>'Settings'!$B$6,0,'Settings'!$B$5)) | I9: =IF(A9="","",G9-H9)
A10: =IF(MONTH($F$2+5)=6,$F$2+5,"") | B10: =IF(A10="","",A10) | G10: =IF(A10="","",IF(F10<>"",H10,IF(OR(C10="",D10=""),0,ROUND(MOD(D10-C10,1)*24-N(E10)/60,2)))) | H10: =IF(A10="","",IF(WEEKDAY(A10,2)>'Settings'!$B$6,0,'Settings'!$B$5)) | I10: =IF(A10="","",G10-H10)
A11: =IF(MONTH($F$2+6)=6,$F$2+6,"") | B11: =IF(A11="","",A11) | G11: =IF(A11="","",IF(F11<>"",H11,IF(OR(C11="",D11=""),0,ROUND(MOD(D11-C11,1)*24-N(E11)/60,2)))) | H11: =IF(A11="","",IF(WEEKDAY(A11,2)>'Settings'!$B$6,0,'Settings'!$B$5)) | I11: =IF(A11="","",G11-H11)
A12: =IF(MONTH($F$2+7)=6,$F$2+7,"") | B12: =IF(A12="","",A12) | G12: =IF(A12="","",IF(F12<>"",H12,IF(OR(C12="",D12=""),0,ROUND(MOD(D12-C12,1)*24-N(E12)/60,2)))) | H12: =IF(A12="","",IF(WEEKDAY(A12,2)>'Settings'!$B$6,0,'Settings'!$B$5)) | I12: =IF(A12="","",G12-H12)
A13: =IF(MONTH($F$2+8)=6,$F$2+8,"") | B13: =IF(A13="","",A13) | G13: =IF(A13="","",IF(F13<>"",H13,IF(OR(C13="",D13=""),0,ROUND(MOD(D13-C13,1)*24-N(E13)/60,2)))) | H13: =IF(A13="","",IF(WEEKDAY(A13,2)>'Settings'!$B$6,0,'Settings'!$B$5)) | I13: =IF(A13="","",G13-H13)
A14: =IF(MONTH($F$2+9)=6,$F$2+9,"") | B14: =IF(A14="","",A14) | G14: =IF(A14="","",IF(F14<>"",H14,IF(OR(C14="",D14=""),0,ROUND(MOD(D14-C14,1)*24-N(E14)/60,2)))) | H14: =IF(A14="","",IF(WEEKDAY(A14,2)>'Settings'!$B$6,0,'Settings'!$B$5)) | I14: =IF(A14="","",G14-H14)
A15: =IF(MONTH($F$2+10)=6,$F$2+10,"") | B15: =IF(A15="","",A15) | G15: =IF(A15="","",IF(F15<>"",H15,IF(OR(C15="",D15=""),0,ROUND(MOD(D15-C15,1)*24-N(E15)/60,2)))) | H15: =IF(A15="","",IF(WEEKDAY(A15,2)>'Settings'!$B$6,0,'Settings'!$B$5)) | I15: =IF(A15="","",G15-H15)
A16: =IF(MONTH($F$2+11)=6,$F$2+11,"") | B16: =IF(A16="","",A16) | G16: =IF(A16="","",IF(F16<>"",H16,IF(OR(C16="",D16=""),0,ROUND(MOD(D16-C16,1)*24-N(E16)/60,2)))) | H16: =IF(A16="","",IF(WEEKDAY(A16,2)>'Settings'!$B$6,0,'Settings'!$B$5)) | I16: =IF(A16="","",G16-H16)
A17: =IF(MONTH($F$2+12)=6,$F$2+12,"") | B17: =IF(A17="","",A17) | G17: =IF(A17="","",IF(F17<>"",H17,IF(OR(C17="",D17=""),0,ROUND(MOD(D17-C17,1)*24-N(E17)/60,2)))) | H17: =IF(A17="","",IF(WEEKDAY(A17,2)>'Settings'!$B$6,0,'Settings'!$B$5)) | I17: =IF(A17="","",G17-H17)
A18: =IF(MONTH($F$2+13)=6,$F$2+13,"") | B18: =IF(A18="","",A18) | G18: =IF(A18="","",IF(F18<>"",H18,IF(OR(C18="",D18=""),0,ROUND(MOD(D18-C18,1)*24-N(E18)/60,2)))) | H18: =IF(A18="","",IF(WEEKDAY(A18,2)>'Settings'!$B$6,0,'Settings'!$B$5)) | I18: =IF(A18="","",G18-H18)
A19: =IF(MONTH($F$2+14)=6,$F$2+14,"") | B19: =IF(A19="","",A19) | G19: =IF(A19="","",IF(F19<>"",H19,IF(OR(C19="",D19=""),0,ROUND(MOD(D19-C19,1)*24-N(E19)/60,2)))) | H19: =IF(A19="","",IF(WEEKDAY(A19,2)>'Settings'!$B$6,0,'Settings'!$B$5)) | I19: =IF(A19="","",G19-H19)
A20: =IF(MONTH($F$2+15)=6,$F$2+15,"") | B20: =IF(A20="","",A20) | G20: =IF(A20="","",IF(F20<>"",H20,IF(OR(C20="",D20=""),0,ROUND(MOD(D20-C20,1)*24-N(E20)/60,2)))) | H20: =IF(A20="","",IF(WEEKDAY(A20,2)>'Settings'!$B$6,0,'Settings'!$B$5)) | I20: =IF(A20="","",G20-H20)
A21: =IF(MONTH($F$2+16)=6,$F$2+16,"") | B21: =IF(A21="","",A21) | G21: =IF(A21="","",IF(F21<>"",H21,IF(OR(C21="",D21=""),0,ROUND(MOD(D21-C21,1)*24-N(E21)/60,2)))) | H21: =IF(A21="","",IF(WEEKDAY(A21,2)>'Settings'!$B$6,0,'Settings'!$B$5)) | I21: =IF(A21="","",G21-H21)
A22: =IF(MONTH($F$2+17)=6,$F$2+17,"") | B22: =IF(A22="","",A22) | G22: =IF(A22="","",IF(F22<>"",H22,IF(OR(C22="",D22=""),0,ROUND(MOD(D22-C22,1)*24-N(E22)/60,2)))) | H22: =IF(A22="","",IF(WEEKDAY(A22,2)>'Settings'!$B$6,0,'Settings'!$B$5)) | I22: =IF(A22="","",G22-H22)
A23: =IF(MONTH($F$2+18)=6,$F$2+18,"") | B23: =IF(A23="","",A23) | G23: =IF(A23="","",IF(F23<>"",H23,IF(OR(C23="",D23=""),0,ROUND(MOD(D23-C23,1)*24-N(E23)/60,2)))) | H23: =IF(A23="","",IF(WEEKDAY(A23,2)>'Settings'!$B$6,0,'Settings'!$B$5)) | I23: =IF(A23="","",G23-H23)
A24: =IF(MONTH($F$2+19)=6,$F$2+19,"") | B24: =IF(A24="","",A24) | G24: =IF(A24="","",IF(F24<>"",H24,IF(OR(C24="",D24=""),0,ROUND(MOD(D24-C24,1)*24-N(E24)/60,2)))) | H24: =IF(A24="","",IF(WEEKDAY(A24,2)>'Settings'!$B$6,0,'Settings'!$B$5)) | I24: =IF(A24="","",G24-H24)
A25: =IF(MONTH($F$2+20)=6,$F$2+20,"") | B25: =IF(A25="","",A25) | G25: =IF(A25="","",IF(F25<>"",H25,IF(OR(C25="",D25=""),0,ROUND(MOD(D25-C25,1)*24-N(E25)/60,2)))) | H25: =IF(A25="","",IF(WEEKDAY(A25,2)>'Settings'!$B$6,0,'Settings'!$B$5)) | I25: =IF(A25="","",G25-H25)
A26: =IF(MONTH($F$2+21)=6,$F$2+21,"") | B26: =IF(A26="","",A26) | G26: =IF(A26="","",IF(F26<>"",H26,IF(OR(C26="",D26=""),0,ROUND(MOD(D26-C26,1)*24-N(E26)/60,2)))) | H26: =IF(A26="","",IF(WEEKDAY(A26,2)>'Settings'!$B$6,0,'Settings'!$B$5)) | I26: =IF(A26="","",G26-H26)
A27: =IF(MONTH($F$2+22)=6,$F$2+22,"") | B27: =IF(A27="","",A27) | G27: =IF(A27="","",IF(F27<>"",H27,IF(OR(C27="",D27=""),0,ROUND(MOD(D27-C27,1)*24-N(E27)/60,2)))) | H27: =IF(A27="","",IF(WEEKDAY(A27,2)>'Settings'!$B$6,0,'Settings'!$B$5)) | I27: =IF(A27="","",G27-H27)
A28: =IF(MONTH($F$2+23)=6,$F$2+23,"") | B28: =IF(A28="","",A28) | G28: =IF(A28="","",IF(F28<>"",H28,IF(OR(C28="",D28=""),0,ROUND(MOD(D28-C28,1)*24-N(E28)/60,2)))) | H28: =IF(A28="","",IF(WEEKDAY(A28,2)>'Settings'!$B$6,0,'Settings'!$B$5)) | I28: =IF(A28="","",G28-H28)
A29: =IF(MONTH($F$2+24)=6,$F$2+24,"") | B29: =IF(A29="","",A29) | G29: =IF(A29="","",IF(F29<>"",H29,IF(OR(C29="",D29=""),0,ROUND(MOD(D29-C29,1)*24-N(E29)/60,2)))) | H29: =IF(A29="","",IF(WEEKDAY(A29,2)>'Settings'!$B$6,0,'Settings'!$B$5)) | I29: =IF(A29="","",G29-H29)
A30: =IF(MONTH($F$2+25)=6,$F$2+25,"") | B30: =IF(A30="","",A30) | G30: =IF(A30="","",IF(F30<>"",H30,IF(OR(C30="",D30=""),0,ROUND(MOD(D30-C30,1)*24-N(E30)/60,2)))) | H30: =IF(A30="","",IF(WEEKDAY(A30,2)>'Settings'!$B$6,0,'Settings'!$B$5)) | I30: =IF(A30="","",G30-H30)
A31: =IF(MONTH($F$2+26)=6,$F$2+26,"") | B31: =IF(A31="","",A31) | G31: =IF(A31="","",IF(F31<>"",H31,IF(OR(C31="",D31=""),0,ROUND(MOD(D31-C31,1)*24-N(E31)/60,2)))) | H31: =IF(A31="","",IF(WEEKDAY(A31,2)>'Settings'!$B$6,0,'Settings'!$B$5)) | I31: =IF(A31="","",G31-H31)
A32: =IF(MONTH($F$2+27)=6,$F$2+27,"") | B32: =IF(A32="","",A32) | G32: =IF(A32="","",IF(F32<>"",H32,IF(OR(C32="",D32=""),0,ROUND(MOD(D32-C32,1)*24-N(E32)/60,2)))) | H32: =IF(A32="","",IF(WEEKDAY(A32,2)>'Settings'!$B$6,0,'Settings'!$B$5)) | I32: =IF(A32="","",G32-H32)
A33: =IF(MONTH($F$2+28)=6,$F$2+28,"") | B33: =IF(A33="","",A33) | G33: =IF(A33="","",IF(F33<>"",H33,IF(OR(C33="",D33=""),0,ROUND(MOD(D33-C33,1)*24-N(E33)/60,2)))) | H33: =IF(A33="","",IF(WEEKDAY(A33,2)>'Settings'!$B$6,0,'Settings'!$B$5)) | I33: =IF(A33="","",G33-H33)
A34: =IF(MONTH($F$2+29)=6,$F$2+29,"") | B34: =IF(A34="","",A34) | G34: =IF(A34="","",IF(F34<>"",H34,IF(OR(C34="",D34=""),0,ROUND(MOD(D34-C34,1)*24-N(E34)/60,2)))) | H34: =IF(A34="","",IF(WEEKDAY(A34,2)>'Settings'!$B$6,0,'Settings'!$B$5)) | I34: =IF(A34="","",G34-H34)
A35: =IF(MONTH($F$2+30)=6,$F$2+30,"") | B35: =IF(A35="","",A35) | G35: =IF(A35="","",IF(F35<>"",H35,IF(OR(C35="",D35=""),0,ROUND(MOD(D35-C35,1)*24-N(E35)/60,2)))) | H35: =IF(A35="","",IF(WEEKDAY(A35,2)>'Settings'!$B$6,0,'Settings'!$B$5)) | I35: =IF(A35="","",G35-H35)
F37: Total | G37: =SUM(G5:G35) | H37: =SUM(H5:H35) | I37: =SUM(I5:I35)
A39: Orange break = shorter than the legal minimum (Swiss Labour Act, art. 15): 15 min from 5.5 h, 30 min from 7 h, 60 min from 9 h.

Sheet Jul
A1: Time sheet – Jul
A2: ='Settings'!B3 | D2: Month | F2: =DATE('Settings'!B4,7,1)
A4: Date | B4: Day | C4: Start | D4: End | E4: Break (min) | F4: Absence | G4: Hours worked | H4: Target (h) | I4: Balance (h) | J4: Project / client | K4: Note
A5: =IF(MONTH($F$2+0)=7,$F$2+0,"") | B5: =IF(A5="","",A5) | G5: =IF(A5="","",IF(F5<>"",H5,IF(OR(C5="",D5=""),0,ROUND(MOD(D5-C5,1)*24-N(E5)/60,2)))) | H5: =IF(A5="","",IF(WEEKDAY(A5,2)>'Settings'!$B$6,0,'Settings'!$B$5)) | I5: =IF(A5="","",G5-H5)
A6: =IF(MONTH($F$2+1)=7,$F$2+1,"") | B6: =IF(A6="","",A6) | G6: =IF(A6="","",IF(F6<>"",H6,IF(OR(C6="",D6=""),0,ROUND(MOD(D6-C6,1)*24-N(E6)/60,2)))) | H6: =IF(A6="","",IF(WEEKDAY(A6,2)>'Settings'!$B$6,0,'Settings'!$B$5)) | I6: =IF(A6="","",G6-H6)
A7: =IF(MONTH($F$2+2)=7,$F$2+2,"") | B7: =IF(A7="","",A7) | G7: =IF(A7="","",IF(F7<>"",H7,IF(OR(C7="",D7=""),0,ROUND(MOD(D7-C7,1)*24-N(E7)/60,2)))) | H7: =IF(A7="","",IF(WEEKDAY(A7,2)>'Settings'!$B$6,0,'Settings'!$B$5)) | I7: =IF(A7="","",G7-H7)
A8: =IF(MONTH($F$2+3)=7,$F$2+3,"") | B8: =IF(A8="","",A8) | G8: =IF(A8="","",IF(F8<>"",H8,IF(OR(C8="",D8=""),0,ROUND(MOD(D8-C8,1)*24-N(E8)/60,2)))) | H8: =IF(A8="","",IF(WEEKDAY(A8,2)>'Settings'!$B$6,0,'Settings'!$B$5)) | I8: =IF(A8="","",G8-H8)
A9: =IF(MONTH($F$2+4)=7,$F$2+4,"") | B9: =IF(A9="","",A9) | G9: =IF(A9="","",IF(F9<>"",H9,IF(OR(C9="",D9=""),0,ROUND(MOD(D9-C9,1)*24-N(E9)/60,2)))) | H9: =IF(A9="","",IF(WEEKDAY(A9,2)>'Settings'!$B$6,0,'Settings'!$B$5)) | I9: =IF(A9="","",G9-H9)
A10: =IF(MONTH($F$2+5)=7,$F$2+5,"") | B10: =IF(A10="","",A10) | G10: =IF(A10="","",IF(F10<>"",H10,IF(OR(C10="",D10=""),0,ROUND(MOD(D10-C10,1)*24-N(E10)/60,2)))) | H10: =IF(A10="","",IF(WEEKDAY(A10,2)>'Settings'!$B$6,0,'Settings'!$B$5)) | I10: =IF(A10="","",G10-H10)
A11: =IF(MONTH($F$2+6)=7,$F$2+6,"") | B11: =IF(A11="","",A11) | G11: =IF(A11="","",IF(F11<>"",H11,IF(OR(C11="",D11=""),0,ROUND(MOD(D11-C11,1)*24-N(E11)/60,2)))) | H11: =IF(A11="","",IF(WEEKDAY(A11,2)>'Settings'!$B$6,0,'Settings'!$B$5)) | I11: =IF(A11="","",G11-H11)
A12: =IF(MONTH($F$2+7)=7,$F$2+7,"") | B12: =IF(A12="","",A12) | G12: =IF(A12="","",IF(F12<>"",H12,IF(OR(C12="",D12=""),0,ROUND(MOD(D12-C12,1)*24-N(E12)/60,2)))) | H12: =IF(A12="","",IF(WEEKDAY(A12,2)>'Settings'!$B$6,0,'Settings'!$B$5)) | I12: =IF(A12="","",G12-H12)
A13: =IF(MONTH($F$2+8)=7,$F$2+8,"") | B13: =IF(A13="","",A13) | G13: =IF(A13="","",IF(F13<>"",H13,IF(OR(C13="",D13=""),0,ROUND(MOD(D13-C13,1)*24-N(E13)/60,2)))) | H13: =IF(A13="","",IF(WEEKDAY(A13,2)>'Settings'!$B$6,0,'Settings'!$B$5)) | I13: =IF(A13="","",G13-H13)
A14: =IF(MONTH($F$2+9)=7,$F$2+9,"") | B14: =IF(A14="","",A14) | G14: =IF(A14="","",IF(F14<>"",H14,IF(OR(C14="",D14=""),0,ROUND(MOD(D14-C14,1)*24-N(E14)/60,2)))) | H14: =IF(A14="","",IF(WEEKDAY(A14,2)>'Settings'!$B$6,0,'Settings'!$B$5)) | I14: =IF(A14="","",G14-H14)
A15: =IF(MONTH($F$2+10)=7,$F$2+10,"") | B15: =IF(A15="","",A15) | G15: =IF(A15="","",IF(F15<>"",H15,IF(OR(C15="",D15=""),0,ROUND(MOD(D15-C15,1)*24-N(E15)/60,2)))) | H15: =IF(A15="","",IF(WEEKDAY(A15,2)>'Settings'!$B$6,0,'Settings'!$B$5)) | I15: =IF(A15="","",G15-H15)
A16: =IF(MONTH($F$2+11)=7,$F$2+11,"") | B16: =IF(A16="","",A16) | G16: =IF(A16="","",IF(F16<>"",H16,IF(OR(C16="",D16=""),0,ROUND(MOD(D16-C16,1)*24-N(E16)/60,2)))) | H16: =IF(A16="","",IF(WEEKDAY(A16,2)>'Settings'!$B$6,0,'Settings'!$B$5)) | I16: =IF(A16="","",G16-H16)
A17: =IF(MONTH($F$2+12)=7,$F$2+12,"") | B17: =IF(A17="","",A17) | G17: =IF(A17="","",IF(F17<>"",H17,IF(OR(C17="",D17=""),0,ROUND(MOD(D17-C17,1)*24-N(E17)/60,2)))) | H17: =IF(A17="","",IF(WEEKDAY(A17,2)>'Settings'!$B$6,0,'Settings'!$B$5)) | I17: =IF(A17="","",G17-H17)
A18: =IF(MONTH($F$2+13)=7,$F$2+13,"") | B18: =IF(A18="","",A18) | G18: =IF(A18="","",IF(F18<>"",H18,IF(OR(C18="",D18=""),0,ROUND(MOD(D18-C18,1)*24-N(E18)/60,2)))) | H18: =IF(A18="","",IF(WEEKDAY(A18,2)>'Settings'!$B$6,0,'Settings'!$B$5)) | I18: =IF(A18="","",G18-H18)
A19: =IF(MONTH($F$2+14)=7,$F$2+14,"") | B19: =IF(A19="","",A19) | G19: =IF(A19="","",IF(F19<>"",H19,IF(OR(C19="",D19=""),0,ROUND(MOD(D19-C19,1)*24-N(E19)/60,2)))) | H19: =IF(A19="","",IF(WEEKDAY(A19,2)>'Settings'!$B$6,0,'Settings'!$B$5)) | I19: =IF(A19="","",G19-H19)
A20: =IF(MONTH($F$2+15)=7,$F$2+15,"") | B20: =IF(A20="","",A20) | G20: =IF(A20="","",IF(F20<>"",H20,IF(OR(C20="",D20=""),0,ROUND(MOD(D20-C20,1)*24-N(E20)/60,2)))) | H20: =IF(A20="","",IF(WEEKDAY(A20,2)>'Settings'!$B$6,0,'Settings'!$B$5)) | I20: =IF(A20="","",G20-H20)
A21: =IF(MONTH($F$2+16)=7,$F$2+16,"") | B21: =IF(A21="","",A21) | G21: =IF(A21="","",IF(F21<>"",H21,IF(OR(C21="",D21=""),0,ROUND(MOD(D21-C21,1)*24-N(E21)/60,2)))) | H21: =IF(A21="","",IF(WEEKDAY(A21,2)>'Settings'!$B$6,0,'Settings'!$B$5)) | I21: =IF(A21="","",G21-H21)
A22: =IF(MONTH($F$2+17)=7,$F$2+17,"") | B22: =IF(A22="","",A22) | G22: =IF(A22="","",IF(F22<>"",H22,IF(OR(C22="",D22=""),0,ROUND(MOD(D22-C22,1)*24-N(E22)/60,2)))) | H22: =IF(A22="","",IF(WEEKDAY(A22,2)>'Settings'!$B$6,0,'Settings'!$B$5)) | I22: =IF(A22="","",G22-H22)
A23: =IF(MONTH($F$2+18)=7,$F$2+18,"") | B23: =IF(A23="","",A23) | G23: =IF(A23="","",IF(F23<>"",H23,IF(OR(C23="",D23=""),0,ROUND(MOD(D23-C23,1)*24-N(E23)/60,2)))) | H23: =IF(A23="","",IF(WEEKDAY(A23,2)>'Settings'!$B$6,0,'Settings'!$B$5)) | I23: =IF(A23="","",G23-H23)
A24: =IF(MONTH($F$2+19)=7,$F$2+19,"") | B24: =IF(A24="","",A24) | G24: =IF(A24="","",IF(F24<>"",H24,IF(OR(C24="",D24=""),0,ROUND(MOD(D24-C24,1)*24-N(E24)/60,2)))) | H24: =IF(A24="","",IF(WEEKDAY(A24,2)>'Settings'!$B$6,0,'Settings'!$B$5)) | I24: =IF(A24="","",G24-H24)
A25: =IF(MONTH($F$2+20)=7,$F$2+20,"") | B25: =IF(A25="","",A25) | G25: =IF(A25="","",IF(F25<>"",H25,IF(OR(C25="",D25=""),0,ROUND(MOD(D25-C25,1)*24-N(E25)/60,2)))) | H25: =IF(A25="","",IF(WEEKDAY(A25,2)>'Settings'!$B$6,0,'Settings'!$B$5)) | I25: =IF(A25="","",G25-H25)
A26: =IF(MONTH($F$2+21)=7,$F$2+21,"") | B26: =IF(A26="","",A26) | G26: =IF(A26="","",IF(F26<>"",H26,IF(OR(C26="",D26=""),0,ROUND(MOD(D26-C26,1)*24-N(E26)/60,2)))) | H26: =IF(A26="","",IF(WEEKDAY(A26,2)>'Settings'!$B$6,0,'Settings'!$B$5)) | I26: =IF(A26="","",G26-H26)
A27: =IF(MONTH($F$2+22)=7,$F$2+22,"") | B27: =IF(A27="","",A27) | G27: =IF(A27="","",IF(F27<>"",H27,IF(OR(C27="",D27=""),0,ROUND(MOD(D27-C27,1)*24-N(E27)/60,2)))) | H27: =IF(A27="","",IF(WEEKDAY(A27,2)>'Settings'!$B$6,0,'Settings'!$B$5)) | I27: =IF(A27="","",G27-H27)
A28: =IF(MONTH($F$2+23)=7,$F$2+23,"") | B28: =IF(A28="","",A28) | G28: =IF(A28="","",IF(F28<>"",H28,IF(OR(C28="",D28=""),0,ROUND(MOD(D28-C28,1)*24-N(E28)/60,2)))) | H28: =IF(A28="","",IF(WEEKDAY(A28,2)>'Settings'!$B$6,0,'Settings'!$B$5)) | I28: =IF(A28="","",G28-H28)
A29: =IF(MONTH($F$2+24)=7,$F$2+24,"") | B29: =IF(A29="","",A29) | G29: =IF(A29="","",IF(F29<>"",H29,IF(OR(C29="",D29=""),0,ROUND(MOD(D29-C29,1)*24-N(E29)/60,2)))) | H29: =IF(A29="","",IF(WEEKDAY(A29,2)>'Settings'!$B$6,0,'Settings'!$B$5)) | I29: =IF(A29="","",G29-H29)
A30: =IF(MONTH($F$2+25)=7,$F$2+25,"") | B30: =IF(A30="","",A30) | G30: =IF(A30="","",IF(F30<>"",H30,IF(OR(C30="",D30=""),0,ROUND(MOD(D30-C30,1)*24-N(E30)/60,2)))) | H30: =IF(A30="","",IF(WEEKDAY(A30,2)>'Settings'!$B$6,0,'Settings'!$B$5)) | I30: =IF(A30="","",G30-H30)
A31: =IF(MONTH($F$2+26)=7,$F$2+26,"") | B31: =IF(A31="","",A31) | G31: =IF(A31="","",IF(F31<>"",H31,IF(OR(C31="",D31=""),0,ROUND(MOD(D31-C31,1)*24-N(E31)/60,2)))) | H31: =IF(A31="","",IF(WEEKDAY(A31,2)>'Settings'!$B$6,0,'Settings'!$B$5)) | I31: =IF(A31="","",G31-H31)
A32: =IF(MONTH($F$2+27)=7,$F$2+27,"") | B32: =IF(A32="","",A32) | G32: =IF(A32="","",IF(F32<>"",H32,IF(OR(C32="",D32=""),0,ROUND(MOD(D32-C32,1)*24-N(E32)/60,2)))) | H32: =IF(A32="","",IF(WEEKDAY(A32,2)>'Settings'!$B$6,0,'Settings'!$B$5)) | I32: =IF(A32="","",G32-H32)
A33: =IF(MONTH($F$2+28)=7,$F$2+28,"") | B33: =IF(A33="","",A33) | G33: =IF(A33="","",IF(F33<>"",H33,IF(OR(C33="",D33=""),0,ROUND(MOD(D33-C33,1)*24-N(E33)/60,2)))) | H33: =IF(A33="","",IF(WEEKDAY(A33,2)>'Settings'!$B$6,0,'Settings'!$B$5)) | I33: =IF(A33="","",G33-H33)
A34: =IF(MONTH($F$2+29)=7,$F$2+29,"") | B34: =IF(A34="","",A34) | G34: =IF(A34="","",IF(F34<>"",H34,IF(OR(C34="",D34=""),0,ROUND(MOD(D34-C34,1)*24-N(E34)/60,2)))) | H34: =IF(A34="","",IF(WEEKDAY(A34,2)>'Settings'!$B$6,0,'Settings'!$B$5)) | I34: =IF(A34="","",G34-H34)
A35: =IF(MONTH($F$2+30)=7,$F$2+30,"") | B35: =IF(A35="","",A35) | G35: =IF(A35="","",IF(F35<>"",H35,IF(OR(C35="",D35=""),0,ROUND(MOD(D35-C35,1)*24-N(E35)/60,2)))) | H35: =IF(A35="","",IF(WEEKDAY(A35,2)>'Settings'!$B$6,0,'Settings'!$B$5)) | I35: =IF(A35="","",G35-H35)
F37: Total | G37: =SUM(G5:G35) | H37: =SUM(H5:H35) | I37: =SUM(I5:I35)
A39: Orange break = shorter than the legal minimum (Swiss Labour Act, art. 15): 15 min from 5.5 h, 30 min from 7 h, 60 min from 9 h.

Sheet Aug
A1: Time sheet – Aug
A2: ='Settings'!B3 | D2: Month | F2: =DATE('Settings'!B4,8,1)
A4: Date | B4: Day | C4: Start | D4: End | E4: Break (min) | F4: Absence | G4: Hours worked | H4: Target (h) | I4: Balance (h) | J4: Project / client | K4: Note
A5: =IF(MONTH($F$2+0)=8,$F$2+0,"") | B5: =IF(A5="","",A5) | G5: =IF(A5="","",IF(F5<>"",H5,IF(OR(C5="",D5=""),0,ROUND(MOD(D5-C5,1)*24-N(E5)/60,2)))) | H5: =IF(A5="","",IF(WEEKDAY(A5,2)>'Settings'!$B$6,0,'Settings'!$B$5)) | I5: =IF(A5="","",G5-H5)
A6: =IF(MONTH($F$2+1)=8,$F$2+1,"") | B6: =IF(A6="","",A6) | G6: =IF(A6="","",IF(F6<>"",H6,IF(OR(C6="",D6=""),0,ROUND(MOD(D6-C6,1)*24-N(E6)/60,2)))) | H6: =IF(A6="","",IF(WEEKDAY(A6,2)>'Settings'!$B$6,0,'Settings'!$B$5)) | I6: =IF(A6="","",G6-H6)
A7: =IF(MONTH($F$2+2)=8,$F$2+2,"") | B7: =IF(A7="","",A7) | G7: =IF(A7="","",IF(F7<>"",H7,IF(OR(C7="",D7=""),0,ROUND(MOD(D7-C7,1)*24-N(E7)/60,2)))) | H7: =IF(A7="","",IF(WEEKDAY(A7,2)>'Settings'!$B$6,0,'Settings'!$B$5)) | I7: =IF(A7="","",G7-H7)
A8: =IF(MONTH($F$2+3)=8,$F$2+3,"") | B8: =IF(A8="","",A8) | G8: =IF(A8="","",IF(F8<>"",H8,IF(OR(C8="",D8=""),0,ROUND(MOD(D8-C8,1)*24-N(E8)/60,2)))) | H8: =IF(A8="","",IF(WEEKDAY(A8,2)>'Settings'!$B$6,0,'Settings'!$B$5)) | I8: =IF(A8="","",G8-H8)
A9: =IF(MONTH($F$2+4)=8,$F$2+4,"") | B9: =IF(A9="","",A9) | G9: =IF(A9="","",IF(F9<>"",H9,IF(OR(C9="",D9=""),0,ROUND(MOD(D9-C9,1)*24-N(E9)/60,2)))) | H9: =IF(A9="","",IF(WEEKDAY(A9,2)>'Settings'!$B$6,0,'Settings'!$B$5)) | I9: =IF(A9="","",G9-H9)
A10: =IF(MONTH($F$2+5)=8,$F$2+5,"") | B10: =IF(A10="","",A10) | G10: =IF(A10="","",IF(F10<>"",H10,IF(OR(C10="",D10=""),0,ROUND(MOD(D10-C10,1)*24-N(E10)/60,2)))) | H10: =IF(A10="","",IF(WEEKDAY(A10,2)>'Settings'!$B$6,0,'Settings'!$B$5)) | I10: =IF(A10="","",G10-H10)
A11: =IF(MONTH($F$2+6)=8,$F$2+6,"") | B11: =IF(A11="","",A11) | G11: =IF(A11="","",IF(F11<>"",H11,IF(OR(C11="",D11=""),0,ROUND(MOD(D11-C11,1)*24-N(E11)/60,2)))) | H11: =IF(A11="","",IF(WEEKDAY(A11,2)>'Settings'!$B$6,0,'Settings'!$B$5)) | I11: =IF(A11="","",G11-H11)
A12: =IF(MONTH($F$2+7)=8,$F$2+7,"") | B12: =IF(A12="","",A12) | G12: =IF(A12="","",IF(F12<>"",H12,IF(OR(C12="",D12=""),0,ROUND(MOD(D12-C12,1)*24-N(E12)/60,2)))) | H12: =IF(A12="","",IF(WEEKDAY(A12,2)>'Settings'!$B$6,0,'Settings'!$B$5)) | I12: =IF(A12="","",G12-H12)
A13: =IF(MONTH($F$2+8)=8,$F$2+8,"") | B13: =IF(A13="","",A13) | G13: =IF(A13="","",IF(F13<>"",H13,IF(OR(C13="",D13=""),0,ROUND(MOD(D13-C13,1)*24-N(E13)/60,2)))) | H13: =IF(A13="","",IF(WEEKDAY(A13,2)>'Settings'!$B$6,0,'Settings'!$B$5)) | I13: =IF(A13="","",G13-H13)
A14: =IF(MONTH($F$2+9)=8,$F$2+9,"") | B14: =IF(A14="","",A14) | G14: =IF(A14="","",IF(F14<>"",H14,IF(OR(C14="",D14=""),0,ROUND(MOD(D14-C14,1)*24-N(E14)/60,2)))) | H14: =IF(A14="","",IF(WEEKDAY(A14,2)>'Settings'!$B$6,0,'Settings'!$B$5)) | I14: =IF(A14="","",G14-H14)
A15: =IF(MONTH($F$2+10)=8,$F$2+10,"") | B15: =IF(A15="","",A15) | G15: =IF(A15="","",IF(F15<>"",H15,IF(OR(C15="",D15=""),0,ROUND(MOD(D15-C15,1)*24-N(E15)/60,2)))) | H15: =IF(A15="","",IF(WEEKDAY(A15,2)>'Settings'!$B$6,0,'Settings'!$B$5)) | I15: =IF(A15="","",G15-H15)
A16: =IF(MONTH($F$2+11)=8,$F$2+11,"") | B16: =IF(A16="","",A16) | G16: =IF(A16="","",IF(F16<>"",H16,IF(OR(C16="",D16=""),0,ROUND(MOD(D16-C16,1)*24-N(E16)/60,2)))) | H16: =IF(A16="","",IF(WEEKDAY(A16,2)>'Settings'!$B$6,0,'Settings'!$B$5)) | I16: =IF(A16="","",G16-H16)
A17: =IF(MONTH($F$2+12)=8,$F$2+12,"") | B17: =IF(A17="","",A17) | G17: =IF(A17="","",IF(F17<>"",H17,IF(OR(C17="",D17=""),0,ROUND(MOD(D17-C17,1)*24-N(E17)/60,2)))) | H17: =IF(A17="","",IF(WEEKDAY(A17,2)>'Settings'!$B$6,0,'Settings'!$B$5)) | I17: =IF(A17="","",G17-H17)
A18: =IF(MONTH($F$2+13)=8,$F$2+13,"") | B18: =IF(A18="","",A18) | G18: =IF(A18="","",IF(F18<>"",H18,IF(OR(C18="",D18=""),0,ROUND(MOD(D18-C18,1)*24-N(E18)/60,2)))) | H18: =IF(A18="","",IF(WEEKDAY(A18,2)>'Settings'!$B$6,0,'Settings'!$B$5)) | I18: =IF(A18="","",G18-H18)
A19: =IF(MONTH($F$2+14)=8,$F$2+14,"") | B19: =IF(A19="","",A19) | G19: =IF(A19="","",IF(F19<>"",H19,IF(OR(C19="",D19=""),0,ROUND(MOD(D19-C19,1)*24-N(E19)/60,2)))) | H19: =IF(A19="","",IF(WEEKDAY(A19,2)>'Settings'!$B$6,0,'Settings'!$B$5)) | I19: =IF(A19="","",G19-H19)
A20: =IF(MONTH($F$2+15)=8,$F$2+15,"") | B20: =IF(A20="","",A20) | G20: =IF(A20="","",IF(F20<>"",H20,IF(OR(C20="",D20=""),0,ROUND(MOD(D20-C20,1)*24-N(E20)/60,2)))) | H20: =IF(A20="","",IF(WEEKDAY(A20,2)>'Settings'!$B$6,0,'Settings'!$B$5)) | I20: =IF(A20="","",G20-H20)
A21: =IF(MONTH($F$2+16)=8,$F$2+16,"") | B21: =IF(A21="","",A21) | G21: =IF(A21="","",IF(F21<>"",H21,IF(OR(C21="",D21=""),0,ROUND(MOD(D21-C21,1)*24-N(E21)/60,2)))) | H21: =IF(A21="","",IF(WEEKDAY(A21,2)>'Settings'!$B$6,0,'Settings'!$B$5)) | I21: =IF(A21="","",G21-H21)
A22: =IF(MONTH($F$2+17)=8,$F$2+17,"") | B22: =IF(A22="","",A22) | G22: =IF(A22="","",IF(F22<>"",H22,IF(OR(C22="",D22=""),0,ROUND(MOD(D22-C22,1)*24-N(E22)/60,2)))) | H22: =IF(A22="","",IF(WEEKDAY(A22,2)>'Settings'!$B$6,0,'Settings'!$B$5)) | I22: =IF(A22="","",G22-H22)
A23: =IF(MONTH($F$2+18)=8,$F$2+18,"") | B23: =IF(A23="","",A23) | G23: =IF(A23="","",IF(F23<>"",H23,IF(OR(C23="",D23=""),0,ROUND(MOD(D23-C23,1)*24-N(E23)/60,2)))) | H23: =IF(A23="","",IF(WEEKDAY(A23,2)>'Settings'!$B$6,0,'Settings'!$B$5)) | I23: =IF(A23="","",G23-H23)
A24: =IF(MONTH($F$2+19)=8,$F$2+19,"") | B24: =IF(A24="","",A24) | G24: =IF(A24="","",IF(F24<>"",H24,IF(OR(C24="",D24=""),0,ROUND(MOD(D24-C24,1)*24-N(E24)/60,2)))) | H24: =IF(A24="","",IF(WEEKDAY(A24,2)>'Settings'!$B$6,0,'Settings'!$B$5)) | I24: =IF(A24="","",G24-H24)
A25: =IF(MONTH($F$2+20)=8,$F$2+20,"") | B25: =IF(A25="","",A25) | G25: =IF(A25="","",IF(F25<>"",H25,IF(OR(C25="",D25=""),0,ROUND(MOD(D25-C25,1)*24-N(E25)/60,2)))) | H25: =IF(A25="","",IF(WEEKDAY(A25,2)>'Settings'!$B$6,0,'Settings'!$B$5)) | I25: =IF(A25="","",G25-H25)
A26: =IF(MONTH($F$2+21)=8,$F$2+21,"") | B26: =IF(A26="","",A26) | G26: =IF(A26="","",IF(F26<>"",H26,IF(OR(C26="",D26=""),0,ROUND(MOD(D26-C26,1)*24-N(E26)/60,2)))) | H26: =IF(A26="","",IF(WEEKDAY(A26,2)>'Settings'!$B$6,0,'Settings'!$B$5)) | I26: =IF(A26="","",G26-H26)
A27: =IF(MONTH($F$2+22)=8,$F$2+22,"") | B27: =IF(A27="","",A27) | G27: =IF(A27="","",IF(F27<>"",H27,IF(OR(C27="",D27=""),0,ROUND(MOD(D27-C27,1)*24-N(E27)/60,2)))) | H27: =IF(A27="","",IF(WEEKDAY(A27,2)>'Settings'!$B$6,0,'Settings'!$B$5)) | I27: =IF(A27="","",G27-H27)
A28: =IF(MONTH($F$2+23)=8,$F$2+23,"") | B28: =IF(A28="","",A28) | G28: =IF(A28="","",IF(F28<>"",H28,IF(OR(C28="",D28=""),0,ROUND(MOD(D28-C28,1)*24-N(E28)/60,2)))) | H28: =IF(A28="","",IF(WEEKDAY(A28,2)>'Settings'!$B$6,0,'Settings'!$B$5)) | I28: =IF(A28="","",G28-H28)
A29: =IF(MONTH($F$2+24)=8,$F$2+24,"") | B29: =IF(A29="","",A29) | G29: =IF(A29="","",IF(F29<>"",H29,IF(OR(C29="",D29=""),0,ROUND(MOD(D29-C29,1)*24-N(E29)/60,2)))) | H29: =IF(A29="","",IF(WEEKDAY(A29,2)>'Settings'!$B$6,0,'Settings'!$B$5)) | I29: =IF(A29="","",G29-H29)
A30: =IF(MONTH($F$2+25)=8,$F$2+25,"") | B30: =IF(A30="","",A30) | G30: =IF(A30="","",IF(F30<>"",H30,IF(OR(C30="",D30=""),0,ROUND(MOD(D30-C30,1)*24-N(E30)/60,2)))) | H30: =IF(A30="","",IF(WEEKDAY(A30,2)>'Settings'!$B$6,0,'Settings'!$B$5)) | I30: =IF(A30="","",G30-H30)
A31: =IF(MONTH($F$2+26)=8,$F$2+26,"") | B31: =IF(A31="","",A31) | G31: =IF(A31="","",IF(F31<>"",H31,IF(OR(C31="",D31=""),0,ROUND(MOD(D31-C31,1)*24-N(E31)/60,2)))) | H31: =IF(A31="","",IF(WEEKDAY(A31,2)>'Settings'!$B$6,0,'Settings'!$B$5)) | I31: =IF(A31="","",G31-H31)
A32: =IF(MONTH($F$2+27)=8,$F$2+27,"") | B32: =IF(A32="","",A32) | G32: =IF(A32="","",IF(F32<>"",H32,IF(OR(C32="",D32=""),0,ROUND(MOD(D32-C32,1)*24-N(E32)/60,2)))) | H32: =IF(A32="","",IF(WEEKDAY(A32,2)>'Settings'!$B$6,0,'Settings'!$B$5)) | I32: =IF(A32="","",G32-H32)
A33: =IF(MONTH($F$2+28)=8,$F$2+28,"") | B33: =IF(A33="","",A33) | G33: =IF(A33="","",IF(F33<>"",H33,IF(OR(C33="",D33=""),0,ROUND(MOD(D33-C33,1)*24-N(E33)/60,2)))) | H33: =IF(A33="","",IF(WEEKDAY(A33,2)>'Settings'!$B$6,0,'Settings'!$B$5)) | I33: =IF(A33="","",G33-H33)
A34: =IF(MONTH($F$2+29)=8,$F$2+29,"") | B34: =IF(A34="","",A34) | G34: =IF(A34="","",IF(F34<>"",H34,IF(OR(C34="",D34=""),0,ROUND(MOD(D34-C34,1)*24-N(E34)/60,2)))) | H34: =IF(A34="","",IF(WEEKDAY(A34,2)>'Settings'!$B$6,0,'Settings'!$B$5)) | I34: =IF(A34="","",G34-H34)
A35: =IF(MONTH($F$2+30)=8,$F$2+30,"") | B35: =IF(A35="","",A35) | G35: =IF(A35="","",IF(F35<>"",H35,IF(OR(C35="",D35=""),0,ROUND(MOD(D35-C35,1)*24-N(E35)/60,2)))) | H35: =IF(A35="","",IF(WEEKDAY(A35,2)>'Settings'!$B$6,0,'Settings'!$B$5)) | I35: =IF(A35="","",G35-H35)
F37: Total | G37: =SUM(G5:G35) | H37: =SUM(H5:H35) | I37: =SUM(I5:I35)
A39: Orange break = shorter than the legal minimum (Swiss Labour Act, art. 15): 15 min from 5.5 h, 30 min from 7 h, 60 min from 9 h.

Sheet Sep
A1: Time sheet – Sep
A2: ='Settings'!B3 | D2: Month | F2: =DATE('Settings'!B4,9,1)
A4: Date | B4: Day | C4: Start | D4: End | E4: Break (min) | F4: Absence | G4: Hours worked | H4: Target (h) | I4: Balance (h) | J4: Project / client | K4: Note
A5: =IF(MONTH($F$2+0)=9,$F$2+0,"") | B5: =IF(A5="","",A5) | G5: =IF(A5="","",IF(F5<>"",H5,IF(OR(C5="",D5=""),0,ROUND(MOD(D5-C5,1)*24-N(E5)/60,2)))) | H5: =IF(A5="","",IF(WEEKDAY(A5,2)>'Settings'!$B$6,0,'Settings'!$B$5)) | I5: =IF(A5="","",G5-H5)
A6: =IF(MONTH($F$2+1)=9,$F$2+1,"") | B6: =IF(A6="","",A6) | G6: =IF(A6="","",IF(F6<>"",H6,IF(OR(C6="",D6=""),0,ROUND(MOD(D6-C6,1)*24-N(E6)/60,2)))) | H6: =IF(A6="","",IF(WEEKDAY(A6,2)>'Settings'!$B$6,0,'Settings'!$B$5)) | I6: =IF(A6="","",G6-H6)
A7: =IF(MONTH($F$2+2)=9,$F$2+2,"") | B7: =IF(A7="","",A7) | G7: =IF(A7="","",IF(F7<>"",H7,IF(OR(C7="",D7=""),0,ROUND(MOD(D7-C7,1)*24-N(E7)/60,2)))) | H7: =IF(A7="","",IF(WEEKDAY(A7,2)>'Settings'!$B$6,0,'Settings'!$B$5)) | I7: =IF(A7="","",G7-H7)
A8: =IF(MONTH($F$2+3)=9,$F$2+3,"") | B8: =IF(A8="","",A8) | G8: =IF(A8="","",IF(F8<>"",H8,IF(OR(C8="",D8=""),0,ROUND(MOD(D8-C8,1)*24-N(E8)/60,2)))) | H8: =IF(A8="","",IF(WEEKDAY(A8,2)>'Settings'!$B$6,0,'Settings'!$B$5)) | I8: =IF(A8="","",G8-H8)
A9: =IF(MONTH($F$2+4)=9,$F$2+4,"") | B9: =IF(A9="","",A9) | G9: =IF(A9="","",IF(F9<>"",H9,IF(OR(C9="",D9=""),0,ROUND(MOD(D9-C9,1)*24-N(E9)/60,2)))) | H9: =IF(A9="","",IF(WEEKDAY(A9,2)>'Settings'!$B$6,0,'Settings'!$B$5)) | I9: =IF(A9="","",G9-H9)
A10: =IF(MONTH($F$2+5)=9,$F$2+5,"") | B10: =IF(A10="","",A10) | G10: =IF(A10="","",IF(F10<>"",H10,IF(OR(C10="",D10=""),0,ROUND(MOD(D10-C10,1)*24-N(E10)/60,2)))) | H10: =IF(A10="","",IF(WEEKDAY(A10,2)>'Settings'!$B$6,0,'Settings'!$B$5)) | I10: =IF(A10="","",G10-H10)
A11: =IF(MONTH($F$2+6)=9,$F$2+6,"") | B11: =IF(A11="","",A11) | G11: =IF(A11="","",IF(F11<>"",H11,IF(OR(C11="",D11=""),0,ROUND(MOD(D11-C11,1)*24-N(E11)/60,2)))) | H11: =IF(A11="","",IF(WEEKDAY(A11,2)>'Settings'!$B$6,0,'Settings'!$B$5)) | I11: =IF(A11="","",G11-H11)
A12: =IF(MONTH($F$2+7)=9,$F$2+7,"") | B12: =IF(A12="","",A12) | G12: =IF(A12="","",IF(F12<>"",H12,IF(OR(C12="",D12=""),0,ROUND(MOD(D12-C12,1)*24-N(E12)/60,2)))) | H12: =IF(A12="","",IF(WEEKDAY(A12,2)>'Settings'!$B$6,0,'Settings'!$B$5)) | I12: =IF(A12="","",G12-H12)
A13: =IF(MONTH($F$2+8)=9,$F$2+8,"") | B13: =IF(A13="","",A13) | G13: =IF(A13="","",IF(F13<>"",H13,IF(OR(C13="",D13=""),0,ROUND(MOD(D13-C13,1)*24-N(E13)/60,2)))) | H13: =IF(A13="","",IF(WEEKDAY(A13,2)>'Settings'!$B$6,0,'Settings'!$B$5)) | I13: =IF(A13="","",G13-H13)
A14: =IF(MONTH($F$2+9)=9,$F$2+9,"") | B14: =IF(A14="","",A14) | G14: =IF(A14="","",IF(F14<>"",H14,IF(OR(C14="",D14=""),0,ROUND(MOD(D14-C14,1)*24-N(E14)/60,2)))) | H14: =IF(A14="","",IF(WEEKDAY(A14,2)>'Settings'!$B$6,0,'Settings'!$B$5)) | I14: =IF(A14="","",G14-H14)
A15: =IF(MONTH($F$2+10)=9,$F$2+10,"") | B15: =IF(A15="","",A15) | G15: =IF(A15="","",IF(F15<>"",H15,IF(OR(C15="",D15=""),0,ROUND(MOD(D15-C15,1)*24-N(E15)/60,2)))) | H15: =IF(A15="","",IF(WEEKDAY(A15,2)>'Settings'!$B$6,0,'Settings'!$B$5)) | I15: =IF(A15="","",G15-H15)
A16: =IF(MONTH($F$2+11)=9,$F$2+11,"") | B16: =IF(A16="","",A16) | G16: =IF(A16="","",IF(F16<>"",H16,IF(OR(C16="",D16=""),0,ROUND(MOD(D16-C16,1)*24-N(E16)/60,2)))) | H16: =IF(A16="","",IF(WEEKDAY(A16,2)>'Settings'!$B$6,0,'Settings'!$B$5)) | I16: =IF(A16="","",G16-H16)
A17: =IF(MONTH($F$2+12)=9,$F$2+12,"") | B17: =IF(A17="","",A17) | G17: =IF(A17="","",IF(F17<>"",H17,IF(OR(C17="",D17=""),0,ROUND(MOD(D17-C17,1)*24-N(E17)/60,2)))) | H17: =IF(A17="","",IF(WEEKDAY(A17,2)>'Settings'!$B$6,0,'Settings'!$B$5)) | I17: =IF(A17="","",G17-H17)
A18: =IF(MONTH($F$2+13)=9,$F$2+13,"") | B18: =IF(A18="","",A18) | G18: =IF(A18="","",IF(F18<>"",H18,IF(OR(C18="",D18=""),0,ROUND(MOD(D18-C18,1)*24-N(E18)/60,2)))) | H18: =IF(A18="","",IF(WEEKDAY(A18,2)>'Settings'!$B$6,0,'Settings'!$B$5)) | I18: =IF(A18="","",G18-H18)
A19: =IF(MONTH($F$2+14)=9,$F$2+14,"") | B19: =IF(A19="","",A19) | G19: =IF(A19="","",IF(F19<>"",H19,IF(OR(C19="",D19=""),0,ROUND(MOD(D19-C19,1)*24-N(E19)/60,2)))) | H19: =IF(A19="","",IF(WEEKDAY(A19,2)>'Settings'!$B$6,0,'Settings'!$B$5)) | I19: =IF(A19="","",G19-H19)
A20: =IF(MONTH($F$2+15)=9,$F$2+15,"") | B20: =IF(A20="","",A20) | G20: =IF(A20="","",IF(F20<>"",H20,IF(OR(C20="",D20=""),0,ROUND(MOD(D20-C20,1)*24-N(E20)/60,2)))) | H20: =IF(A20="","",IF(WEEKDAY(A20,2)>'Settings'!$B$6,0,'Settings'!$B$5)) | I20: =IF(A20="","",G20-H20)
A21: =IF(MONTH($F$2+16)=9,$F$2+16,"") | B21: =IF(A21="","",A21) | G21: =IF(A21="","",IF(F21<>"",H21,IF(OR(C21="",D21=""),0,ROUND(MOD(D21-C21,1)*24-N(E21)/60,2)))) | H21: =IF(A21="","",IF(WEEKDAY(A21,2)>'Settings'!$B$6,0,'Settings'!$B$5)) | I21: =IF(A21="","",G21-H21)
A22: =IF(MONTH($F$2+17)=9,$F$2+17,"") | B22: =IF(A22="","",A22) | G22: =IF(A22="","",IF(F22<>"",H22,IF(OR(C22="",D22=""),0,ROUND(MOD(D22-C22,1)*24-N(E22)/60,2)))) | H22: =IF(A22="","",IF(WEEKDAY(A22,2)>'Settings'!$B$6,0,'Settings'!$B$5)) | I22: =IF(A22="","",G22-H22)
A23: =IF(MONTH($F$2+18)=9,$F$2+18,"") | B23: =IF(A23="","",A23) | G23: =IF(A23="","",IF(F23<>"",H23,IF(OR(C23="",D23=""),0,ROUND(MOD(D23-C23,1)*24-N(E23)/60,2)))) | H23: =IF(A23="","",IF(WEEKDAY(A23,2)>'Settings'!$B$6,0,'Settings'!$B$5)) | I23: =IF(A23="","",G23-H23)
A24: =IF(MONTH($F$2+19)=9,$F$2+19,"") | B24: =IF(A24="","",A24) | G24: =IF(A24="","",IF(F24<>"",H24,IF(OR(C24="",D24=""),0,ROUND(MOD(D24-C24,1)*24-N(E24)/60,2)))) | H24: =IF(A24="","",IF(WEEKDAY(A24,2)>'Settings'!$B$6,0,'Settings'!$B$5)) | I24: =IF(A24="","",G24-H24)
A25: =IF(MONTH($F$2+20)=9,$F$2+20,"") | B25: =IF(A25="","",A25) | G25: =IF(A25="","",IF(F25<>"",H25,IF(OR(C25="",D25=""),0,ROUND(MOD(D25-C25,1)*24-N(E25)/60,2)))) | H25: =IF(A25="","",IF(WEEKDAY(A25,2)>'Settings'!$B$6,0,'Settings'!$B$5)) | I25: =IF(A25="","",G25-H25)
A26: =IF(MONTH($F$2+21)=9,$F$2+21,"") | B26: =IF(A26="","",A26) | G26: =IF(A26="","",IF(F26<>"",H26,IF(OR(C26="",D26=""),0,ROUND(MOD(D26-C26,1)*24-N(E26)/60,2)))) | H26: =IF(A26="","",IF(WEEKDAY(A26,2)>'Settings'!$B$6,0,'Settings'!$B$5)) | I26: =IF(A26="","",G26-H26)
A27: =IF(MONTH($F$2+22)=9,$F$2+22,"") | B27: =IF(A27="","",A27) | G27: =IF(A27="","",IF(F27<>"",H27,IF(OR(C27="",D27=""),0,ROUND(MOD(D27-C27,1)*24-N(E27)/60,2)))) | H27: =IF(A27="","",IF(WEEKDAY(A27,2)>'Settings'!$B$6,0,'Settings'!$B$5)) | I27: =IF(A27="","",G27-H27)
A28: =IF(MONTH($F$2+23)=9,$F$2+23,"") | B28: =IF(A28="","",A28) | G28: =IF(A28="","",IF(F28<>"",H28,IF(OR(C28="",D28=""),0,ROUND(MOD(D28-C28,1)*24-N(E28)/60,2)))) | H28: =IF(A28="","",IF(WEEKDAY(A28,2)>'Settings'!$B$6,0,'Settings'!$B$5)) | I28: =IF(A28="","",G28-H28)
A29: =IF(MONTH($F$2+24)=9,$F$2+24,"") | B29: =IF(A29="","",A29) | G29: =IF(A29="","",IF(F29<>"",H29,IF(OR(C29="",D29=""),0,ROUND(MOD(D29-C29,1)*24-N(E29)/60,2)))) | H29: =IF(A29="","",IF(WEEKDAY(A29,2)>'Settings'!$B$6,0,'Settings'!$B$5)) | I29: =IF(A29="","",G29-H29)
A30: =IF(MONTH($F$2+25)=9,$F$2+25,"") | B30: =IF(A30="","",A30) | G30: =IF(A30="","",IF(F30<>"",H30,IF(OR(C30="",D30=""),0,ROUND(MOD(D30-C30,1)*24-N(E30)/60,2)))) | H30: =IF(A30="","",IF(WEEKDAY(A30,2)>'Settings'!$B$6,0,'Settings'!$B$5)) | I30: =IF(A30="","",G30-H30)
A31: =IF(MONTH($F$2+26)=9,$F$2+26,"") | B31: =IF(A31="","",A31) | G31: =IF(A31="","",IF(F31<>"",H31,IF(OR(C31="",D31=""),0,ROUND(MOD(D31-C31,1)*24-N(E31)/60,2)))) | H31: =IF(A31="","",IF(WEEKDAY(A31,2)>'Settings'!$B$6,0,'Settings'!$B$5)) | I31: =IF(A31="","",G31-H31)
A32: =IF(MONTH($F$2+27)=9,$F$2+27,"") | B32: =IF(A32="","",A32) | G32: =IF(A32="","",IF(F32<>"",H32,IF(OR(C32="",D32=""),0,ROUND(MOD(D32-C32,1)*24-N(E32)/60,2)))) | H32: =IF(A32="","",IF(WEEKDAY(A32,2)>'Settings'!$B$6,0,'Settings'!$B$5)) | I32: =IF(A32="","",G32-H32)
A33: =IF(MONTH($F$2+28)=9,$F$2+28,"") | B33: =IF(A33="","",A33) | G33: =IF(A33="","",IF(F33<>"",H33,IF(OR(C33="",D33=""),0,ROUND(MOD(D33-C33,1)*24-N(E33)/60,2)))) | H33: =IF(A33="","",IF(WEEKDAY(A33,2)>'Settings'!$B$6,0,'Settings'!$B$5)) | I33: =IF(A33="","",G33-H33)
A34: =IF(MONTH($F$2+29)=9,$F$2+29,"") | B34: =IF(A34="","",A34) | G34: =IF(A34="","",IF(F34<>"",H34,IF(OR(C34="",D34=""),0,ROUND(MOD(D34-C34,1)*24-N(E34)/60,2)))) | H34: =IF(A34="","",IF(WEEKDAY(A34,2)>'Settings'!$B$6,0,'Settings'!$B$5)) | I34: =IF(A34="","",G34-H34)
A35: =IF(MONTH($F$2+30)=9,$F$2+30,"") | B35: =IF(A35="","",A35) | G35: =IF(A35="","",IF(F35<>"",H35,IF(OR(C35="",D35=""),0,ROUND(MOD(D35-C35,1)*24-N(E35)/60,2)))) | H35: =IF(A35="","",IF(WEEKDAY(A35,2)>'Settings'!$B$6,0,'Settings'!$B$5)) | I35: =IF(A35="","",G35-H35)
F37: Total | G37: =SUM(G5:G35) | H37: =SUM(H5:H35) | I37: =SUM(I5:I35)
A39: Orange break = shorter than the legal minimum (Swiss Labour Act, art. 15): 15 min from 5.5 h, 30 min from 7 h, 60 min from 9 h.

Sheet Oct
A1: Time sheet – Oct
A2: ='Settings'!B3 | D2: Month | F2: =DATE('Settings'!B4,10,1)
A4: Date | B4: Day | C4: Start | D4: End | E4: Break (min) | F4: Absence | G4: Hours worked | H4: Target (h) | I4: Balance (h) | J4: Project / client | K4: Note
A5: =IF(MONTH($F$2+0)=10,$F$2+0,"") | B5: =IF(A5="","",A5) | G5: =IF(A5="","",IF(F5<>"",H5,IF(OR(C5="",D5=""),0,ROUND(MOD(D5-C5,1)*24-N(E5)/60,2)))) | H5: =IF(A5="","",IF(WEEKDAY(A5,2)>'Settings'!$B$6,0,'Settings'!$B$5)) | I5: =IF(A5="","",G5-H5)
A6: =IF(MONTH($F$2+1)=10,$F$2+1,"") | B6: =IF(A6="","",A6) | G6: =IF(A6="","",IF(F6<>"",H6,IF(OR(C6="",D6=""),0,ROUND(MOD(D6-C6,1)*24-N(E6)/60,2)))) | H6: =IF(A6="","",IF(WEEKDAY(A6,2)>'Settings'!$B$6,0,'Settings'!$B$5)) | I6: =IF(A6="","",G6-H6)
A7: =IF(MONTH($F$2+2)=10,$F$2+2,"") | B7: =IF(A7="","",A7) | G7: =IF(A7="","",IF(F7<>"",H7,IF(OR(C7="",D7=""),0,ROUND(MOD(D7-C7,1)*24-N(E7)/60,2)))) | H7: =IF(A7="","",IF(WEEKDAY(A7,2)>'Settings'!$B$6,0,'Settings'!$B$5)) | I7: =IF(A7="","",G7-H7)
A8: =IF(MONTH($F$2+3)=10,$F$2+3,"") | B8: =IF(A8="","",A8) | G8: =IF(A8="","",IF(F8<>"",H8,IF(OR(C8="",D8=""),0,ROUND(MOD(D8-C8,1)*24-N(E8)/60,2)))) | H8: =IF(A8="","",IF(WEEKDAY(A8,2)>'Settings'!$B$6,0,'Settings'!$B$5)) | I8: =IF(A8="","",G8-H8)
A9: =IF(MONTH($F$2+4)=10,$F$2+4,"") | B9: =IF(A9="","",A9) | G9: =IF(A9="","",IF(F9<>"",H9,IF(OR(C9="",D9=""),0,ROUND(MOD(D9-C9,1)*24-N(E9)/60,2)))) | H9: =IF(A9="","",IF(WEEKDAY(A9,2)>'Settings'!$B$6,0,'Settings'!$B$5)) | I9: =IF(A9="","",G9-H9)
A10: =IF(MONTH($F$2+5)=10,$F$2+5,"") | B10: =IF(A10="","",A10) | G10: =IF(A10="","",IF(F10<>"",H10,IF(OR(C10="",D10=""),0,ROUND(MOD(D10-C10,1)*24-N(E10)/60,2)))) | H10: =IF(A10="","",IF(WEEKDAY(A10,2)>'Settings'!$B$6,0,'Settings'!$B$5)) | I10: =IF(A10="","",G10-H10)
A11: =IF(MONTH($F$2+6)=10,$F$2+6,"") | B11: =IF(A11="","",A11) | G11: =IF(A11="","",IF(F11<>"",H11,IF(OR(C11="",D11=""),0,ROUND(MOD(D11-C11,1)*24-N(E11)/60,2)))) | H11: =IF(A11="","",IF(WEEKDAY(A11,2)>'Settings'!$B$6,0,'Settings'!$B$5)) | I11: =IF(A11="","",G11-H11)
A12: =IF(MONTH($F$2+7)=10,$F$2+7,"") | B12: =IF(A12="","",A12) | G12: =IF(A12="","",IF(F12<>"",H12,IF(OR(C12="",D12=""),0,ROUND(MOD(D12-C12,1)*24-N(E12)/60,2)))) | H12: =IF(A12="","",IF(WEEKDAY(A12,2)>'Settings'!$B$6,0,'Settings'!$B$5)) | I12: =IF(A12="","",G12-H12)
A13: =IF(MONTH($F$2+8)=10,$F$2+8,"") | B13: =IF(A13="","",A13) | G13: =IF(A13="","",IF(F13<>"",H13,IF(OR(C13="",D13=""),0,ROUND(MOD(D13-C13,1)*24-N(E13)/60,2)))) | H13: =IF(A13="","",IF(WEEKDAY(A13,2)>'Settings'!$B$6,0,'Settings'!$B$5)) | I13: =IF(A13="","",G13-H13)
A14: =IF(MONTH($F$2+9)=10,$F$2+9,"") | B14: =IF(A14="","",A14) | G14: =IF(A14="","",IF(F14<>"",H14,IF(OR(C14="",D14=""),0,ROUND(MOD(D14-C14,1)*24-N(E14)/60,2)))) | H14: =IF(A14="","",IF(WEEKDAY(A14,2)>'Settings'!$B$6,0,'Settings'!$B$5)) | I14: =IF(A14="","",G14-H14)
A15: =IF(MONTH($F$2+10)=10,$F$2+10,"") | B15: =IF(A15="","",A15) | G15: =IF(A15="","",IF(F15<>"",H15,IF(OR(C15="",D15=""),0,ROUND(MOD(D15-C15,1)*24-N(E15)/60,2)))) | H15: =IF(A15="","",IF(WEEKDAY(A15,2)>'Settings'!$B$6,0,'Settings'!$B$5)) | I15: =IF(A15="","",G15-H15)
A16: =IF(MONTH($F$2+11)=10,$F$2+11,"") | B16: =IF(A16="","",A16) | G16: =IF(A16="","",IF(F16<>"",H16,IF(OR(C16="",D16=""),0,ROUND(MOD(D16-C16,1)*24-N(E16)/60,2)))) | H16: =IF(A16="","",IF(WEEKDAY(A16,2)>'Settings'!$B$6,0,'Settings'!$B$5)) | I16: =IF(A16="","",G16-H16)
A17: =IF(MONTH($F$2+12)=10,$F$2+12,"") | B17: =IF(A17="","",A17) | G17: =IF(A17="","",IF(F17<>"",H17,IF(OR(C17="",D17=""),0,ROUND(MOD(D17-C17,1)*24-N(E17)/60,2)))) | H17: =IF(A17="","",IF(WEEKDAY(A17,2)>'Settings'!$B$6,0,'Settings'!$B$5)) | I17: =IF(A17="","",G17-H17)
A18: =IF(MONTH($F$2+13)=10,$F$2+13,"") | B18: =IF(A18="","",A18) | G18: =IF(A18="","",IF(F18<>"",H18,IF(OR(C18="",D18=""),0,ROUND(MOD(D18-C18,1)*24-N(E18)/60,2)))) | H18: =IF(A18="","",IF(WEEKDAY(A18,2)>'Settings'!$B$6,0,'Settings'!$B$5)) | I18: =IF(A18="","",G18-H18)
A19: =IF(MONTH($F$2+14)=10,$F$2+14,"") | B19: =IF(A19="","",A19) | G19: =IF(A19="","",IF(F19<>"",H19,IF(OR(C19="",D19=""),0,ROUND(MOD(D19-C19,1)*24-N(E19)/60,2)))) | H19: =IF(A19="","",IF(WEEKDAY(A19,2)>'Settings'!$B$6,0,'Settings'!$B$5)) | I19: =IF(A19="","",G19-H19)
A20: =IF(MONTH($F$2+15)=10,$F$2+15,"") | B20: =IF(A20="","",A20) | G20: =IF(A20="","",IF(F20<>"",H20,IF(OR(C20="",D20=""),0,ROUND(MOD(D20-C20,1)*24-N(E20)/60,2)))) | H20: =IF(A20="","",IF(WEEKDAY(A20,2)>'Settings'!$B$6,0,'Settings'!$B$5)) | I20: =IF(A20="","",G20-H20)
A21: =IF(MONTH($F$2+16)=10,$F$2+16,"") | B21: =IF(A21="","",A21) | G21: =IF(A21="","",IF(F21<>"",H21,IF(OR(C21="",D21=""),0,ROUND(MOD(D21-C21,1)*24-N(E21)/60,2)))) | H21: =IF(A21="","",IF(WEEKDAY(A21,2)>'Settings'!$B$6,0,'Settings'!$B$5)) | I21: =IF(A21="","",G21-H21)
A22: =IF(MONTH($F$2+17)=10,$F$2+17,"") | B22: =IF(A22="","",A22) | G22: =IF(A22="","",IF(F22<>"",H22,IF(OR(C22="",D22=""),0,ROUND(MOD(D22-C22,1)*24-N(E22)/60,2)))) | H22: =IF(A22="","",IF(WEEKDAY(A22,2)>'Settings'!$B$6,0,'Settings'!$B$5)) | I22: =IF(A22="","",G22-H22)
A23: =IF(MONTH($F$2+18)=10,$F$2+18,"") | B23: =IF(A23="","",A23) | G23: =IF(A23="","",IF(F23<>"",H23,IF(OR(C23="",D23=""),0,ROUND(MOD(D23-C23,1)*24-N(E23)/60,2)))) | H23: =IF(A23="","",IF(WEEKDAY(A23,2)>'Settings'!$B$6,0,'Settings'!$B$5)) | I23: =IF(A23="","",G23-H23)
A24: =IF(MONTH($F$2+19)=10,$F$2+19,"") | B24: =IF(A24="","",A24) | G24: =IF(A24="","",IF(F24<>"",H24,IF(OR(C24="",D24=""),0,ROUND(MOD(D24-C24,1)*24-N(E24)/60,2)))) | H24: =IF(A24="","",IF(WEEKDAY(A24,2)>'Settings'!$B$6,0,'Settings'!$B$5)) | I24: =IF(A24="","",G24-H24)
A25: =IF(MONTH($F$2+20)=10,$F$2+20,"") | B25: =IF(A25="","",A25) | G25: =IF(A25="","",IF(F25<>"",H25,IF(OR(C25="",D25=""),0,ROUND(MOD(D25-C25,1)*24-N(E25)/60,2)))) | H25: =IF(A25="","",IF(WEEKDAY(A25,2)>'Settings'!$B$6,0,'Settings'!$B$5)) | I25: =IF(A25="","",G25-H25)
A26: =IF(MONTH($F$2+21)=10,$F$2+21,"") | B26: =IF(A26="","",A26) | G26: =IF(A26="","",IF(F26<>"",H26,IF(OR(C26="",D26=""),0,ROUND(MOD(D26-C26,1)*24-N(E26)/60,2)))) | H26: =IF(A26="","",IF(WEEKDAY(A26,2)>'Settings'!$B$6,0,'Settings'!$B$5)) | I26: =IF(A26="","",G26-H26)
A27: =IF(MONTH($F$2+22)=10,$F$2+22,"") | B27: =IF(A27="","",A27) | G27: =IF(A27="","",IF(F27<>"",H27,IF(OR(C27="",D27=""),0,ROUND(MOD(D27-C27,1)*24-N(E27)/60,2)))) | H27: =IF(A27="","",IF(WEEKDAY(A27,2)>'Settings'!$B$6,0,'Settings'!$B$5)) | I27: =IF(A27="","",G27-H27)
A28: =IF(MONTH($F$2+23)=10,$F$2+23,"") | B28: =IF(A28="","",A28) | G28: =IF(A28="","",IF(F28<>"",H28,IF(OR(C28="",D28=""),0,ROUND(MOD(D28-C28,1)*24-N(E28)/60,2)))) | H28: =IF(A28="","",IF(WEEKDAY(A28,2)>'Settings'!$B$6,0,'Settings'!$B$5)) | I28: =IF(A28="","",G28-H28)
A29: =IF(MONTH($F$2+24)=10,$F$2+24,"") | B29: =IF(A29="","",A29) | G29: =IF(A29="","",IF(F29<>"",H29,IF(OR(C29="",D29=""),0,ROUND(MOD(D29-C29,1)*24-N(E29)/60,2)))) | H29: =IF(A29="","",IF(WEEKDAY(A29,2)>'Settings'!$B$6,0,'Settings'!$B$5)) | I29: =IF(A29="","",G29-H29)
A30: =IF(MONTH($F$2+25)=10,$F$2+25,"") | B30: =IF(A30="","",A30) | G30: =IF(A30="","",IF(F30<>"",H30,IF(OR(C30="",D30=""),0,ROUND(MOD(D30-C30,1)*24-N(E30)/60,2)))) | H30: =IF(A30="","",IF(WEEKDAY(A30,2)>'Settings'!$B$6,0,'Settings'!$B$5)) | I30: =IF(A30="","",G30-H30)
A31: =IF(MONTH($F$2+26)=10,$F$2+26,"") | B31: =IF(A31="","",A31) | G31: =IF(A31="","",IF(F31<>"",H31,IF(OR(C31="",D31=""),0,ROUND(MOD(D31-C31,1)*24-N(E31)/60,2)))) | H31: =IF(A31="","",IF(WEEKDAY(A31,2)>'Settings'!$B$6,0,'Settings'!$B$5)) | I31: =IF(A31="","",G31-H31)
A32: =IF(MONTH($F$2+27)=10,$F$2+27,"") | B32: =IF(A32="","",A32) | G32: =IF(A32="","",IF(F32<>"",H32,IF(OR(C32="",D32=""),0,ROUND(MOD(D32-C32,1)*24-N(E32)/60,2)))) | H32: =IF(A32="","",IF(WEEKDAY(A32,2)>'Settings'!$B$6,0,'Settings'!$B$5)) | I32: =IF(A32="","",G32-H32)
A33: =IF(MONTH($F$2+28)=10,$F$2+28,"") | B33: =IF(A33="","",A33) | G33: =IF(A33="","",IF(F33<>"",H33,IF(OR(C33="",D33=""),0,ROUND(MOD(D33-C33,1)*24-N(E33)/60,2)))) | H33: =IF(A33="","",IF(WEEKDAY(A33,2)>'Settings'!$B$6,0,'Settings'!$B$5)) | I33: =IF(A33="","",G33-H33)
A34: =IF(MONTH($F$2+29)=10,$F$2+29,"") | B34: =IF(A34="","",A34) | G34: =IF(A34="","",IF(F34<>"",H34,IF(OR(C34="",D34=""),0,ROUND(MOD(D34-C34,1)*24-N(E34)/60,2)))) | H34: =IF(A34="","",IF(WEEKDAY(A34,2)>'Settings'!$B$6,0,'Settings'!$B$5)) | I34: =IF(A34="","",G34-H34)
A35: =IF(MONTH($F$2+30)=10,$F$2+30,"") | B35: =IF(A35="","",A35) | G35: =IF(A35="","",IF(F35<>"",H35,IF(OR(C35="",D35=""),0,ROUND(MOD(D35-C35,1)*24-N(E35)/60,2)))) | H35: =IF(A35="","",IF(WEEKDAY(A35,2)>'Settings'!$B$6,0,'Settings'!$B$5)) | I35: =IF(A35="","",G35-H35)
F37: Total | G37: =SUM(G5:G35) | H37: =SUM(H5:H35) | I37: =SUM(I5:I35)
A39: Orange break = shorter than the legal minimum (Swiss Labour Act, art. 15): 15 min from 5.5 h, 30 min from 7 h, 60 min from 9 h.

Sheet Nov
A1: Time sheet – Nov
A2: ='Settings'!B3 | D2: Month | F2: =DATE('Settings'!B4,11,1)
A4: Date | B4: Day | C4: Start | D4: End | E4: Break (min) | F4: Absence | G4: Hours worked | H4: Target (h) | I4: Balance (h) | J4: Project / client | K4: Note
A5: =IF(MONTH($F$2+0)=11,$F$2+0,"") | B5: =IF(A5="","",A5) | G5: =IF(A5="","",IF(F5<>"",H5,IF(OR(C5="",D5=""),0,ROUND(MOD(D5-C5,1)*24-N(E5)/60,2)))) | H5: =IF(A5="","",IF(WEEKDAY(A5,2)>'Settings'!$B$6,0,'Settings'!$B$5)) | I5: =IF(A5="","",G5-H5)
A6: =IF(MONTH($F$2+1)=11,$F$2+1,"") | B6: =IF(A6="","",A6) | G6: =IF(A6="","",IF(F6<>"",H6,IF(OR(C6="",D6=""),0,ROUND(MOD(D6-C6,1)*24-N(E6)/60,2)))) | H6: =IF(A6="","",IF(WEEKDAY(A6,2)>'Settings'!$B$6,0,'Settings'!$B$5)) | I6: =IF(A6="","",G6-H6)
A7: =IF(MONTH($F$2+2)=11,$F$2+2,"") | B7: =IF(A7="","",A7) | G7: =IF(A7="","",IF(F7<>"",H7,IF(OR(C7="",D7=""),0,ROUND(MOD(D7-C7,1)*24-N(E7)/60,2)))) | H7: =IF(A7="","",IF(WEEKDAY(A7,2)>'Settings'!$B$6,0,'Settings'!$B$5)) | I7: =IF(A7="","",G7-H7)
A8: =IF(MONTH($F$2+3)=11,$F$2+3,"") | B8: =IF(A8="","",A8) | G8: =IF(A8="","",IF(F8<>"",H8,IF(OR(C8="",D8=""),0,ROUND(MOD(D8-C8,1)*24-N(E8)/60,2)))) | H8: =IF(A8="","",IF(WEEKDAY(A8,2)>'Settings'!$B$6,0,'Settings'!$B$5)) | I8: =IF(A8="","",G8-H8)
A9: =IF(MONTH($F$2+4)=11,$F$2+4,"") | B9: =IF(A9="","",A9) | G9: =IF(A9="","",IF(F9<>"",H9,IF(OR(C9="",D9=""),0,ROUND(MOD(D9-C9,1)*24-N(E9)/60,2)))) | H9: =IF(A9="","",IF(WEEKDAY(A9,2)>'Settings'!$B$6,0,'Settings'!$B$5)) | I9: =IF(A9="","",G9-H9)
A10: =IF(MONTH($F$2+5)=11,$F$2+5,"") | B10: =IF(A10="","",A10) | G10: =IF(A10="","",IF(F10<>"",H10,IF(OR(C10="",D10=""),0,ROUND(MOD(D10-C10,1)*24-N(E10)/60,2)))) | H10: =IF(A10="","",IF(WEEKDAY(A10,2)>'Settings'!$B$6,0,'Settings'!$B$5)) | I10: =IF(A10="","",G10-H10)
A11: =IF(MONTH($F$2+6)=11,$F$2+6,"") | B11: =IF(A11="","",A11) | G11: =IF(A11="","",IF(F11<>"",H11,IF(OR(C11="",D11=""),0,ROUND(MOD(D11-C11,1)*24-N(E11)/60,2)))) | H11: =IF(A11="","",IF(WEEKDAY(A11,2)>'Settings'!$B$6,0,'Settings'!$B$5)) | I11: =IF(A11="","",G11-H11)
A12: =IF(MONTH($F$2+7)=11,$F$2+7,"") | B12: =IF(A12="","",A12) | G12: =IF(A12="","",IF(F12<>"",H12,IF(OR(C12="",D12=""),0,ROUND(MOD(D12-C12,1)*24-N(E12)/60,2)))) | H12: =IF(A12="","",IF(WEEKDAY(A12,2)>'Settings'!$B$6,0,'Settings'!$B$5)) | I12: =IF(A12="","",G12-H12)
A13: =IF(MONTH($F$2+8)=11,$F$2+8,"") | B13: =IF(A13="","",A13) | G13: =IF(A13="","",IF(F13<>"",H13,IF(OR(C13="",D13=""),0,ROUND(MOD(D13-C13,1)*24-N(E13)/60,2)))) | H13: =IF(A13="","",IF(WEEKDAY(A13,2)>'Settings'!$B$6,0,'Settings'!$B$5)) | I13: =IF(A13="","",G13-H13)
A14: =IF(MONTH($F$2+9)=11,$F$2+9,"") | B14: =IF(A14="","",A14) | G14: =IF(A14="","",IF(F14<>"",H14,IF(OR(C14="",D14=""),0,ROUND(MOD(D14-C14,1)*24-N(E14)/60,2)))) | H14: =IF(A14="","",IF(WEEKDAY(A14,2)>'Settings'!$B$6,0,'Settings'!$B$5)) | I14: =IF(A14="","",G14-H14)
A15: =IF(MONTH($F$2+10)=11,$F$2+10,"") | B15: =IF(A15="","",A15) | G15: =IF(A15="","",IF(F15<>"",H15,IF(OR(C15="",D15=""),0,ROUND(MOD(D15-C15,1)*24-N(E15)/60,2)))) | H15: =IF(A15="","",IF(WEEKDAY(A15,2)>'Settings'!$B$6,0,'Settings'!$B$5)) | I15: =IF(A15="","",G15-H15)
A16: =IF(MONTH($F$2+11)=11,$F$2+11,"") | B16: =IF(A16="","",A16) | G16: =IF(A16="","",IF(F16<>"",H16,IF(OR(C16="",D16=""),0,ROUND(MOD(D16-C16,1)*24-N(E16)/60,2)))) | H16: =IF(A16="","",IF(WEEKDAY(A16,2)>'Settings'!$B$6,0,'Settings'!$B$5)) | I16: =IF(A16="","",G16-H16)
A17: =IF(MONTH($F$2+12)=11,$F$2+12,"") | B17: =IF(A17="","",A17) | G17: =IF(A17="","",IF(F17<>"",H17,IF(OR(C17="",D17=""),0,ROUND(MOD(D17-C17,1)*24-N(E17)/60,2)))) | H17: =IF(A17="","",IF(WEEKDAY(A17,2)>'Settings'!$B$6,0,'Settings'!$B$5)) | I17: =IF(A17="","",G17-H17)
A18: =IF(MONTH($F$2+13)=11,$F$2+13,"") | B18: =IF(A18="","",A18) | G18: =IF(A18="","",IF(F18<>"",H18,IF(OR(C18="",D18=""),0,ROUND(MOD(D18-C18,1)*24-N(E18)/60,2)))) | H18: =IF(A18="","",IF(WEEKDAY(A18,2)>'Settings'!$B$6,0,'Settings'!$B$5)) | I18: =IF(A18="","",G18-H18)
A19: =IF(MONTH($F$2+14)=11,$F$2+14,"") | B19: =IF(A19="","",A19) | G19: =IF(A19="","",IF(F19<>"",H19,IF(OR(C19="",D19=""),0,ROUND(MOD(D19-C19,1)*24-N(E19)/60,2)))) | H19: =IF(A19="","",IF(WEEKDAY(A19,2)>'Settings'!$B$6,0,'Settings'!$B$5)) | I19: =IF(A19="","",G19-H19)
A20: =IF(MONTH($F$2+15)=11,$F$2+15,"") | B20: =IF(A20="","",A20) | G20: =IF(A20="","",IF(F20<>"",H20,IF(OR(C20="",D20=""),0,ROUND(MOD(D20-C20,1)*24-N(E20)/60,2)))) | H20: =IF(A20="","",IF(WEEKDAY(A20,2)>'Settings'!$B$6,0,'Settings'!$B$5)) | I20: =IF(A20="","",G20-H20)
A21: =IF(MONTH($F$2+16)=11,$F$2+16,"") | B21: =IF(A21="","",A21) | G21: =IF(A21="","",IF(F21<>"",H21,IF(OR(C21="",D21=""),0,ROUND(MOD(D21-C21,1)*24-N(E21)/60,2)))) | H21: =IF(A21="","",IF(WEEKDAY(A21,2)>'Settings'!$B$6,0,'Settings'!$B$5)) | I21: =IF(A21="","",G21-H21)
A22: =IF(MONTH($F$2+17)=11,$F$2+17,"") | B22: =IF(A22="","",A22) | G22: =IF(A22="","",IF(F22<>"",H22,IF(OR(C22="",D22=""),0,ROUND(MOD(D22-C22,1)*24-N(E22)/60,2)))) | H22: =IF(A22="","",IF(WEEKDAY(A22,2)>'Settings'!$B$6,0,'Settings'!$B$5)) | I22: =IF(A22="","",G22-H22)
A23: =IF(MONTH($F$2+18)=11,$F$2+18,"") | B23: =IF(A23="","",A23) | G23: =IF(A23="","",IF(F23<>"",H23,IF(OR(C23="",D23=""),0,ROUND(MOD(D23-C23,1)*24-N(E23)/60,2)))) | H23: =IF(A23="","",IF(WEEKDAY(A23,2)>'Settings'!$B$6,0,'Settings'!$B$5)) | I23: =IF(A23="","",G23-H23)
A24: =IF(MONTH($F$2+19)=11,$F$2+19,"") | B24: =IF(A24="","",A24) | G24: =IF(A24="","",IF(F24<>"",H24,IF(OR(C24="",D24=""),0,ROUND(MOD(D24-C24,1)*24-N(E24)/60,2)))) | H24: =IF(A24="","",IF(WEEKDAY(A24,2)>'Settings'!$B$6,0,'Settings'!$B$5)) | I24: =IF(A24="","",G24-H24)
A25: =IF(MONTH($F$2+20)=11,$F$2+20,"") | B25: =IF(A25="","",A25) | G25: =IF(A25="","",IF(F25<>"",H25,IF(OR(C25="",D25=""),0,ROUND(MOD(D25-C25,1)*24-N(E25)/60,2)))) | H25: =IF(A25="","",IF(WEEKDAY(A25,2)>'Settings'!$B$6,0,'Settings'!$B$5)) | I25: =IF(A25="","",G25-H25)
A26: =IF(MONTH($F$2+21)=11,$F$2+21,"") | B26: =IF(A26="","",A26) | G26: =IF(A26="","",IF(F26<>"",H26,IF(OR(C26="",D26=""),0,ROUND(MOD(D26-C26,1)*24-N(E26)/60,2)))) | H26: =IF(A26="","",IF(WEEKDAY(A26,2)>'Settings'!$B$6,0,'Settings'!$B$5)) | I26: =IF(A26="","",G26-H26)
A27: =IF(MONTH($F$2+22)=11,$F$2+22,"") | B27: =IF(A27="","",A27) | G27: =IF(A27="","",IF(F27<>"",H27,IF(OR(C27="",D27=""),0,ROUND(MOD(D27-C27,1)*24-N(E27)/60,2)))) | H27: =IF(A27="","",IF(WEEKDAY(A27,2)>'Settings'!$B$6,0,'Settings'!$B$5)) | I27: =IF(A27="","",G27-H27)
A28: =IF(MONTH($F$2+23)=11,$F$2+23,"") | B28: =IF(A28="","",A28) | G28: =IF(A28="","",IF(F28<>"",H28,IF(OR(C28="",D28=""),0,ROUND(MOD(D28-C28,1)*24-N(E28)/60,2)))) | H28: =IF(A28="","",IF(WEEKDAY(A28,2)>'Settings'!$B$6,0,'Settings'!$B$5)) | I28: =IF(A28="","",G28-H28)
A29: =IF(MONTH($F$2+24)=11,$F$2+24,"") | B29: =IF(A29="","",A29) | G29: =IF(A29="","",IF(F29<>"",H29,IF(OR(C29="",D29=""),0,ROUND(MOD(D29-C29,1)*24-N(E29)/60,2)))) | H29: =IF(A29="","",IF(WEEKDAY(A29,2)>'Settings'!$B$6,0,'Settings'!$B$5)) | I29: =IF(A29="","",G29-H29)
A30: =IF(MONTH($F$2+25)=11,$F$2+25,"") | B30: =IF(A30="","",A30) | G30: =IF(A30="","",IF(F30<>"",H30,IF(OR(C30="",D30=""),0,ROUND(MOD(D30-C30,1)*24-N(E30)/60,2)))) | H30: =IF(A30="","",IF(WEEKDAY(A30,2)>'Settings'!$B$6,0,'Settings'!$B$5)) | I30: =IF(A30="","",G30-H30)
A31: =IF(MONTH($F$2+26)=11,$F$2+26,"") | B31: =IF(A31="","",A31) | G31: =IF(A31="","",IF(F31<>"",H31,IF(OR(C31="",D31=""),0,ROUND(MOD(D31-C31,1)*24-N(E31)/60,2)))) | H31: =IF(A31="","",IF(WEEKDAY(A31,2)>'Settings'!$B$6,0,'Settings'!$B$5)) | I31: =IF(A31="","",G31-H31)
A32: =IF(MONTH($F$2+27)=11,$F$2+27,"") | B32: =IF(A32="","",A32) | G32: =IF(A32="","",IF(F32<>"",H32,IF(OR(C32="",D32=""),0,ROUND(MOD(D32-C32,1)*24-N(E32)/60,2)))) | H32: =IF(A32="","",IF(WEEKDAY(A32,2)>'Settings'!$B$6,0,'Settings'!$B$5)) | I32: =IF(A32="","",G32-H32)
A33: =IF(MONTH($F$2+28)=11,$F$2+28,"") | B33: =IF(A33="","",A33) | G33: =IF(A33="","",IF(F33<>"",H33,IF(OR(C33="",D33=""),0,ROUND(MOD(D33-C33,1)*24-N(E33)/60,2)))) | H33: =IF(A33="","",IF(WEEKDAY(A33,2)>'Settings'!$B$6,0,'Settings'!$B$5)) | I33: =IF(A33="","",G33-H33)
A34: =IF(MONTH($F$2+29)=11,$F$2+29,"") | B34: =IF(A34="","",A34) | G34: =IF(A34="","",IF(F34<>"",H34,IF(OR(C34="",D34=""),0,ROUND(MOD(D34-C34,1)*24-N(E34)/60,2)))) | H34: =IF(A34="","",IF(WEEKDAY(A34,2)>'Settings'!$B$6,0,'Settings'!$B$5)) | I34: =IF(A34="","",G34-H34)
A35: =IF(MONTH($F$2+30)=11,$F$2+30,"") | B35: =IF(A35="","",A35) | G35: =IF(A35="","",IF(F35<>"",H35,IF(OR(C35="",D35=""),0,ROUND(MOD(D35-C35,1)*24-N(E35)/60,2)))) | H35: =IF(A35="","",IF(WEEKDAY(A35,2)>'Settings'!$B$6,0,'Settings'!$B$5)) | I35: =IF(A35="","",G35-H35)
F37: Total | G37: =SUM(G5:G35) | H37: =SUM(H5:H35) | I37: =SUM(I5:I35)
A39: Orange break = shorter than the legal minimum (Swiss Labour Act, art. 15): 15 min from 5.5 h, 30 min from 7 h, 60 min from 9 h.

Sheet Dec
A1: Time sheet – Dec
A2: ='Settings'!B3 | D2: Month | F2: =DATE('Settings'!B4,12,1)
A4: Date | B4: Day | C4: Start | D4: End | E4: Break (min) | F4: Absence | G4: Hours worked | H4: Target (h) | I4: Balance (h) | J4: Project / client | K4: Note
A5: =IF(MONTH($F$2+0)=12,$F$2+0,"") | B5: =IF(A5="","",A5) | G5: =IF(A5="","",IF(F5<>"",H5,IF(OR(C5="",D5=""),0,ROUND(MOD(D5-C5,1)*24-N(E5)/60,2)))) | H5: =IF(A5="","",IF(WEEKDAY(A5,2)>'Settings'!$B$6,0,'Settings'!$B$5)) | I5: =IF(A5="","",G5-H5)
A6: =IF(MONTH($F$2+1)=12,$F$2+1,"") | B6: =IF(A6="","",A6) | G6: =IF(A6="","",IF(F6<>"",H6,IF(OR(C6="",D6=""),0,ROUND(MOD(D6-C6,1)*24-N(E6)/60,2)))) | H6: =IF(A6="","",IF(WEEKDAY(A6,2)>'Settings'!$B$6,0,'Settings'!$B$5)) | I6: =IF(A6="","",G6-H6)
A7: =IF(MONTH($F$2+2)=12,$F$2+2,"") | B7: =IF(A7="","",A7) | G7: =IF(A7="","",IF(F7<>"",H7,IF(OR(C7="",D7=""),0,ROUND(MOD(D7-C7,1)*24-N(E7)/60,2)))) | H7: =IF(A7="","",IF(WEEKDAY(A7,2)>'Settings'!$B$6,0,'Settings'!$B$5)) | I7: =IF(A7="","",G7-H7)
A8: =IF(MONTH($F$2+3)=12,$F$2+3,"") | B8: =IF(A8="","",A8) | G8: =IF(A8="","",IF(F8<>"",H8,IF(OR(C8="",D8=""),0,ROUND(MOD(D8-C8,1)*24-N(E8)/60,2)))) | H8: =IF(A8="","",IF(WEEKDAY(A8,2)>'Settings'!$B$6,0,'Settings'!$B$5)) | I8: =IF(A8="","",G8-H8)
A9: =IF(MONTH($F$2+4)=12,$F$2+4,"") | B9: =IF(A9="","",A9) | G9: =IF(A9="","",IF(F9<>"",H9,IF(OR(C9="",D9=""),0,ROUND(MOD(D9-C9,1)*24-N(E9)/60,2)))) | H9: =IF(A9="","",IF(WEEKDAY(A9,2)>'Settings'!$B$6,0,'Settings'!$B$5)) | I9: =IF(A9="","",G9-H9)
A10: =IF(MONTH($F$2+5)=12,$F$2+5,"") | B10: =IF(A10="","",A10) | G10: =IF(A10="","",IF(F10<>"",H10,IF(OR(C10="",D10=""),0,ROUND(MOD(D10-C10,1)*24-N(E10)/60,2)))) | H10: =IF(A10="","",IF(WEEKDAY(A10,2)>'Settings'!$B$6,0,'Settings'!$B$5)) | I10: =IF(A10="","",G10-H10)
A11: =IF(MONTH($F$2+6)=12,$F$2+6,"") | B11: =IF(A11="","",A11) | G11: =IF(A11="","",IF(F11<>"",H11,IF(OR(C11="",D11=""),0,ROUND(MOD(D11-C11,1)*24-N(E11)/60,2)))) | H11: =IF(A11="","",IF(WEEKDAY(A11,2)>'Settings'!$B$6,0,'Settings'!$B$5)) | I11: =IF(A11="","",G11-H11)
A12: =IF(MONTH($F$2+7)=12,$F$2+7,"") | B12: =IF(A12="","",A12) | G12: =IF(A12="","",IF(F12<>"",H12,IF(OR(C12="",D12=""),0,ROUND(MOD(D12-C12,1)*24-N(E12)/60,2)))) | H12: =IF(A12="","",IF(WEEKDAY(A12,2)>'Settings'!$B$6,0,'Settings'!$B$5)) | I12: =IF(A12="","",G12-H12)
A13: =IF(MONTH($F$2+8)=12,$F$2+8,"") | B13: =IF(A13="","",A13) | G13: =IF(A13="","",IF(F13<>"",H13,IF(OR(C13="",D13=""),0,ROUND(MOD(D13-C13,1)*24-N(E13)/60,2)))) | H13: =IF(A13="","",IF(WEEKDAY(A13,2)>'Settings'!$B$6,0,'Settings'!$B$5)) | I13: =IF(A13="","",G13-H13)
A14: =IF(MONTH($F$2+9)=12,$F$2+9,"") | B14: =IF(A14="","",A14) | G14: =IF(A14="","",IF(F14<>"",H14,IF(OR(C14="",D14=""),0,ROUND(MOD(D14-C14,1)*24-N(E14)/60,2)))) | H14: =IF(A14="","",IF(WEEKDAY(A14,2)>'Settings'!$B$6,0,'Settings'!$B$5)) | I14: =IF(A14="","",G14-H14)
A15: =IF(MONTH($F$2+10)=12,$F$2+10,"") | B15: =IF(A15="","",A15) | G15: =IF(A15="","",IF(F15<>"",H15,IF(OR(C15="",D15=""),0,ROUND(MOD(D15-C15,1)*24-N(E15)/60,2)))) | H15: =IF(A15="","",IF(WEEKDAY(A15,2)>'Settings'!$B$6,0,'Settings'!$B$5)) | I15: =IF(A15="","",G15-H15)
A16: =IF(MONTH($F$2+11)=12,$F$2+11,"") | B16: =IF(A16="","",A16) | G16: =IF(A16="","",IF(F16<>"",H16,IF(OR(C16="",D16=""),0,ROUND(MOD(D16-C16,1)*24-N(E16)/60,2)))) | H16: =IF(A16="","",IF(WEEKDAY(A16,2)>'Settings'!$B$6,0,'Settings'!$B$5)) | I16: =IF(A16="","",G16-H16)
A17: =IF(MONTH($F$2+12)=12,$F$2+12,"") | B17: =IF(A17="","",A17) | G17: =IF(A17="","",IF(F17<>"",H17,IF(OR(C17="",D17=""),0,ROUND(MOD(D17-C17,1)*24-N(E17)/60,2)))) | H17: =IF(A17="","",IF(WEEKDAY(A17,2)>'Settings'!$B$6,0,'Settings'!$B$5)) | I17: =IF(A17="","",G17-H17)
A18: =IF(MONTH($F$2+13)=12,$F$2+13,"") | B18: =IF(A18="","",A18) | G18: =IF(A18="","",IF(F18<>"",H18,IF(OR(C18="",D18=""),0,ROUND(MOD(D18-C18,1)*24-N(E18)/60,2)))) | H18: =IF(A18="","",IF(WEEKDAY(A18,2)>'Settings'!$B$6,0,'Settings'!$B$5)) | I18: =IF(A18="","",G18-H18)
A19: =IF(MONTH($F$2+14)=12,$F$2+14,"") | B19: =IF(A19="","",A19) | G19: =IF(A19="","",IF(F19<>"",H19,IF(OR(C19="",D19=""),0,ROUND(MOD(D19-C19,1)*24-N(E19)/60,2)))) | H19: =IF(A19="","",IF(WEEKDAY(A19,2)>'Settings'!$B$6,0,'Settings'!$B$5)) | I19: =IF(A19="","",G19-H19)
A20: =IF(MONTH($F$2+15)=12,$F$2+15,"") | B20: =IF(A20="","",A20) | G20: =IF(A20="","",IF(F20<>"",H20,IF(OR(C20="",D20=""),0,ROUND(MOD(D20-C20,1)*24-N(E20)/60,2)))) | H20: =IF(A20="","",IF(WEEKDAY(A20,2)>'Settings'!$B$6,0,'Settings'!$B$5)) | I20: =IF(A20="","",G20-H20)
A21: =IF(MONTH($F$2+16)=12,$F$2+16,"") | B21: =IF(A21="","",A21) | G21: =IF(A21="","",IF(F21<>"",H21,IF(OR(C21="",D21=""),0,ROUND(MOD(D21-C21,1)*24-N(E21)/60,2)))) | H21: =IF(A21="","",IF(WEEKDAY(A21,2)>'Settings'!$B$6,0,'Settings'!$B$5)) | I21: =IF(A21="","",G21-H21)
A22: =IF(MONTH($F$2+17)=12,$F$2+17,"") | B22: =IF(A22="","",A22) | G22: =IF(A22="","",IF(F22<>"",H22,IF(OR(C22="",D22=""),0,ROUND(MOD(D22-C22,1)*24-N(E22)/60,2)))) | H22: =IF(A22="","",IF(WEEKDAY(A22,2)>'Settings'!$B$6,0,'Settings'!$B$5)) | I22: =IF(A22="","",G22-H22)
A23: =IF(MONTH($F$2+18)=12,$F$2+18,"") | B23: =IF(A23="","",A23) | G23: =IF(A23="","",IF(F23<>"",H23,IF(OR(C23="",D23=""),0,ROUND(MOD(D23-C23,1)*24-N(E23)/60,2)))) | H23: =IF(A23="","",IF(WEEKDAY(A23,2)>'Settings'!$B$6,0,'Settings'!$B$5)) | I23: =IF(A23="","",G23-H23)
A24: =IF(MONTH($F$2+19)=12,$F$2+19,"") | B24: =IF(A24="","",A24) | G24: =IF(A24="","",IF(F24<>"",H24,IF(OR(C24="",D24=""),0,ROUND(MOD(D24-C24,1)*24-N(E24)/60,2)))) | H24: =IF(A24="","",IF(WEEKDAY(A24,2)>'Settings'!$B$6,0,'Settings'!$B$5)) | I24: =IF(A24="","",G24-H24)
A25: =IF(MONTH($F$2+20)=12,$F$2+20,"") | B25: =IF(A25="","",A25) | G25: =IF(A25="","",IF(F25<>"",H25,IF(OR(C25="",D25=""),0,ROUND(MOD(D25-C25,1)*24-N(E25)/60,2)))) | H25: =IF(A25="","",IF(WEEKDAY(A25,2)>'Settings'!$B$6,0,'Settings'!$B$5)) | I25: =IF(A25="","",G25-H25)
A26: =IF(MONTH($F$2+21)=12,$F$2+21,"") | B26: =IF(A26="","",A26) | G26: =IF(A26="","",IF(F26<>"",H26,IF(OR(C26="",D26=""),0,ROUND(MOD(D26-C26,1)*24-N(E26)/60,2)))) | H26: =IF(A26="","",IF(WEEKDAY(A26,2)>'Settings'!$B$6,0,'Settings'!$B$5)) | I26: =IF(A26="","",G26-H26)
A27: =IF(MONTH($F$2+22)=12,$F$2+22,"") | B27: =IF(A27="","",A27) | G27: =IF(A27="","",IF(F27<>"",H27,IF(OR(C27="",D27=""),0,ROUND(MOD(D27-C27,1)*24-N(E27)/60,2)))) | H27: =IF(A27="","",IF(WEEKDAY(A27,2)>'Settings'!$B$6,0,'Settings'!$B$5)) | I27: =IF(A27="","",G27-H27)
A28: =IF(MONTH($F$2+23)=12,$F$2+23,"") | B28: =IF(A28="","",A28) | G28: =IF(A28="","",IF(F28<>"",H28,IF(OR(C28="",D28=""),0,ROUND(MOD(D28-C28,1)*24-N(E28)/60,2)))) | H28: =IF(A28="","",IF(WEEKDAY(A28,2)>'Settings'!$B$6,0,'Settings'!$B$5)) | I28: =IF(A28="","",G28-H28)
A29: =IF(MONTH($F$2+24)=12,$F$2+24,"") | B29: =IF(A29="","",A29) | G29: =IF(A29="","",IF(F29<>"",H29,IF(OR(C29="",D29=""),0,ROUND(MOD(D29-C29,1)*24-N(E29)/60,2)))) | H29: =IF(A29="","",IF(WEEKDAY(A29,2)>'Settings'!$B$6,0,'Settings'!$B$5)) | I29: =IF(A29="","",G29-H29)
A30: =IF(MONTH($F$2+25)=12,$F$2+25,"") | B30: =IF(A30="","",A30) | G30: =IF(A30="","",IF(F30<>"",H30,IF(OR(C30="",D30=""),0,ROUND(MOD(D30-C30,1)*24-N(E30)/60,2)))) | H30: =IF(A30="","",IF(WEEKDAY(A30,2)>'Settings'!$B$6,0,'Settings'!$B$5)) | I30: =IF(A30="","",G30-H30)
A31: =IF(MONTH($F$2+26)=12,$F$2+26,"") | B31: =IF(A31="","",A31) | G31: =IF(A31="","",IF(F31<>"",H31,IF(OR(C31="",D31=""),0,ROUND(MOD(D31-C31,1)*24-N(E31)/60,2)))) | H31: =IF(A31="","",IF(WEEKDAY(A31,2)>'Settings'!$B$6,0,'Settings'!$B$5)) | I31: =IF(A31="","",G31-H31)
A32: =IF(MONTH($F$2+27)=12,$F$2+27,"") | B32: =IF(A32="","",A32) | G32: =IF(A32="","",IF(F32<>"",H32,IF(OR(C32="",D32=""),0,ROUND(MOD(D32-C32,1)*24-N(E32)/60,2)))) | H32: =IF(A32="","",IF(WEEKDAY(A32,2)>'Settings'!$B$6,0,'Settings'!$B$5)) | I32: =IF(A32="","",G32-H32)
A33: =IF(MONTH($F$2+28)=12,$F$2+28,"") | B33: =IF(A33="","",A33) | G33: =IF(A33="","",IF(F33<>"",H33,IF(OR(C33="",D33=""),0,ROUND(MOD(D33-C33,1)*24-N(E33)/60,2)))) | H33: =IF(A33="","",IF(WEEKDAY(A33,2)>'Settings'!$B$6,0,'Settings'!$B$5)) | I33: =IF(A33="","",G33-H33)
A34: =IF(MONTH($F$2+29)=12,$F$2+29,"") | B34: =IF(A34="","",A34) | G34: =IF(A34="","",IF(F34<>"",H34,IF(OR(C34="",D34=""),0,ROUND(MOD(D34-C34,1)*24-N(E34)/60,2)))) | H34: =IF(A34="","",IF(WEEKDAY(A34,2)>'Settings'!$B$6,0,'Settings'!$B$5)) | I34: =IF(A34="","",G34-H34)
A35: =IF(MONTH($F$2+30)=12,$F$2+30,"") | B35: =IF(A35="","",A35) | G35: =IF(A35="","",IF(F35<>"",H35,IF(OR(C35="",D35=""),0,ROUND(MOD(D35-C35,1)*24-N(E35)/60,2)))) | H35: =IF(A35="","",IF(WEEKDAY(A35,2)>'Settings'!$B$6,0,'Settings'!$B$5)) | I35: =IF(A35="","",G35-H35)
F37: Total | G37: =SUM(G5:G35) | H37: =SUM(H5:H35) | I37: =SUM(I5:I35)
A39: Orange break = shorter than the legal minimum (Swiss Labour Act, art. 15): 15 min from 5.5 h, 30 min from 7 h, 60 min from 9 h.

Sheet Guide
B2: How to use this template
A4: 1 | B4: Enter name, year, target hours per day and working days per week under «Settings».
A5: 2 | B5: On the month sheet, record start, end and break in minutes for each day (time as 08:00).
A6: 3 | B6: Choose holiday, sick or public holiday under «Absence»: the day counts with the target hours.
A7: 4 | B7: Optionally enter the project or client. The «Projects» sheet adds up the hours for invoicing.
A8: 5 | B8: The «Year overview» shows hours worked, target and balance per month and cumulatively.
A9: 6 | B9: Check monthly, print or save as PDF and keep for at least five years.
B11: Good to know
B12: • Employers must record their employees' working time: daily and weekly hours and breaks of half an hour or more (Ordinance 1 to the Labour Act, art. 73). Records must be kept for at least five years.
B13: • Statutory minimum breaks (Labour Act, art. 15): a quarter of an hour for more than 5.5 hours, half an hour for more than 7, one hour for more than 9 hours. Breaks that are too short are highlighted in orange.
B14: • Night shifts past midnight are calculated correctly (end earlier than start).
B15: • For the self-employed, the template is mainly for invoicing: hours per client times rate give the invoice amount.
B17: Fill in the light green cells. All other cells calculate automatically.
B19: https://saldio.ch/en/templates/time-tracking-template/
B20: Free template by Saldio Systems GmbH. Free to use and adapt, no warranty for completeness or correctness in individual cases. Legal status: October 2026.
B22: Rather skip Excel? Saldio handles quotes, QR invoices, bookkeeping and VAT returns in one flow, Swiss software, 7 days free: saldio.ch/en
